BEGIN:VCALENDAR
VERSION:2.0
PRODID:-//Ask Aunt V - ECPv6.9.0//NONSGML v1.0//EN
CALSCALE:GREGORIAN
METHOD:PUBLISH
X-ORIGINAL-URL:https://askauntv.com
X-WR-CALDESC:Events for Ask Aunt V
REFRESH-INTERVAL;VALUE=DURATION:PT1H
X-Robots-Tag:noindex
X-PUBLISHED-TTL:PT1H
BEGIN:VTIMEZONE
TZID:America/Chicago
BEGIN:DAYLIGHT
TZOFFSETFROM:-0600
TZOFFSETTO:-0500
TZNAME:CDT
DTSTART:20260308T080000
END:DAYLIGHT
BEGIN:STANDARD
TZOFFSETFROM:-0500
TZOFFSETTO:-0600
TZNAME:CST
DTSTART:20261101T070000
END:STANDARD
END:VTIMEZONE
BEGIN:VEVENT
DTSTART;TZID=America/Chicago:20260516T170000
DTEND;TZID=America/Chicago:20260516T200000
DTSTAMP:20260423T171953
CREATED:20221118T134351Z
LAST-MODIFIED:20260314T223207Z
UID:3639-1778950800-1778961600@askauntv.com
SUMMARY:Asian Kitchen
DESCRIPTION:Plant-Based\, Gluten-Free\, Dairy-Free\, Vegan\, Vegetarian \n\nVietnamese Spring Rolls – Vegetarian\nPotstickers – chicken\nFried Rice\n\nClick Here to RSVP for Pre-Paid Guests
URL:https://askauntv.com/event/asian-kitchen/
LOCATION:Ask Aunt V Cooking Class\, 222 South Main Street\, Naperville\, IL\, 60540\, United States
CATEGORIES:Group Classes
ATTACH;FMTTYPE=image/jpeg:https://askauntv.com/wp-content/uploads/2020/12/Vietnamese-Spring-Rolls.jpg
ORGANIZER;CN="Classes are held inside Liam Brex Design Showroom":MAILTO:askauntv@gmail.com
END:VEVENT
END:VCALENDAR