BEGIN:VCALENDAR
VERSION:2.0
PRODID:-//Ask Aunt V - ECPv6.9.0//NONSGML v1.0//EN
CALSCALE:GREGORIAN
METHOD:PUBLISH
X-WR-CALNAME:Ask Aunt V
X-ORIGINAL-URL:https://askauntv.com
X-WR-CALDESC:Events for Ask Aunt V
REFRESH-INTERVAL;VALUE=DURATION:PT1H
X-Robots-Tag:noindex
X-PUBLISHED-TTL:PT1H
BEGIN:VTIMEZONE
TZID:America/Chicago
BEGIN:DAYLIGHT
TZOFFSETFROM:-0600
TZOFFSETTO:-0500
TZNAME:CDT
DTSTART:20260308T080000
END:DAYLIGHT
BEGIN:STANDARD
TZOFFSETFROM:-0500
TZOFFSETTO:-0600
TZNAME:CST
DTSTART:20261101T070000
END:STANDARD
END:VTIMEZONE
BEGIN:VEVENT
DTSTART;TZID=America/Chicago:20260328T170000
DTEND;TZID=America/Chicago:20260328T200000
DTSTAMP:20260423T174040
CREATED:20210624T211550Z
LAST-MODIFIED:20260124T174559Z
UID:1842-1774717200-1774728000@askauntv.com
SUMMARY:SOLD OUT - Mediterranean Shawarma
DESCRIPTION:Grilled Chicken Shawarma With Garlic Yogurt and Cilantro\nPersian Cucumber\, Tomato and Onion Salad\nPita Chips with Red Pepper Hummus\n\nClick HERE to RSVP for Gift Certificates and Pre-Paid Guests
URL:https://askauntv.com/event/chicken-shawarma-mediterranean-food/
LOCATION:Ask Aunt V Cooking Class\, 222 South Main Street\, Naperville\, IL\, 60540\, United States
CATEGORIES:Group Classes
ATTACH;FMTTYPE=image/jpeg:https://askauntv.com/wp-content/uploads/2026/01/g5dfb0ac8daf97b1b88b2f151fde96dcb2ba71de6519eadcd5d5ca1e63573492afc3a8b89395d07ca6c99c2d1196e4c66_1280-757827.jpg
ORGANIZER;CN="Classes are held inside Liam Brex Design Showroom":MAILTO:askauntv@gmail.com
END:VEVENT
END:VCALENDAR