BEGIN:VCALENDAR
VERSION:2.0
PRODID:-//Ask Aunt V - ECPv6.9.0//NONSGML v1.0//EN
CALSCALE:GREGORIAN
METHOD:PUBLISH
X-WR-CALNAME:Ask Aunt V
X-ORIGINAL-URL:https://askauntv.com
X-WR-CALDESC:Events for Ask Aunt V
REFRESH-INTERVAL;VALUE=DURATION:PT1H
X-Robots-Tag:noindex
X-PUBLISHED-TTL:PT1H
BEGIN:VTIMEZONE
TZID:America/Chicago
BEGIN:DAYLIGHT
TZOFFSETFROM:-0600
TZOFFSETTO:-0500
TZNAME:CDT
DTSTART:20260308T080000
END:DAYLIGHT
BEGIN:STANDARD
TZOFFSETFROM:-0500
TZOFFSETTO:-0600
TZNAME:CST
DTSTART:20261101T070000
END:STANDARD
END:VTIMEZONE
BEGIN:VEVENT
DTSTART;TZID=America/Chicago:20260307T113000
DTEND;TZID=America/Chicago:20260307T123000
DTSTAMP:20260423T173956
CREATED:20250127T181205Z
LAST-MODIFIED:20260213T234628Z
UID:5029-1772883000-1772886600@askauntv.com
SUMMARY:Junior Chef Pasta
DESCRIPTION:Junior Chef (6 years to 11 years old) \n\nHomemade Pasta with Marinara Sauce\nGarlic Bread\n\nClick Here to RSVP for Gift Certificates and Pre-Paid Guests
URL:https://askauntv.com/event/junior-chef-pasta/
LOCATION:Ask Aunt V Cooking Class\, 222 South Main Street\, Naperville\, IL\, 60540\, United States
CATEGORIES:Children,Junior Chef
ATTACH;FMTTYPE=image/jpeg:https://askauntv.com/wp-content/uploads/2022/11/pasta-making-pasta-food-1051611.jpg
ORGANIZER;CN="Classes are held inside Liam Brex Design Showroom":MAILTO:askauntv@gmail.com
END:VEVENT
END:VCALENDAR