BEGIN:VCALENDAR
VERSION:2.0
PRODID:-//Ask Aunt V - ECPv6.9.0//NONSGML v1.0//EN
CALSCALE:GREGORIAN
METHOD:PUBLISH
X-WR-CALNAME:Ask Aunt V
X-ORIGINAL-URL:https://askauntv.com
X-WR-CALDESC:Events for Ask Aunt V
REFRESH-INTERVAL;VALUE=DURATION:PT1H
X-Robots-Tag:noindex
X-PUBLISHED-TTL:PT1H
BEGIN:VTIMEZONE
TZID:America/Chicago
BEGIN:DAYLIGHT
TZOFFSETFROM:-0600
TZOFFSETTO:-0500
TZNAME:CDT
DTSTART:20260308T080000
END:DAYLIGHT
BEGIN:STANDARD
TZOFFSETFROM:-0500
TZOFFSETTO:-0600
TZNAME:CST
DTSTART:20261101T070000
END:STANDARD
END:VTIMEZONE
BEGIN:VEVENT
DTSTART;TZID=America/Chicago:20260214T180000
DTEND;TZID=America/Chicago:20260214T200000
DTSTAMP:20260423T190354
CREATED:20250127T182050Z
LAST-MODIFIED:20251218T145839Z
UID:5047-1771092000-1771099200@askauntv.com
SUMMARY:Let Me Call You Sweetheart
DESCRIPTION:Reserved just for you. A Private Cooking Class and Dinner for Just the Two of You \n\nRoasted Vegetables\nChicken Wellington\nRoasted Beet\, Spinach\, Whipped Goat Cheese\, Mandarin Orange\, and Pecan Salad with Aged Balsamic Vinaigrette\n\n 
URL:https://askauntv.com/event/private-class-let-me-call-you-sweetheart-2/
LOCATION:Ask Aunt V Cooking Class\, 222 South Main Street\, Naperville\, IL\, 60540\, United States
CATEGORIES:Group Classes,Premium Classes
ATTACH;FMTTYPE=image/jpeg:https://askauntv.com/wp-content/uploads/2021/01/rose-wine-red-1024710.jpg
ORGANIZER;CN="Classes are held inside Liam Brex Design Showroom":MAILTO:askauntv@gmail.com
END:VEVENT
END:VCALENDAR