BEGIN:VCALENDAR
VERSION:2.0
PRODID:-//Ask Aunt V - ECPv6.9.0//NONSGML v1.0//EN
CALSCALE:GREGORIAN
METHOD:PUBLISH
X-WR-CALNAME:Ask Aunt V
X-ORIGINAL-URL:https://askauntv.com
X-WR-CALDESC:Events for Ask Aunt V
REFRESH-INTERVAL;VALUE=DURATION:PT1H
X-Robots-Tag:noindex
X-PUBLISHED-TTL:PT1H
BEGIN:VTIMEZONE
TZID:America/Chicago
BEGIN:DAYLIGHT
TZOFFSETFROM:-0600
TZOFFSETTO:-0500
TZNAME:CDT
DTSTART:20240310T080000
END:DAYLIGHT
BEGIN:STANDARD
TZOFFSETFROM:-0500
TZOFFSETTO:-0600
TZNAME:CST
DTSTART:20241103T070000
END:STANDARD
END:VTIMEZONE
BEGIN:VEVENT
DTSTART;TZID=America/Chicago:20241107T180000
DTEND;TZID=America/Chicago:20241107T210000
DTSTAMP:20260425T132255
CREATED:20220606T204757Z
LAST-MODIFIED:20241102T142923Z
UID:3221-1731002400-1731013200@askauntv.com
SUMMARY:Italian Surprise Party
DESCRIPTION:Chicken Saltimbocca Roll-ups\nClassic Italian Caprese Salad\nStrozzapreti Pasta with Spinach and Mushrooms\nTiramisu\n\n  \n 
URL:https://askauntv.com/event/fire-up-the-grill-3/
LOCATION:Ask Aunt V Cooking Class\, 222 South Main Street\, Naperville\, IL\, 60540\, United States
CATEGORIES:Group Classes
ATTACH;FMTTYPE=image/jpeg:https://askauntv.com/wp-content/uploads/2022/06/Chicken-Saltobocca.jpg
ORGANIZER;CN="Classes are held inside Liam Brex Design Showroom":MAILTO:askauntv@gmail.com
END:VEVENT
END:VCALENDAR