BEGIN:VCALENDAR
VERSION:2.0
PRODID:-//Ask Aunt V - ECPv6.9.0//NONSGML v1.0//EN
CALSCALE:GREGORIAN
METHOD:PUBLISH
X-ORIGINAL-URL:https://askauntv.com
X-WR-CALDESC:Events for Ask Aunt V
REFRESH-INTERVAL;VALUE=DURATION:PT1H
X-Robots-Tag:noindex
X-PUBLISHED-TTL:PT1H
BEGIN:VTIMEZONE
TZID:America/Chicago
BEGIN:DAYLIGHT
TZOFFSETFROM:-0600
TZOFFSETTO:-0500
TZNAME:CDT
DTSTART:20240310T080000
END:DAYLIGHT
BEGIN:STANDARD
TZOFFSETFROM:-0500
TZOFFSETTO:-0600
TZNAME:CST
DTSTART:20241103T070000
END:STANDARD
END:VTIMEZONE
BEGIN:VEVENT
DTSTART;TZID=America/Chicago:20241005T093000
DTEND;TZID=America/Chicago:20241005T103000
DTSTAMP:20260425T185657
CREATED:20240509T225932Z
LAST-MODIFIED:20240925T163403Z
UID:4841-1728120600-1728124200@askauntv.com
SUMMARY:SOLD OUT - "Mommy and Me" Fruit Hand Pies
DESCRIPTION:Mommy and Me – 2 years and up to 5 years \nDaddy\, Grandma\, Grandpa too! Make Treats together. Measuring\, Cooking\, and Having Fun \n\nSuper fun\, and healthy\, treats that are delicious. Fruit Hand Pies are in season. You will make the filling\, assemble the pies\, and then enjoy eating them. Have fun making them and then the delicious-ness of eating them.\n\nEach ticket is for one (1) workstation. You will make your own treats together and enjoy them right away or take them home with you. \nEach station has \n\n1 set of equipment\n1 set of ingredients\n\nClick HERE to RSVP for Gift Certificates and Pre-Paid Guests
URL:https://askauntv.com/event/mommy-and-me-ice-cream-party/
LOCATION:Ask Aunt V Cooking Class\, 222 South Main Street\, Naperville\, IL\, 60540\, United States
CATEGORIES:Children,Mommy and Me
ATTACH;FMTTYPE=image/jpeg:https://askauntv.com/wp-content/uploads/2024/09/christmas-food-mince-pies-food-577876.jpg
ORGANIZER;CN="Classes are held inside Liam Brex Design Showroom":MAILTO:askauntv@gmail.com
END:VEVENT
BEGIN:VEVENT
DTSTART;TZID=America/Chicago:20241005T120000
DTEND;TZID=America/Chicago:20241005T130000
DTSTAMP:20260425T185657
CREATED:20240908T230130Z
LAST-MODIFIED:20240925T163241Z
UID:4892-1728129600-1728133200@askauntv.com
SUMMARY:SOLD OUT - Fruit Hand Pies
DESCRIPTION:Fun\, and healthy\, treats that are delicious. Fruit Hand Pies are in season. You will make the filling\, assemble the pies\, and then enjoy eating them. Have fun making them and then the delicious-ness of eating them.\n\nEach ticket is for one (1) workstation. You will make your own treats together and enjoy them right away or take them home with you. \nEach station has \n\n1 set of equipment\n1 set of ingredients\n\nClick HERE to RSVP for Gift Certificates and Pre-Paid Guests
URL:https://askauntv.com/event/mommy-and-me-fruit-hand-pies/
LOCATION:Ask Aunt V Cooking Class\, 222 South Main Street\, Naperville\, IL\, 60540\, United States
CATEGORIES:Children,Junior Chef
ATTACH;FMTTYPE=image/jpeg:https://askauntv.com/wp-content/uploads/2024/09/christmas-food-mince-pies-food-577876.jpg
ORGANIZER;CN="Classes are held inside Liam Brex Design Showroom":MAILTO:askauntv@gmail.com
END:VEVENT
END:VCALENDAR