BEGIN:VCALENDAR
VERSION:2.0
PRODID:-//Ask Aunt V - ECPv6.9.0//NONSGML v1.0//EN
CALSCALE:GREGORIAN
METHOD:PUBLISH
X-WR-CALNAME:Ask Aunt V
X-ORIGINAL-URL:https://askauntv.com
X-WR-CALDESC:Events for Ask Aunt V
REFRESH-INTERVAL;VALUE=DURATION:PT1H
X-Robots-Tag:noindex
X-PUBLISHED-TTL:PT1H
BEGIN:VTIMEZONE
TZID:America/Chicago
BEGIN:DAYLIGHT
TZOFFSETFROM:-0600
TZOFFSETTO:-0500
TZNAME:CDT
DTSTART:20230312T080000
END:DAYLIGHT
BEGIN:STANDARD
TZOFFSETFROM:-0500
TZOFFSETTO:-0600
TZNAME:CST
DTSTART:20231105T070000
END:STANDARD
BEGIN:DAYLIGHT
TZOFFSETFROM:-0600
TZOFFSETTO:-0500
TZNAME:CDT
DTSTART:20240310T080000
END:DAYLIGHT
BEGIN:STANDARD
TZOFFSETFROM:-0500
TZOFFSETTO:-0600
TZNAME:CST
DTSTART:20241103T070000
END:STANDARD
BEGIN:DAYLIGHT
TZOFFSETFROM:-0600
TZOFFSETTO:-0500
TZNAME:CDT
DTSTART:20250309T080000
END:DAYLIGHT
BEGIN:STANDARD
TZOFFSETFROM:-0500
TZOFFSETTO:-0600
TZNAME:CST
DTSTART:20251102T070000
END:STANDARD
BEGIN:DAYLIGHT
TZOFFSETFROM:-0600
TZOFFSETTO:-0500
TZNAME:CDT
DTSTART:20260308T080000
END:DAYLIGHT
BEGIN:STANDARD
TZOFFSETFROM:-0500
TZOFFSETTO:-0600
TZNAME:CST
DTSTART:20261101T070000
END:STANDARD
BEGIN:DAYLIGHT
TZOFFSETFROM:-0600
TZOFFSETTO:-0500
TZNAME:CDT
DTSTART:20270314T080000
END:DAYLIGHT
BEGIN:STANDARD
TZOFFSETFROM:-0500
TZOFFSETTO:-0600
TZNAME:CST
DTSTART:20271107T070000
END:STANDARD
END:VTIMEZONE
BEGIN:VEVENT
DTSTART;TZID=America/Chicago:20231015T080000
DTEND;TZID=America/Chicago:20261231T170000
DTSTAMP:20260425T100746
CREATED:20201118T185457Z
LAST-MODIFIED:20241218T194016Z
UID:828-1697356800-1798736400@askauntv.com
SUMMARY:Gift Certificate for Cooking Class
DESCRIPTION:The Gift of Time spent together. Great Gift for Friends\, Family\, and Loved Ones. Classes are available for all ages. \nA printable Gift Certificate will be sent to the purchaser’s email address within 24-hours of payment confirmation during normal working hours. \n 
URL:https://askauntv.com/event/gift-certificate-for-cooking-class/
LOCATION:Ask Aunt V Cooking Class\, 222 South Main Street\, Naperville\, IL\, 60540\, United States
CATEGORIES:Group Classes
ATTACH;FMTTYPE=image/jpeg:https://askauntv.com/wp-content/uploads/2020/11/present-box-dole-150291.jpg
ORGANIZER;CN="Classes are held inside Liam Brex Design Showroom":MAILTO:askauntv@gmail.com
END:VEVENT
BEGIN:VEVENT
DTSTART;TZID=America/Chicago:20231015T080000
DTEND;TZID=America/Chicago:20271231T170000
DTSTAMP:20260425T100746
CREATED:20221116T164430Z
LAST-MODIFIED:20241218T193927Z
UID:3616-1697356800-1830272400@askauntv.com
SUMMARY:Gift Certificate for Junior Chef Cooking Class
DESCRIPTION:Learning to Cook is so much Fun. Gift Certificate can be used for any class on the schedule. \nA printable Gift Certificate will be sent to the purchaser’s email address within 24-hours of payment confirmation during normal working hours. \n 
URL:https://askauntv.com/event/gift-certificate-for-junior-chef-cooking-class/
LOCATION:Ask Aunt V Cooking Class\, 222 South Main Street\, Naperville\, IL\, 60540\, United States
CATEGORIES:Children,Junior Chef,Mommy and Me,Teens,Tweens
ATTACH;FMTTYPE=image/png:https://askauntv.com/wp-content/uploads/2024/11/gift-present-wrapped-152060.png
ORGANIZER;CN="Classes are held inside Liam Brex Design Showroom":MAILTO:askauntv@gmail.com
END:VEVENT
BEGIN:VEVENT
DTSTART;TZID=America/Chicago:20250802T120000
DTEND;TZID=America/Chicago:20250802T130000
DTSTAMP:20260425T100746
CREATED:20220412T200354Z
LAST-MODIFIED:20250626T150711Z
UID:3037-1754136000-1754139600@askauntv.com
SUMMARY:Junior Chef - Pasta Class
DESCRIPTION:Homemade Pasta\nAlfredo Sauce\nMediterranean Salad\nGarlic Bread\n\nPriority Seating will be given to Junior Chef Cooking Club \nClick Here to RSVP for Gift Certificates and Pre-Paid Guests
URL:https://askauntv.com/event/junior-chef-pasta-class/
LOCATION:Ask Aunt V Cooking Class\, 222 South Main Street\, Naperville\, IL\, 60540\, United States
CATEGORIES:Children,Group Classes,Junior Chef,Tweens
ATTACH;FMTTYPE=image/jpeg:https://askauntv.com/wp-content/uploads/2022/11/pasta-making-pasta-food-1051611.jpg
ORGANIZER;CN="Classes are held inside Liam Brex Design Showroom":MAILTO:askauntv@gmail.com
END:VEVENT
BEGIN:VEVENT
DTSTART;TZID=America/Chicago:20250802T180000
DTEND;TZID=America/Chicago:20250802T210000
DTSTAMP:20260425T100746
CREATED:20230614T225656Z
LAST-MODIFIED:20250525T174433Z
UID:4171-1754157600-1754168400@askauntv.com
SUMMARY:SOLD OUT - Summer Salads
DESCRIPTION:Mexican Street Corn Salad\nCucumber Salad\nAsian Slaw with Juicy Peaches\, Herbs\, and Toasted Nuts\n\nClick HERE to RSVP for Gift Certificates and Pre-Paid Guests
URL:https://askauntv.com/event/summer-salads/
LOCATION:Ask Aunt V Cooking Class\, 222 South Main Street\, Naperville\, IL\, 60540\, United States
CATEGORIES:Group Classes
ATTACH;FMTTYPE=image/jpeg:https://askauntv.com/wp-content/uploads/2020/12/vegetable-vegan-healthy-1085065.jpg
ORGANIZER;CN="Classes are held inside Liam Brex Design Showroom":MAILTO:askauntv@gmail.com
END:VEVENT
BEGIN:VEVENT
DTSTART;TZID=America/Chicago:20250809T180000
DTEND;TZID=America/Chicago:20250809T210000
DTSTAMP:20260425T100746
CREATED:20240424T205430Z
LAST-MODIFIED:20250808T181845Z
UID:4813-1754762400-1754773200@askauntv.com
SUMMARY:SOLD OUT - Greek Islands
DESCRIPTION:Greek Chicken Souvlaki with Pita Bread\nTzatziki Sauce\nGreek Salad\nOrzo with Lemon and Herbs\n\n  \nClick HERE for Gift Certificates and Pre-Paid Tickets
URL:https://askauntv.com/event/cool-for-summer/
LOCATION:Ask Aunt V Cooking Class\, 222 South Main Street\, Naperville\, IL\, 60540\, United States
CATEGORIES:Group Classes,Teens,Tweens
ATTACH;FMTTYPE=image/jpeg:https://askauntv.com/wp-content/uploads/2025/06/gdca41dc023cdcaf14b2ef24802e873014663030872eb3f194cacbc94520b37c58642a406de34bae55f54f36c440d0ad84c821f748c8b7e7f923506289e3791b9_1280-1649221.jpg
ORGANIZER;CN="Classes are held inside Liam Brex Design Showroom":MAILTO:askauntv@gmail.com
END:VEVENT
BEGIN:VEVENT
DTSTART;TZID=America/Chicago:20250816T180000
DTEND;TZID=America/Chicago:20250816T210000
DTSTAMP:20260425T100746
CREATED:20220606T215231Z
LAST-MODIFIED:20250805T230113Z
UID:3259-1755367200-1755378000@askauntv.com
SUMMARY:SOLD OUT - Farmers Market Meals
DESCRIPTION:Stuffed Zucchini\nTomato Salad\nFarmers Market Pizza on the Grill\n\nClick HERE to RSVP for Gift Certificate or Pre-Paid Class
URL:https://askauntv.com/event/farmers-market-meals-2/
LOCATION:Ask Aunt V Cooking Class\, 222 South Main Street\, Naperville\, IL\, 60540\, United States
CATEGORIES:Group Classes
ATTACH;FMTTYPE=image/jpeg:https://askauntv.com/wp-content/uploads/2022/06/fruit-vegetables-market-1626857.jpg
ORGANIZER;CN="Classes are held inside Liam Brex Design Showroom":MAILTO:askauntv@gmail.com
END:VEVENT
BEGIN:VEVENT
DTSTART;TZID=America/Chicago:20250823T180000
DTEND;TZID=America/Chicago:20250823T210000
DTSTAMP:20260425T100746
CREATED:20230614T222211Z
LAST-MODIFIED:20250527T143849Z
UID:4159-1755972000-1755982800@askauntv.com
SUMMARY:SOLD OUT - All Grilled Up - Shrimp and Grits
DESCRIPTION:Harissa Lemon Grilled Shrimp\nHomemade Grits\nGrilled Summer Salad\n\nClick HERE to RSVP for Gift Certificates and Pre-Paid Guests
URL:https://askauntv.com/event/harissa-lemon-grilled-shrimp-with-polenta-and-summer-salad/
LOCATION:Ask Aunt V Cooking Class\, 222 South Main Street\, Naperville\, IL\, 60540\, United States
CATEGORIES:Group Classes
ATTACH;FMTTYPE=image/jpeg:https://askauntv.com/wp-content/uploads/2023/06/grilled-shrimp-shrimp-food-1114136.jpg
ORGANIZER;CN="Classes are held inside Liam Brex Design Showroom":MAILTO:askauntv@gmail.com
END:VEVENT
END:VCALENDAR