BEGIN:VCALENDAR
VERSION:2.0
PRODID:-//Ask Aunt V - ECPv6.9.0//NONSGML v1.0//EN
CALSCALE:GREGORIAN
METHOD:PUBLISH
X-WR-CALNAME:Ask Aunt V
X-ORIGINAL-URL:https://askauntv.com
X-WR-CALDESC:Events for Ask Aunt V
REFRESH-INTERVAL;VALUE=DURATION:PT1H
X-Robots-Tag:noindex
X-PUBLISHED-TTL:PT1H
BEGIN:VTIMEZONE
TZID:America/Chicago
BEGIN:DAYLIGHT
TZOFFSETFROM:-0600
TZOFFSETTO:-0500
TZNAME:CDT
DTSTART:20220313T080000
END:DAYLIGHT
BEGIN:STANDARD
TZOFFSETFROM:-0500
TZOFFSETTO:-0600
TZNAME:CST
DTSTART:20221106T070000
END:STANDARD
BEGIN:DAYLIGHT
TZOFFSETFROM:-0600
TZOFFSETTO:-0500
TZNAME:CDT
DTSTART:20230312T080000
END:DAYLIGHT
BEGIN:STANDARD
TZOFFSETFROM:-0500
TZOFFSETTO:-0600
TZNAME:CST
DTSTART:20231105T070000
END:STANDARD
END:VTIMEZONE
BEGIN:VEVENT
DTSTART;TZID=America/Chicago:20230218T110000
DTEND;TZID=America/Chicago:20230218T120000
DTSTAMP:20260425T080704
CREATED:20230113T175026Z
LAST-MODIFIED:20230127T190002Z
UID:3758-1676718000-1676721600@askauntv.com
SUMMARY:Ask Aunt V Tasting Table - Vegan Sauces
DESCRIPTION:Any recipe goes from blah to amazing with a dollop of these healthy vegan recipes. Gluten-Free\, Dairy-Free \n\nVegan Cashew Sauce\nRanch Dressing\nQueso Dip\nThai Peanut Dipping Sauce\n\nThis one-hour class demonstrates how to make these sauces and provides an opportunity for you to taste samples of each sauce. \nClick HERE to RSVP for Pre-Paid Guests
URL:https://askauntv.com/event/ask-aunt-v-tasting-table-vegan-sauces/
LOCATION:Ask Aunt V Cooking Class\, 222 South Main Street\, Naperville\, IL\, 60540\, United States
CATEGORIES:Group Classes,Premium Classes
ATTACH;FMTTYPE=image/jpeg:https://askauntv.com/wp-content/uploads/2023/01/quark-cheese-white-571703.jpg
ORGANIZER;CN="Classes are held inside Liam Brex Design Showroom":MAILTO:askauntv@gmail.com
END:VEVENT
BEGIN:VEVENT
DTSTART;TZID=America/Chicago:20230211T120000
DTEND;TZID=America/Chicago:20230211T130000
DTSTAMP:20260425T080704
CREATED:20230110T202912Z
LAST-MODIFIED:20230210T174144Z
UID:3750-1676116800-1676120400@askauntv.com
SUMMARY:Valentine's Cookie Decorating
DESCRIPTION:Delicious Fun – A Child Friendly Cookie Class\n\n\nA cooking class that is step-by-step geared to a child’s ability. \nThe class lasts 1 hour\nFor ages 6 through 11\nAt the end….you have cookies!!!\n\nClick Here to Redeem Gift Certificates \n  \n 
URL:https://askauntv.com/event/valentines-cookie-decorating/
LOCATION:Ask Aunt V Cooking Class\, 222 South Main Street\, Naperville\, IL\, 60540\, United States
CATEGORIES:Children,Group Classes,Junior Chef
ATTACH;FMTTYPE=image/jpeg:https://askauntv.com/wp-content/uploads/2021/01/valentines-day-valentine-cookies-3984154.jpg
ORGANIZER;CN="Classes are held inside Liam Brex Design Showroom":MAILTO:askauntv@gmail.com
END:VEVENT
BEGIN:VEVENT
DTSTART;TZID=America/Chicago:20230128T110000
DTEND;TZID=America/Chicago:20230128T120000
DTSTAMP:20260425T080704
CREATED:20211221T164532Z
LAST-MODIFIED:20230117T234428Z
UID:2668-1674903600-1674907200@askauntv.com
SUMMARY:SOLD OUT - Inside Out Club - Cookie Class
DESCRIPTION:Content is protected.
URL:https://askauntv.com/event/inside-out-club-tag-youre-it-online-cookie-class-4/
LOCATION:Ask Aunt V Online
CATEGORIES:Children,Junior Chef,Mommy and Me,Teens,Tweens
ORGANIZER;CN="Ask Aunt V Online":MAILTO:askauntv@gmail.com
END:VEVENT
BEGIN:VEVENT
DTSTART;TZID=America/Chicago:20230126T180000
DTEND;TZID=America/Chicago:20230126T210000
DTSTAMP:20260425T080704
CREATED:20221118T135047Z
LAST-MODIFIED:20230115T080348Z
UID:3649-1674756000-1674766800@askauntv.com
SUMMARY:SOLD OUT - Tailgate Party for Superbowl
DESCRIPTION:Roasted Jalapeño Poppers\nWhite Chili\nSkillet Cornbread\n\nClick here to RSVP for pre-paid guests
URL:https://askauntv.com/event/tailgate-party-for-superbowl/
LOCATION:Ask Aunt V Cooking Class\, 222 South Main Street\, Naperville\, IL\, 60540\, United States
CATEGORIES:Group Classes
ATTACH;FMTTYPE=image/jpeg:https://askauntv.com/wp-content/uploads/2020/10/Football-Tailgate-Party.jpg
ORGANIZER;CN="Classes are held inside Liam Brex Design Showroom":MAILTO:askauntv@gmail.com
END:VEVENT
BEGIN:VEVENT
DTSTART;TZID=America/Chicago:20230119T180000
DTEND;TZID=America/Chicago:20230119T210000
DTSTAMP:20260425T080704
CREATED:20221118T133719Z
LAST-MODIFIED:20221214T170145Z
UID:3631-1674151200-1674162000@askauntv.com
SUMMARY:SOLD OUT - Tropical Island
DESCRIPTION:Tropical Chicken Soup\nCaribbean Chicken with Coconut Rice\nAvocado Pineapple Salad\n\nPlease Click Here to RSVP for Pre-Paid Guests
URL:https://askauntv.com/event/tropical-island-3/
LOCATION:Ask Aunt V Cooking Class\, 222 South Main Street\, Naperville\, IL\, 60540\, United States
CATEGORIES:Group Classes
ATTACH;FMTTYPE=image/jpeg:https://askauntv.com/wp-content/uploads/2020/12/Tropical-Island-Dinner-Table.jpg
ORGANIZER;CN="Classes are held inside Liam Brex Design Showroom":MAILTO:askauntv@gmail.com
END:VEVENT
BEGIN:VEVENT
DTSTART;TZID=America/Chicago:20230107T110000
DTEND;TZID=America/Chicago:20230107T130000
DTSTAMP:20260425T080704
CREATED:20211207T223607Z
LAST-MODIFIED:20230106T205314Z
UID:2549-1673089200-1673096400@askauntv.com
SUMMARY:Junior Chef - Breakfast Class
DESCRIPTION:Crepes\nFrench Toast\nScrambled Eggs\n\n  \nClick Here to RSVP for Gift Certificates and Pre-Paid Guests
URL:https://askauntv.com/event/junior-chef-breakfast-class/
LOCATION:Ask Aunt V Cooking Class\, 222 South Main Street\, Naperville\, IL\, 60540\, United States
CATEGORIES:Children,Group Classes,Junior Chef,Tweens
ATTACH;FMTTYPE=image/jpeg:https://askauntv.com/wp-content/uploads/2022/12/pancakes-crepe-pancake-2020863.jpg
ORGANIZER;CN="Classes are held inside Liam Brex Design Showroom":MAILTO:askauntv@gmail.com
END:VEVENT
BEGIN:VEVENT
DTSTART;TZID=America/Chicago:20230105T180000
DTEND;TZID=America/Chicago:20230105T210000
DTSTAMP:20260425T080704
CREATED:20201204T204745Z
LAST-MODIFIED:20230103T005526Z
UID:926-1672941600-1672952400@askauntv.com
SUMMARY:Chinese Take Out
DESCRIPTION:General Tso’s Chicken\nCrab Ragoon\nFried Rice\n\nClick here to RSVP for Pre-Paid Guests
URL:https://askauntv.com/event/chinese-take-out/
LOCATION:Ask Aunt V Cooking Class\, 222 South Main Street\, Naperville\, IL\, 60540\, United States
CATEGORIES:Group Classes,Teens,Tweens
ATTACH;FMTTYPE=image/jpeg:https://askauntv.com/wp-content/uploads/2021/11/food-dishes-restaurant-1050813.jpg
ORGANIZER;CN="Classes are held inside Liam Brex Design Showroom":MAILTO:askauntv@gmail.com
END:VEVENT
BEGIN:VEVENT
DTSTART;TZID=America/Chicago:20230101T080000
DTEND;TZID=America/Chicago:20230401T170000
DTSTAMP:20260425T080704
CREATED:20220122T212716Z
LAST-MODIFIED:20220922T144329Z
UID:2782-1672560000-1680368400@askauntv.com
SUMMARY:New Classes are Added the First Week of the Month
DESCRIPTION:New Group Classes are added the first week of every month. If you have a Gift Certificate or a Pre-Paid Cooking Class check for new classes to select a class\, date\, and time that works for you. \n  \nWe look forward to having you join us soon! \n  \nAsk Aunt V
URL:https://askauntv.com/event/new-classes-are-added-the-first-week-of-the-month/
LOCATION:Ask Aunt V Cooking Class\, 222 South Main Street\, Naperville\, IL\, 60540\, United States
CATEGORIES:Children,Group Classes,Premium Classes
ATTACH;FMTTYPE=image/jpeg:https://askauntv.com/wp-content/uploads/2020/08/Cooking-Class.01.jpg
ORGANIZER;CN="Classes are held inside Liam Brex Design Showroom":MAILTO:askauntv@gmail.com
END:VEVENT
BEGIN:VEVENT
DTSTART;TZID=America/Chicago:20221231T110000
DTEND;TZID=America/Chicago:20221231T130000
DTSTAMP:20260425T080704
CREATED:20201221T201506Z
LAST-MODIFIED:20221205T184857Z
UID:1165-1672484400-1672491600@askauntv.com
SUMMARY:SOLD OUT - Junior Chef Cooking Class
DESCRIPTION:Chicago’s favorite drive-thru restaurant’s Chopped Salad\nGarlic Bread
URL:https://askauntv.com/event/chicago-favorite-drive-thru-chopped-salad/
LOCATION:Ask Aunt V Online
CATEGORIES:Children,Group Classes,Tweens
ATTACH;FMTTYPE=image/jpeg:https://askauntv.com/wp-content/uploads/2020/12/salad_chopped.jpg
ORGANIZER;CN="Ask Aunt V Online":MAILTO:askauntv@gmail.com
END:VEVENT
BEGIN:VEVENT
DTSTART;TZID=America/Chicago:20221227T180000
DTEND;TZID=America/Chicago:20221227T210000
DTSTAMP:20260425T080704
CREATED:20201007T222956Z
LAST-MODIFIED:20221118T141017Z
UID:747-1672164000-1672174800@askauntv.com
SUMMARY:It's Greek to Me
DESCRIPTION:Soupa Avgolemono (egg-lemon soup)\nBéchamel Sauce\nPastitio\nGreek Salad\n\nClick here to RSVP for pre-paid guests
URL:https://askauntv.com/event/its-greek-to-me-2/
LOCATION:Ask Aunt V Cooking Class\, 222 South Main Street\, Naperville\, IL\, 60540\, United States
CATEGORIES:Group Classes,Teens
ATTACH;FMTTYPE=image/jpeg:https://askauntv.com/wp-content/uploads/2020/10/greece-greek-salad-salad-2913362.jpg
ORGANIZER;CN="Classes are held inside Liam Brex Design Showroom":MAILTO:askauntv@gmail.com
END:VEVENT
BEGIN:VEVENT
DTSTART;TZID=America/Chicago:20221220T180000
DTEND;TZID=America/Chicago:20221220T210000
DTSTAMP:20260425T080704
CREATED:20201204T215541Z
LAST-MODIFIED:20221201T164747Z
UID:945-1671559200-1671570000@askauntv.com
SUMMARY:SOLD OUT - Middle Eastern Cuisine - Group - Vegan
DESCRIPTION:Homemade Falafel\nVegan Tzatziki\nSweet Pepper Hummus\n\nClick Here to RSVP for Pre-Paid Guests
URL:https://askauntv.com/event/middle-eastern-cuisine-vegan/
LOCATION:Ask Aunt V Cooking Class\, 222 South Main Street\, Naperville\, IL\, 60540\, United States
CATEGORIES:Group Classes,Premium Classes,Teens,Tweens
ATTACH;FMTTYPE=image/jpeg:https://askauntv.com/wp-content/uploads/2020/12/Falafel.jpg
ORGANIZER;CN="Classes are held inside Liam Brex Design Showroom":MAILTO:askauntv@gmail.com
END:VEVENT
BEGIN:VEVENT
DTSTART;TZID=America/Chicago:20221201T180000
DTEND;TZID=America/Chicago:20221201T210000
DTSTAMP:20260425T080704
CREATED:20221012T160634Z
LAST-MODIFIED:20221118T132915Z
UID:3526-1669917600-1669928400@askauntv.com
SUMMARY:SOLD OUT - Soup and Salad
DESCRIPTION:Shrimp-Stuffed Avocado\nRoasted Asparagus Soup with Pistachio Cream\n\nClick here to RSVP for Gift Certificates and Pre-Paid Classes
URL:https://askauntv.com/event/soup-and-salad/
LOCATION:Ask Aunt V Cooking Class\, 222 South Main Street\, Naperville\, IL\, 60540\, United States
CATEGORIES:Group Classes,Premium Classes
ATTACH;FMTTYPE=image/jpeg:https://askauntv.com/wp-content/uploads/2022/10/salad-avocado-starter-2697546.jpg
ORGANIZER;CN="Classes are held inside Liam Brex Design Showroom":MAILTO:askauntv@gmail.com
END:VEVENT
BEGIN:VEVENT
DTSTART;TZID=America/Chicago:20221117T180000
DTEND;TZID=America/Chicago:20221117T200000
DTSTAMP:20260425T080704
CREATED:20221012T162451Z
LAST-MODIFIED:20221103T132728Z
UID:3533-1668708000-1668715200@askauntv.com
SUMMARY:SOLD OUT - Healthy Holiday Classics
DESCRIPTION:FRESH & FAST – Two-Hour Class \n\nSweet Potato Casserole\nGreen Beans with Crispy Onions\nHomemade Mushroom Soup\n\nClick here to RSVP for Gift Certificates and Pre-Paid Classes
URL:https://askauntv.com/event/healthy-holiday-classics/
LOCATION:Ask Aunt V Cooking Class\, 222 South Main Street\, Naperville\, IL\, 60540\, United States
CATEGORIES:Group Classes
ATTACH;FMTTYPE=image/jpeg:https://askauntv.com/wp-content/uploads/2022/10/thanksgiving-vegetables-harvest-696164.jpg
ORGANIZER;CN="Classes are held inside Liam Brex Design Showroom":MAILTO:askauntv@gmail.com
END:VEVENT
BEGIN:VEVENT
DTSTART;TZID=America/Chicago:20221103T180000
DTEND;TZID=America/Chicago:20221103T203000
DTSTAMP:20260425T080704
CREATED:20210831T210112Z
LAST-MODIFIED:20221020T171524Z
UID:2144-1667498400-1667507400@askauntv.com
SUMMARY:Cast Iron Skillet Meals
DESCRIPTION:Skillet-Roasted Chicken with Rosemary\, Garlic\, and Maple-Balsamic Glaze\nRosemary Roasted Potatoes\nSautéed Green Beans\n\nClick here to RSVP for Gift Certificates or Pre-Paid Classes
URL:https://askauntv.com/event/cast-iron-skillet-meals-group/
LOCATION:Ask Aunt V Cooking Class\, 222 South Main Street\, Naperville\, IL\, 60540\, United States
CATEGORIES:Group Classes,Premium Classes
ATTACH;FMTTYPE=image/jpeg:https://askauntv.com/wp-content/uploads/2021/09/cast-iron-cooking_chicken_pixabay.jpg
ORGANIZER;CN="Classes are held inside Liam Brex Design Showroom":MAILTO:askauntv@gmail.com
END:VEVENT
BEGIN:VEVENT
DTSTART;TZID=America/Chicago:20221022T110000
DTEND;TZID=America/Chicago:20221022T130000
DTSTAMP:20260425T080704
CREATED:20211207T225624Z
LAST-MODIFIED:20221012T152715Z
UID:2563-1666436400-1666443600@askauntv.com
SUMMARY:SOLD OUT - Junior Chef - Pizza Class
DESCRIPTION:Homemade Pizza Dough\nPersonalized Pizza for Everyone\nGarlic Bread\n\nPriority Seating will be given to Junior Chef Cooking Club \nClick Here to RSVP for Gift Certificates and Pre-Paid Guests
URL:https://askauntv.com/event/junior-chef-pizza-class/
LOCATION:Ask Aunt V Cooking Class\, 222 South Main Street\, Naperville\, IL\, 60540\, United States
CATEGORIES:Children,Group Classes,Junior Chef,Tweens
ATTACH;FMTTYPE=image/jpeg:https://askauntv.com/wp-content/uploads/2021/08/pizza-drink-food-386717.jpg
ORGANIZER;CN="Classes are held inside Liam Brex Design Showroom":MAILTO:askauntv@gmail.com
END:VEVENT
BEGIN:VEVENT
DTSTART;TZID=America/Chicago:20221020T180000
DTEND;TZID=America/Chicago:20221020T210000
DTSTAMP:20260425T080704
CREATED:20201007T221112Z
LAST-MODIFIED:20221006T132057Z
UID:733-1666288800-1666299600@askauntv.com
SUMMARY:SOLD OUT - Bring the Harvest Home
DESCRIPTION:High Protein – Vegan – Vegetarian – Gluten Free – Dairy Free \n\nHarvest Salad\nRoasted Beet Salad\nMiddle Eastern Lentil Salad\n\nClick here to RSVP for  Gift Certificates and pre-paid guests
URL:https://askauntv.com/event/main-course-salads/
LOCATION:Ask Aunt V Cooking Class\, 222 South Main Street\, Naperville\, IL\, 60540\, United States
CATEGORIES:Group Classes,Premium Classes
ATTACH;FMTTYPE=image/jpeg:https://askauntv.com/wp-content/uploads/2022/09/pumpkins-squash-vegetables-186479.jpg
ORGANIZER;CN="Classes are held inside Liam Brex Design Showroom":MAILTO:askauntv@gmail.com
END:VEVENT
BEGIN:VEVENT
DTSTART;TZID=America/Chicago:20221013T180000
DTEND;TZID=America/Chicago:20221013T210000
DTSTAMP:20260425T080704
CREATED:20220907T181338Z
LAST-MODIFIED:20220907T181409Z
UID:2149-1665684000-1665694800@askauntv.com
SUMMARY:Octoberfest
DESCRIPTION:Homemade German Spaetzle\nBratwurst with Sauerkraut\, onions\, peppers\, and other toppings\nHomemade Pretzel\n\nClick here to RSVP for Gift Certificates and Pre-Paid Classes
URL:https://askauntv.com/event/octoberfest-group-4/
LOCATION:Ask Aunt V Cooking Class\, 222 South Main Street\, Naperville\, IL\, 60540\, United States
CATEGORIES:Group Classes
ATTACH;FMTTYPE=image/png:https://askauntv.com/wp-content/uploads/2022/09/pretzel-meal-isolated-1690189.png
ORGANIZER;CN="Classes are held inside Liam Brex Design Showroom":MAILTO:askauntv@gmail.com
END:VEVENT
BEGIN:VEVENT
DTSTART;TZID=America/Chicago:20221009T110000
DTEND;TZID=America/Chicago:20221009T120000
DTSTAMP:20260425T080704
CREATED:20220803T224131Z
LAST-MODIFIED:20220922T144403Z
UID:3362-1665313200-1665316800@askauntv.com
SUMMARY:Garlic Fest
DESCRIPTION:FREE – Join Ask Aunt V at The Growing Place in Aurora for a cooking demonstration on the many ways to use garlic in salads\, spaghetti\, viniagrette\, baked\, preserved…….the options never end. Join us for this FREE demonstration. \nClick HERE for more information  \n 
URL:https://askauntv.com/event/summertime-harvest-zucchini-2/
LOCATION:The Growing Place – Aurora\, 2000 Montgomery Road\, Aurora\, IL\, 60504\, United States
CATEGORIES:Garden Group Class,Gardening,Group Classes,Premium Classes
ATTACH;FMTTYPE=image/jpeg:https://askauntv.com/wp-content/uploads/2022/09/garlic-flavor-ingredient-6657999.jpg
END:VEVENT
BEGIN:VEVENT
DTSTART;TZID=America/Chicago:20221008T130000
DTEND;TZID=America/Chicago:20221008T140000
DTSTAMP:20260425T080704
CREATED:20220803T224810Z
LAST-MODIFIED:20220922T144439Z
UID:3365-1665234000-1665237600@askauntv.com
SUMMARY:Garlic Fest
DESCRIPTION:FREE – Join Ask Aunt V at The Growing Place in Naperville for a cooking demonstration on the many ways to use garlic in salads\, sauces\, canning\, baked\, preserved…….the options never end. Join us for this FREE demonstration. \nClick HERE for more information  \n 
URL:https://askauntv.com/event/summertime-harvest-tomatoes/
LOCATION:The Growing Place – Naperville\, 25w471 Plank Road\, Naperville\, IL\, 60563\, United States
CATEGORIES:Garden Group Class,Gardening,Group Classes,Premium Classes
ATTACH;FMTTYPE=image/jpeg:https://askauntv.com/wp-content/uploads/2022/09/garlic-flavor-ingredient-6657999.jpg
END:VEVENT
BEGIN:VEVENT
DTSTART;TZID=America/Chicago:20220930T180000
DTEND;TZID=America/Chicago:20220930T210000
DTSTAMP:20260425T080704
CREATED:20201006T004627Z
LAST-MODIFIED:20220922T144702Z
UID:707-1664560800-1664571600@askauntv.com
SUMMARY:SOLD OUT - Tailgate Party
DESCRIPTION:Roasted Jalapeño Poppers\nWhite Chili\nCornbread\n\nClick here to RSVP for pre-paid Tickets
URL:https://askauntv.com/event/tailgate-party/
LOCATION:Ask Aunt V Cooking Class\, 222 South Main Street\, Naperville\, IL\, 60540\, United States
CATEGORIES:Group Classes
ATTACH;FMTTYPE=image/jpeg:https://askauntv.com/wp-content/uploads/2022/09/chili-sharp-red-703.jpg
ORGANIZER;CN="Classes are held inside Liam Brex Design Showroom":MAILTO:askauntv@gmail.com
END:VEVENT
BEGIN:VEVENT
DTSTART;TZID=America/Chicago:20220922T160000
DTEND;TZID=America/Chicago:20220922T190000
DTSTAMP:20260425T080704
CREATED:20220901T183526Z
LAST-MODIFIED:20220901T184752Z
UID:3437-1663862400-1663873200@askauntv.com
SUMMARY:"A Mother's Guide Through Autism" Author Reception and Book Signing
DESCRIPTION:FREE – Join us for an Author Reception and Book Signing of a “Mother’s Guide Through Autism” Thursday\, September 22\, 2022 from 4:00 pm to 7:00 pm with an author’s discussion at 5:30 pm. It is in Downtown Naperville at 222 South Main Street inside the Liam Brex Design Showroom. The event is free to the public. \n  \nWritten by Brigitte  M. Volltrauer Shipman an author\, life coach\,  speaker\, and teacher\, She has thrived with her passion of coaching clients and finding her best self through her life’s tsunamis. She specializes in coaching mothers with children who have been diagnosed with Autism Spectrum Disorder (ASD). This is Brigitte’s second book; she is also the author of “Is It A God Thing?” She has thrived as an educator for more than twenty years. She holds a Masters in Educational Leadership. \nBrigitte’s greatest passion\, by far\, is being a mother. Her son\, Joseph\, co-wrote the section of “Through the Eyes of The Guide. She lives in Mountain Home\, Arkansas with her family. \nBrigitte hosts a weekly podcast to inspire\, support\, and build community for mothers raising children with autism. To order “A Mother’s Guide Through Autism” ($12.99 on Amazon) or listen to the podcast \nvisit https://www.mothersguidethroughautism.com/. \n 
URL:https://askauntv.com/event/a-mothers-guide-through-autism-author-reception-and-book-signing/
LOCATION:Liam Brex Design Showroom\, 222 South Main Street\, Naperville\, IL\, 60540\, United States
CATEGORIES:Children,Group Classes,Junior Chef,Mommy and Me,Teens,Tweens
ATTACH;FMTTYPE=image/jpeg:https://askauntv.com/wp-content/uploads/2022/09/Book2_Cover_Final_square.jpg
ORGANIZER;CN="Classes are held inside Liam Brex Design Showroom":MAILTO:askauntv@gmail.com
END:VEVENT
BEGIN:VEVENT
DTSTART;TZID=America/Chicago:20220919T080000
DTEND;TZID=America/Chicago:20220930T170000
DTSTAMP:20260425T080704
CREATED:20220919T154753Z
LAST-MODIFIED:20220919T154822Z
UID:3493-1663574400-1664557200@askauntv.com
SUMMARY:"Walk to End Alzheimers" Class Discount
DESCRIPTION:Content is protected.
URL:https://askauntv.com/event/walk-to-end-alzheimers-class-discount/
LOCATION:Ask Aunt V Cooking Class\, 222 South Main Street\, Naperville\, IL\, 60540\, United States
CATEGORIES:Group Classes,Premium Classes
ORGANIZER;CN="Classes are held inside Liam Brex Design Showroom":MAILTO:askauntv@gmail.com
END:VEVENT
BEGIN:VEVENT
DTSTART;TZID=America/Chicago:20220917T100000
DTEND;TZID=America/Chicago:20220917T120000
DTSTAMP:20260425T080704
CREATED:20220728T171009Z
LAST-MODIFIED:20220803T182742Z
UID:3342-1663408800-1663416000@askauntv.com
SUMMARY:SOLD OUT - Hispanic Heritage Festival - Quesadillas\, Tetelas Oaxaca \, Huevos Rancheros
DESCRIPTION:Tetelas Oaxaca\n\nCheese Quesadillas\n\n\nHuevos Rancheros\n\n\n  \nClick HERE to RSVP for Gift Certificate or Pre-Paid Class
URL:https://askauntv.com/event/hispanic-heritage-festival-quesadillas-tetelas-oaxaca-huevos-rancheros/
LOCATION:Ask Aunt V Cooking Class\, 222 South Main Street\, Naperville\, IL\, 60540\, United States
CATEGORIES:Children,Group Classes,Junior Chef,Teens,Tweens
ATTACH;FMTTYPE=image/jpeg:https://askauntv.com/wp-content/uploads/2022/08/food-eggs-hash-browns-5215813.jpg
ORGANIZER;CN="Classes are held inside Liam Brex Design Showroom":MAILTO:askauntv@gmail.com
END:VEVENT
BEGIN:VEVENT
DTSTART;TZID=America/Chicago:20220910T110000
DTEND;TZID=America/Chicago:20220910T130000
DTSTAMP:20260425T080704
CREATED:20220815T173135Z
LAST-MODIFIED:20220830T160201Z
UID:3390-1662807600-1662814800@askauntv.com
SUMMARY:Junior Chef - Summer Treats Class
DESCRIPTION:Homemade Pie Dough\nApple Hand Pies\nHomemade Whipped Cream\n\n  \nClick Here to RSVP for Gift Certificates and Pre-Paid Guests
URL:https://askauntv.com/event/junior-chef-summer-treats-class-2/
LOCATION:Ask Aunt V Cooking Class\, 222 South Main Street\, Naperville\, IL\, 60540\, United States
CATEGORIES:Children,Junior Chef,Tweens
ATTACH;FMTTYPE=image/jpeg:https://askauntv.com/wp-content/uploads/2022/08/pie-apples-fruit-5601656.jpg
ORGANIZER;CN="Classes are held inside Liam Brex Design Showroom":MAILTO:askauntv@gmail.com
END:VEVENT
BEGIN:VEVENT
DTSTART;TZID=America/Chicago:20220827T180000
DTEND;TZID=America/Chicago:20220827T210000
DTSTAMP:20260425T080704
CREATED:20220606T201338Z
LAST-MODIFIED:20220822T121731Z
UID:3201-1661623200-1661634000@askauntv.com
SUMMARY:SOLD OUT - Healthy and Easy as Pie
DESCRIPTION:Homemade Pie Dough\nHomemade Apple Tart\nApple Crisp\nHomemade Whipped Cream\n\n  \nClick HERE to RSVP for Gift Certificate or Pre-Paid Class
URL:https://askauntv.com/event/simply-summer-2/
LOCATION:Ask Aunt V Cooking Class\, 222 South Main Street\, Naperville\, IL\, 60540\, United States
CATEGORIES:Group Classes
ATTACH;FMTTYPE=image/jpeg:https://askauntv.com/wp-content/uploads/2022/08/apple-pie-apple-broken-pasta-460017.jpg
ORGANIZER;CN="Classes are held inside Liam Brex Design Showroom":MAILTO:askauntv@gmail.com
END:VEVENT
BEGIN:VEVENT
DTSTART;TZID=America/Chicago:20220818T180000
DTEND;TZID=America/Chicago:20220818T210000
DTSTAMP:20260425T080704
CREATED:20220606T215057Z
LAST-MODIFIED:20220728T162639Z
UID:3243-1660845600-1660856400@askauntv.com
SUMMARY:SOLD OUT - Farmers Market Meals
DESCRIPTION:Stuffed Zucchini\nTomato Salad\nFarmers Market Pizza on the Grill\n\nClick HERE to RSVP for Gift Certificate or Pre-Paid Class
URL:https://askauntv.com/event/farmers-market-meals/
LOCATION:Ask Aunt V Cooking Class\, 222 South Main Street\, Naperville\, IL\, 60540\, United States
CATEGORIES:Group Classes
ATTACH;FMTTYPE=image/jpeg:https://askauntv.com/wp-content/uploads/2022/06/fruit-vegetables-market-1626857.jpg
ORGANIZER;CN="Classes are held inside Liam Brex Design Showroom":MAILTO:askauntv@gmail.com
END:VEVENT
BEGIN:VEVENT
DTSTART;TZID=America/Chicago:20220814T130000
DTEND;TZID=America/Chicago:20220814T140000
DTSTAMP:20260425T080704
CREATED:20220803T224950Z
LAST-MODIFIED:20220803T224950Z
UID:3369-1660482000-1660485600@askauntv.com
SUMMARY:Summertime Harvest - Tomatoes
DESCRIPTION:FREE – Join Ask Aunt V at The Growing Place in Aurora for a cooking demonstration on the many ways to use tomatoes in salads\, sauces\, canning\, baked\, preserved…….the options never end. Join us for this FREE demonstration. \nClick HERE for more information  \n 
URL:https://askauntv.com/event/summertime-harvest-tomatoes-2/
LOCATION:The Growing Place – Aurora\, 2000 Montgomery Road\, Aurora\, IL\, 60504\, United States
CATEGORIES:Children,Garden Group Class,Gardening,Group Classes,Junior Chef,Mommy and Me,Teens,Tweens
ATTACH;FMTTYPE=image/jpeg:https://askauntv.com/wp-content/uploads/2022/08/tomatoes-vegetables-fresh-5566741.jpg
END:VEVENT
BEGIN:VEVENT
DTSTART;TZID=America/Chicago:20220813T110000
DTEND;TZID=America/Chicago:20220813T120000
DTSTAMP:20260425T080704
CREATED:20220803T223511Z
LAST-MODIFIED:20220803T223806Z
UID:3354-1660388400-1660392000@askauntv.com
SUMMARY:Summertime Harvest - Zucchini
DESCRIPTION:FREE – Join Ask Aunt V at The Growing Place in Naperville for a cooking demonstration on the many ways to use zucchini in salads\, spaghetti\, zoodles\, baked\, preserved…….the options never end. Join us for this FREE demonstration. \nClick HERE for more information  \n 
URL:https://askauntv.com/event/summertime-harvest-zucchini/
LOCATION:The Growing Place – Naperville\, 25w471 Plank Road\, Naperville\, IL\, 60563\, United States
CATEGORIES:Children,Garden Group Class,Gardening,Group Classes,Junior Chef,Mommy and Me,Teens,Tweens
ATTACH;FMTTYPE=image/jpeg:https://askauntv.com/wp-content/uploads/2022/08/zucchini-vegetables-food-537001.jpg
END:VEVENT
BEGIN:VEVENT
DTSTART;TZID=America/Chicago:20220811T180000
DTEND;TZID=America/Chicago:20220811T210000
DTSTAMP:20260425T080704
CREATED:20220606T213940Z
LAST-MODIFIED:20220730T210418Z
UID:3244-1660240800-1660251600@askauntv.com
SUMMARY:SOLD OUT - Wok on the Grill
DESCRIPTION:Vegetarian\, Gluten-Free\, Dairy-Free \n\nThai Zoodle Salad\nAsian Summer Rolls\nPineapple Fried Rice\n\nClick HERE to RSVP for Gift Certificate or Pre-Paid Class
URL:https://askauntv.com/event/wok-on-the-grill/
LOCATION:Ask Aunt V Cooking Class\, 222 South Main Street\, Naperville\, IL\, 60540\, United States
CATEGORIES:Group Classes
ATTACH;FMTTYPE=image/jpeg:https://askauntv.com/wp-content/uploads/2022/06/food-dishes-restaurant-1050813.jpg
ORGANIZER;CN="Classes are held inside Liam Brex Design Showroom":MAILTO:askauntv@gmail.com
END:VEVENT
BEGIN:VEVENT
DTSTART;TZID=America/Chicago:20220730T180000
DTEND;TZID=America/Chicago:20220730T210000
DTSTAMP:20260425T080704
CREATED:20220606T212818Z
LAST-MODIFIED:20220620T213408Z
UID:3238-1659204000-1659214800@askauntv.com
SUMMARY:Taste of Asia
DESCRIPTION:Thai Cashew shrimp\nAsian Summer Rolls\nPineapple Fried Rice\n\nClick HERE to RSVP for Gift Certificate or Pre-Paid Class
URL:https://askauntv.com/event/taste-of-asia/
LOCATION:Ask Aunt V Cooking Class\, 222 South Main Street\, Naperville\, IL\, 60540\, United States
CATEGORIES:Group Classes
ATTACH;FMTTYPE=image/jpeg:https://askauntv.com/wp-content/uploads/2022/06/grilled-shrimp-prawn-1238668.jpg
ORGANIZER;CN="Classes are held inside Liam Brex Design Showroom":MAILTO:askauntv@gmail.com
END:VEVENT
END:VCALENDAR