BEGIN:VCALENDAR
VERSION:2.0
PRODID:-//Ask Aunt V - ECPv6.9.0//NONSGML v1.0//EN
CALSCALE:GREGORIAN
METHOD:PUBLISH
X-WR-CALNAME:Ask Aunt V
X-ORIGINAL-URL:https://askauntv.com
X-WR-CALDESC:Events for Ask Aunt V
REFRESH-INTERVAL;VALUE=DURATION:PT1H
X-Robots-Tag:noindex
X-PUBLISHED-TTL:PT1H
BEGIN:VTIMEZONE
TZID:America/Chicago
BEGIN:DAYLIGHT
TZOFFSETFROM:-0600
TZOFFSETTO:-0500
TZNAME:CDT
DTSTART:20230312T080000
END:DAYLIGHT
BEGIN:STANDARD
TZOFFSETFROM:-0500
TZOFFSETTO:-0600
TZNAME:CST
DTSTART:20231105T070000
END:STANDARD
END:VTIMEZONE
BEGIN:VEVENT
DTSTART;TZID=America/Chicago:20231130T180000
DTEND;TZID=America/Chicago:20231130T203000
DTSTAMP:20260425T115604
CREATED:20231016T202325Z
LAST-MODIFIED:20231030T215400Z
UID:4422-1701367200-1701376200@askauntv.com
SUMMARY:Butternut Squash Risotto\, Saffron Roasted Cauliflower\, Baked Chicken
DESCRIPTION:Delicious Gluten-Free Dining Experience \n\nButternut Squash Risotto\nSaffron Roasted Cauliflower with fleur de sel\nBaked Chicken Breasts\nOranges with Rose Water and Pomegranate Seeds\n\nClick HERE to RSVP for Gift Certificates and Pre-Paid Guests
URL:https://askauntv.com/event/butternut-squash-risotto-saffron-roasted-cauliflower-baked-chicken-oranges-with-rose-water/
LOCATION:Ask Aunt V Cooking Class\, 222 South Main Street\, Naperville\, IL\, 60540\, United States
CATEGORIES:Group Classes
ATTACH;FMTTYPE=image/jpeg:https://askauntv.com/wp-content/uploads/2021/10/rice-dish-1740301_1280.jpg
ORGANIZER;CN="Classes are held inside Liam Brex Design Showroom":MAILTO:askauntv@gmail.com
END:VEVENT
BEGIN:VEVENT
DTSTART;TZID=America/Chicago:20231125T180000
DTEND;TZID=America/Chicago:20231125T210000
DTSTAMP:20260425T115604
CREATED:20231016T220626Z
LAST-MODIFIED:20231120T211138Z
UID:4489-1700935200-1700946000@askauntv.com
SUMMARY:SOLD OUT - Friend and Family Cooking Class
DESCRIPTION:Gather together with family and friends for a cooking class of your choice. Minimum six (6) guests. Children welcome. \n  \nChoose from \n\nHomemade pasta\nMexican Fiesta\nHomemade Pizza\nPierogi Polka Party\n….and many\, many more options….\n\nContact Ask Aunt V for special arrangements \n 
URL:https://askauntv.com/event/friend-and-family-cooking-class-4/
LOCATION:Ask Aunt V Cooking Class\, 222 South Main Street\, Naperville\, IL\, 60540\, United States
CATEGORIES:Group Classes,Premium Classes,Private Classes & Events
ATTACH;FMTTYPE=image/jpeg:https://askauntv.com/wp-content/uploads/2020/12/Around-the-Table.01.jpg
ORGANIZER;CN="Classes are held inside Liam Brex Design Showroom":MAILTO:askauntv@gmail.com
END:VEVENT
BEGIN:VEVENT
DTSTART;TZID=America/Chicago:20231125T130000
DTEND;TZID=America/Chicago:20231125T160000
DTSTAMP:20260425T115604
CREATED:20231016T220341Z
LAST-MODIFIED:20231120T211334Z
UID:4484-1700917200-1700928000@askauntv.com
SUMMARY:SOLD OUT - Friend and Family Cooking Class
DESCRIPTION:Gather together with family and friends for a cooking class of your choice. Minimum six (6) guests. Children welcome. \n  \nChoose from \n\nHomemade pasta\nMexican Fiesta\nHomemade Pizza\nPierogi Polka Party\nSushi\nCrepes\, French Toast\, Apple Baby\n….and many\, many more options….\n\nContact Ask Aunt V for special arrangements \n 
URL:https://askauntv.com/event/friend-and-family-cooking-class-3/
LOCATION:Ask Aunt V Cooking Class\, 222 South Main Street\, Naperville\, IL\, 60540\, United States
CATEGORIES:Group Classes,Premium Classes,Private Classes & Events
ATTACH;FMTTYPE=image/jpeg:https://askauntv.com/wp-content/uploads/2023/10/Around-the-Table.04.jpg
ORGANIZER;CN="Classes are held inside Liam Brex Design Showroom":MAILTO:askauntv@gmail.com
END:VEVENT
BEGIN:VEVENT
DTSTART;TZID=America/Chicago:20231124T180000
DTEND;TZID=America/Chicago:20231124T210000
DTSTAMP:20260425T115604
CREATED:20231016T215731Z
LAST-MODIFIED:20231120T211223Z
UID:4480-1700848800-1700859600@askauntv.com
SUMMARY:SOLD OUT - Friend and Family Cooking Class
DESCRIPTION:Gather together with family and friends for a cooking class of your choice. Minimum six (6) guests. Children welcome. \n  \nChoose from \n\nHomemade pasta\nMexican Fiesta\nHomemade Pizza\nPierogi Polka Party\n….and many\, many more options….\n\nContact Ask Aunt V for special arrangements \n 
URL:https://askauntv.com/event/friend-and-family-cooking-class-2/
LOCATION:Ask Aunt V Cooking Class\, 222 South Main Street\, Naperville\, IL\, 60540\, United States
CATEGORIES:Group Classes,Premium Classes,Private Classes & Events
ATTACH;FMTTYPE=image/jpeg:https://askauntv.com/wp-content/uploads/2020/12/Around-the-Table.01.jpg
ORGANIZER;CN="Classes are held inside Liam Brex Design Showroom":MAILTO:askauntv@gmail.com
END:VEVENT
BEGIN:VEVENT
DTSTART;TZID=America/Chicago:20231124T130000
DTEND;TZID=America/Chicago:20231124T160000
DTSTAMP:20260425T115604
CREATED:20231016T215517Z
LAST-MODIFIED:20231017T163850Z
UID:4476-1700830800-1700841600@askauntv.com
SUMMARY:SOLD OUT - Friend and Family Cooking Class
DESCRIPTION:Gather together with family and friends for a cooking class of your choice. Minimum six (6) guests. Children welcome. \n  \nChoose from \n\nHomemade pasta\nMexican Fiesta\nHomemade Pizza\nPierogi Polka Party\n….and many\, many more options….\n\nContact Ask Aunt V for special arrangements \n 
URL:https://askauntv.com/event/friend-and-family-cooking-class/
LOCATION:Ask Aunt V Cooking Class\, 222 South Main Street\, Naperville\, IL\, 60540\, United States
CATEGORIES:Group Classes,Premium Classes,Private Classes & Events
ATTACH;FMTTYPE=image/jpeg:https://askauntv.com/wp-content/uploads/2023/10/Around-the-Table.04.jpg
ORGANIZER;CN="Classes are held inside Liam Brex Design Showroom":MAILTO:askauntv@gmail.com
END:VEVENT
BEGIN:VEVENT
DTSTART;TZID=America/Chicago:20231111T180000
DTEND;TZID=America/Chicago:20231111T203000
DTSTAMP:20260425T115604
CREATED:20231016T194324Z
LAST-MODIFIED:20231031T161412Z
UID:4396-1699725600-1699734600@askauntv.com
SUMMARY:SOLD OUT - Holiday Salads and Sides
DESCRIPTION:Vegan/Vegetarian/Gluten-Free/Dairy-Free \n\nHarvest Salad\nRoasted Beet Salad\nLentil Salad\nRoasted Apple with Cinnamon and Pecans\n\nClick here to RSVP for Gift Certificates and Pre-Paid Guests
URL:https://askauntv.com/event/harvest-salads-and-sides/
LOCATION:Ask Aunt V Cooking Class\, 222 South Main Street\, Naperville\, IL\, 60540\, United States
CATEGORIES:Group Classes
ATTACH;FMTTYPE=image/jpeg:https://askauntv.com/wp-content/uploads/2021/08/vegetables-tomatoes-leek-1363033.jpg
ORGANIZER;CN="Classes are held inside Liam Brex Design Showroom":MAILTO:askauntv@gmail.com
END:VEVENT
BEGIN:VEVENT
DTSTART;TZID=America/Chicago:20231110T180000
DTEND;TZID=America/Chicago:20231110T203000
DTSTAMP:20260425T115604
CREATED:20210831T215718Z
LAST-MODIFIED:20231103T140600Z
UID:2176-1699639200-1699648200@askauntv.com
SUMMARY:SOLD OUT - Holiday Salads and Sides
DESCRIPTION:Vegan/Vegetarian/Gluten-Free/Dairy-Free \n\nHarvest Salad\nRoasted Beet Salad\nLentil Salad\nRoasted Apple with Cinnamon and Pecans\n\nClick here to RSVP for Gift Certificates and Pre-Paid Guests
URL:https://askauntv.com/event/harvest-full-meal-salads-vegetarian-vegan-group-2/
LOCATION:Ask Aunt V Cooking Class\, 222 South Main Street\, Naperville\, IL\, 60540\, United States
CATEGORIES:Group Classes
ATTACH;FMTTYPE=image/jpeg:https://askauntv.com/wp-content/uploads/2021/08/vegetables-tomatoes-leek-1363033.jpg
ORGANIZER;CN="Classes are held inside Liam Brex Design Showroom":MAILTO:askauntv@gmail.com
END:VEVENT
BEGIN:VEVENT
DTSTART;TZID=America/Chicago:20231109T180000
DTEND;TZID=America/Chicago:20231109T203000
DTSTAMP:20260425T115604
CREATED:20231017T164113Z
LAST-MODIFIED:20231017T164113Z
UID:4495-1699552800-1699561800@askauntv.com
SUMMARY:SOLD OUT - Holiday Salads and Sides
DESCRIPTION:Vegan/Vegetarian/Gluten-Free/Dairy-Free \n\nHarvest Salad\nRoasted Beet Salad\nLentil Salad\nRoasted Apple with Cinnamon and Pecans\n\nClick here to RSVP for Gift Certificates and Pre-Paid Guests
URL:https://askauntv.com/event/sold-out-holiday-salads-and-sides/
LOCATION:Ask Aunt V Cooking Class\, 222 South Main Street\, Naperville\, IL\, 60540\, United States
CATEGORIES:Group Classes
ATTACH;FMTTYPE=image/jpeg:https://askauntv.com/wp-content/uploads/2021/08/vegetables-tomatoes-leek-1363033.jpg
ORGANIZER;CN="Classes are held inside Liam Brex Design Showroom":MAILTO:askauntv@gmail.com
END:VEVENT
BEGIN:VEVENT
DTSTART;TZID=America/Chicago:20231023T190000
DTEND;TZID=America/Chicago:20231120T203000
DTSTAMP:20260425T115604
CREATED:20230814T223711Z
LAST-MODIFIED:20231017T182423Z
UID:4233-1698087600-1700512200@askauntv.com
SUMMARY:NUTRITIONAL FOUNDATION FOR HEALTH Series
DESCRIPTION:Enjoy Food\, Feel Good\, Live Well \nFood is good. Eating is fun. Food is the center of our lives. It should be an enjoyable experience\, one to be shared with others. Food brings friends and families together. Food is a reason for celebration\, it is a window into a culture\, it is a precious memory of generations past.  We love food! \nFood should taste good\, and it should make you feel good before\, during\, and after eating it. The food you eat should make your body strong\, your brain sharp\, and your taste buds happy. Proper food habits help you to reduce your risk of major health problems. The strategies for healthy eating are very basic but they need to be applied appropriately to be effective for your health. \nThe problem is that too many people are digging their grave (building disease) with their fork.  S.A.D. (Standard American Diet) but true.  Many of us are so busy or uncertain what to do\, that we don’t make eating healthy or taking care of ourselves a priority.  This is undeniably ruining our health\, which affects all aspects of our lives. \nTo be healthy\, one needs to understand why it is important to know where food comes from\, the impact of nutrition has on our health\, have a general knowledge of how the body works\, learn about the priority sequencing when it comes to creating health/disease and how to implement healthy eating habits. \nThe body has an intelligence and was designed for health; it doesn’t need to be outsmarted.  Well-being is the body’s natural state.   The question is… does your diet and lifestyle support health or support disease?  There is a cause-and-effect relationship in the body and both health and disease need to be built.  If you want to learn more about food and cooking\, deepen your understanding of how the body works and become more confident to implement healthier habits\, then register now. \nIn this series we will celebrate the act of eating in the hope that it brings joy and good health to your life. \nWeek 1 – The Big Picture – How and where your food is grown matters.\nWeek 2 – Dietary Trauma\nWeek 3 – Diet & Digestion\nWeek 4 – Cooking and the Body \nIncluded is a FREE Health Screening ($175 value) and up to four (4) FREE two-hour pre-scheduled cooking classes ($240 value). \nThis series is instructional and not advisory.
URL:https://askauntv.com/event/nutritional-foundation-for-health-series/
LOCATION:Nichols Libray\, 200 West Jefferson Avenue\, Naperville\, IL\, 60540\, United States
CATEGORIES:Private Classes & Events
ATTACH;FMTTYPE=image/jpeg:https://askauntv.com/wp-content/uploads/2022/06/fruit-vegetables-market-1626857.jpg
ORGANIZER;CN="Ask Aunt V":MAILTO:askauntv@gmail.com
END:VEVENT
BEGIN:VEVENT
DTSTART;TZID=America/Chicago:20231005T180000
DTEND;TZID=America/Chicago:20231005T210000
DTSTAMP:20260425T115604
CREATED:20230826T180201Z
LAST-MODIFIED:20230914T161951Z
UID:4331-1696528800-1696539600@askauntv.com
SUMMARY:SOLD OUT - Valencia by the Sea - Spanish Paella and Tapas
DESCRIPTION:Spanish Paella – Valencia\nSpanish Garlic Mushrooms\nProsciutto and Manchego Tapas\nGrilled Peach With Balsamic and Blue Cheese\n\n  \nClick Here to RSVP for Gift Certificates and Pre-Paid Guests
URL:https://askauntv.com/event/valencia-by-the-sea-spanish-paella-and-tapas/
LOCATION:Ask Aunt V Cooking Class\, 222 South Main Street\, Naperville\, IL\, 60540\, United States
CATEGORIES:Group Classes
ATTACH;FMTTYPE=image/jpeg:https://askauntv.com/wp-content/uploads/2022/05/paella-lena-mixed-1167973.jpg
ORGANIZER;CN="Classes are held inside Liam Brex Design Showroom":MAILTO:askauntv@gmail.com
END:VEVENT
BEGIN:VEVENT
DTSTART;TZID=America/Chicago:20230928T180000
DTEND;TZID=America/Chicago:20230928T210000
DTSTAMP:20260425T115604
CREATED:20230826T175254Z
LAST-MODIFIED:20230911T173556Z
UID:4320-1695924000-1695934800@askauntv.com
SUMMARY:SOLD OUT - Italian Pasta Master Class
DESCRIPTION:Homemade Pasta\nHomemade Alfredo Sauce\nMediterranean Salad with Italian Vinaigrette\nBruschetta\nStrawberry Gelato\n\nClick here to RSVP for Gift Certificates and Pre-Paid Classes
URL:https://askauntv.com/event/italian-pasta-master-class/
LOCATION:Ask Aunt V Cooking Class\, 222 South Main Street\, Naperville\, IL\, 60540\, United States
CATEGORIES:Group Classes
ATTACH;FMTTYPE=image/jpeg:https://askauntv.com/wp-content/uploads/2022/11/pasta-making-pasta-food-1051611.jpg
ORGANIZER;CN="Classes are held inside Liam Brex Design Showroom":MAILTO:askauntv@gmail.com
END:VEVENT
BEGIN:VEVENT
DTSTART;TZID=America/Chicago:20230921T180000
DTEND;TZID=America/Chicago:20230921T210000
DTSTAMP:20260425T115604
CREATED:20220305T202322Z
LAST-MODIFIED:20231016T214410Z
UID:2919-1695319200-1695330000@askauntv.com
SUMMARY:SOLD OUT - Eastern Mediterranean Cuisine
DESCRIPTION:Homemade Falafel and freshly made Pita Bread\nHomemade Tabbouleh\nSweet Pepper Hummus and Pita Chips\nPistchio Sorbet\n\nClick Here to RSVP for Gift Certificates and Pre-Paid Guests
URL:https://askauntv.com/event/middle-eastern-cuisine-vegatarian/
LOCATION:Ask Aunt V Cooking Class\, 222 South Main Street\, Naperville\, IL\, 60540\, United States
CATEGORIES:Group Classes,Premium Classes
ATTACH;FMTTYPE=image/jpeg:https://askauntv.com/wp-content/uploads/2022/09/doner-meatless-vegetarian-2335784.jpg
ORGANIZER;CN="Classes are held inside Liam Brex Design Showroom":MAILTO:askauntv@gmail.com
END:VEVENT
BEGIN:VEVENT
DTSTART;TZID=America/Chicago:20230914T180000
DTEND;TZID=America/Chicago:20230914T210000
DTSTAMP:20260425T115604
CREATED:20220728T164623Z
LAST-MODIFIED:20230914T164327Z
UID:3242-1694714400-1694725200@askauntv.com
SUMMARY:SOLD OUT - Hispanic Heritage Festival - Empanadas
DESCRIPTION:Homemade Empanadas with chicken\, cheese (vegetarian)\, and black bean (vegan)\, fillings\nQueso Dip\nMexican Street Corn Salad\n\n  \nClick HERE to RSVP for Gift Certificate or Pre-Paid Class
URL:https://askauntv.com/event/hispanic-heritage-festival/
LOCATION:Ask Aunt V Cooking Class\, 222 South Main Street\, Naperville\, IL\, 60540\, United States
CATEGORIES:Group Classes
ATTACH;FMTTYPE=image/jpeg:https://askauntv.com/wp-content/uploads/2022/07/empanada-dumpling-food-592273.jpg
ORGANIZER;CN="Classes are held inside Liam Brex Design Showroom":MAILTO:askauntv@gmail.com
END:VEVENT
BEGIN:VEVENT
DTSTART;TZID=America/Chicago:20230901T180000
DTEND;TZID=America/Chicago:20230901T210000
DTSTAMP:20260425T115604
CREATED:20230614T222849Z
LAST-MODIFIED:20230814T181339Z
UID:4164-1693591200-1693602000@askauntv.com
SUMMARY:Scallops by the Sea
DESCRIPTION:Scallops in Brown Butter\nCreamy Risotto\nSummertime Green Beans\n\nClick HERE to RSVP for Gift Certificates . This is a Premium Class.
URL:https://askauntv.com/event/sold-out-scallops-with-cilantro-lime-sauce/
LOCATION:Ask Aunt V Cooking Class\, 222 South Main Street\, Naperville\, IL\, 60540\, United States
CATEGORIES:Group Classes
ATTACH;FMTTYPE=image/jpeg:https://askauntv.com/wp-content/uploads/2021/06/scallops-food-seafood-4709349.jpg
ORGANIZER;CN="Classes are held inside Liam Brex Design Showroom":MAILTO:askauntv@gmail.com
END:VEVENT
BEGIN:VEVENT
DTSTART;TZID=America/Chicago:20230825T180000
DTEND;TZID=America/Chicago:20230825T210000
DTSTAMP:20260425T115604
CREATED:20220606T214337Z
LAST-MODIFIED:20230728T212310Z
UID:3249-1692986400-1692997200@askauntv.com
SUMMARY:SOLD OUT - Wok on the Grill
DESCRIPTION:Vegetarian\, Gluten-Free\, Dairy-Free \n\nThai Zoodle Salad\nAsian Summer Rolls\nPineapple Fried Rice\n\nClick HERE to RSVP for Gift Certificate or Pre-Paid Class
URL:https://askauntv.com/event/wok-on-the-grill-2/
LOCATION:Ask Aunt V Cooking Class\, 222 South Main Street\, Naperville\, IL\, 60540\, United States
CATEGORIES:Group Classes
ATTACH;FMTTYPE=image/jpeg:https://askauntv.com/wp-content/uploads/2022/06/food-dishes-restaurant-1050813.jpg
ORGANIZER;CN="Classes are held inside Liam Brex Design Showroom":MAILTO:askauntv@gmail.com
END:VEVENT
BEGIN:VEVENT
DTSTART;TZID=America/Chicago:20230818T180000
DTEND;TZID=America/Chicago:20230818T210000
DTSTAMP:20260425T115604
CREATED:20220606T201144Z
LAST-MODIFIED:20230814T181456Z
UID:3196-1692381600-1692392400@askauntv.com
SUMMARY:Simply Summer
DESCRIPTION:Chicken Kabobs\nBerry Salad\nProsciutto di Parma\nStrawberry Sorbet\n\n  \nClick HERE to RSVP for Gift Certificate or Pre-Paid Class
URL:https://askauntv.com/event/simply-summer/
LOCATION:Ask Aunt V Cooking Class\, 222 South Main Street\, Naperville\, IL\, 60540\, United States
CATEGORIES:Group Classes
ATTACH;FMTTYPE=image/jpeg:https://askauntv.com/wp-content/uploads/2022/05/20190427_170511-scaled.jpg
ORGANIZER;CN="Classes are held inside Liam Brex Design Showroom":MAILTO:askauntv@gmail.com
END:VEVENT
BEGIN:VEVENT
DTSTART;TZID=America/Chicago:20230812T120000
DTEND;TZID=America/Chicago:20230812T133000
DTSTAMP:20260425T115604
CREATED:20230419T174722Z
LAST-MODIFIED:20230419T174910Z
UID:4025-1691841600-1691847000@askauntv.com
SUMMARY:Cookies and Ice Cream
DESCRIPTION:Chocolate Chip Cookies\nEdible Cookie Dough\nIce Cream Cookies Sandwich\n\nClick HERE for Gift Certificates and Pre-Paid Tickets
URL:https://askauntv.com/event/cookies-and-ice-cream/
LOCATION:Ask Aunt V Cooking Class\, 222 South Main Street\, Naperville\, IL\, 60540\, United States
CATEGORIES:Children,Teens,Tweens
ATTACH;FMTTYPE=image/jpeg:https://askauntv.com/wp-content/uploads/2023/04/cookies-chocolate-chip-cookies-stack-of-cookies-1264263.jpg
ORGANIZER;CN="Classes are held inside Liam Brex Design Showroom":MAILTO:askauntv@gmail.com
END:VEVENT
BEGIN:VEVENT
DTSTART;TZID=America/Chicago:20230811T180000
DTEND;TZID=America/Chicago:20230811T210000
DTSTAMP:20260425T115604
CREATED:20230614T215020Z
LAST-MODIFIED:20230720T171641Z
UID:4146-1691776800-1691787600@askauntv.com
SUMMARY:Summer Ravioli
DESCRIPTION:Leek and Cremini Ravioli\nRed and Yellow Tomato Concassé\nSauteed Swiss Chard\n\nClick HERE to RSVP for Gift Certificates and Pre-Paid Guests
URL:https://askauntv.com/event/summer-ravioli/
LOCATION:Ask Aunt V Cooking Class\, 222 South Main Street\, Naperville\, IL\, 60540\, United States
CATEGORIES:Group Classes
ATTACH;FMTTYPE=image/jpeg:https://askauntv.com/wp-content/uploads/2021/02/ravioli-pasta-stuffed-pasta-2063535.jpg
ORGANIZER;CN="Classes are held inside Liam Brex Design Showroom":MAILTO:askauntv@gmail.com
END:VEVENT
BEGIN:VEVENT
DTSTART;TZID=America/Chicago:20230729T120000
DTEND;TZID=America/Chicago:20230729T133000
DTSTAMP:20260425T115604
CREATED:20230419T173500Z
LAST-MODIFIED:20230720T171412Z
UID:4019-1690632000-1690637400@askauntv.com
SUMMARY:SOLD OUT - Take Me Out to the Ball Game
DESCRIPTION:Summertime Favorites \n\nBurgers\nHot Dogs\nPopcorn\nChips and Dips\n\nClick HERE for Gift Certificates and Pre-Paid Tickets
URL:https://askauntv.com/event/take-me-out-to-the-ball-game/
LOCATION:Ask Aunt V Cooking Class\, 222 South Main Street\, Naperville\, IL\, 60540\, United States
CATEGORIES:Children,Teens,Tweens
ATTACH;FMTTYPE=image/png:https://askauntv.com/wp-content/uploads/2023/04/sausage-hot-dog-food-6707883.png
ORGANIZER;CN="Classes are held inside Liam Brex Design Showroom":MAILTO:askauntv@gmail.com
END:VEVENT
BEGIN:VEVENT
DTSTART;TZID=America/Chicago:20230728T180000
DTEND;TZID=America/Chicago:20230728T210000
DTSTAMP:20260425T115604
CREATED:20230614T223612Z
LAST-MODIFIED:20230620T220711Z
UID:4167-1690567200-1690578000@askauntv.com
SUMMARY:Thai Summer
DESCRIPTION:Thai Chicken Coconut Soup\nSpicy Asian Chicken Lettuce Cups\nCrunch Thai Cucumber Salad\n\nClick HERE to RSVP for Gift Certificates and Pre-Paid Guests
URL:https://askauntv.com/event/thai-summer/
LOCATION:Ask Aunt V Cooking Class\, 222 South Main Street\, Naperville\, IL\, 60540\, United States
CATEGORIES:Group Classes
ATTACH;FMTTYPE=image/jpeg:https://askauntv.com/wp-content/uploads/2020/12/Chicken-Salad-Wraps.jpg
ORGANIZER;CN="Classes are held inside Liam Brex Design Showroom":MAILTO:askauntv@gmail.com
END:VEVENT
BEGIN:VEVENT
DTSTART;TZID=America/Chicago:20230722T180000
DTEND;TZID=America/Chicago:20230722T210000
DTSTAMP:20260425T115604
CREATED:20230614T220855Z
LAST-MODIFIED:20230720T171335Z
UID:4155-1690048800-1690059600@askauntv.com
SUMMARY:SOLD OUT - Cajun Shrimp with Grits and Coleslaw
DESCRIPTION:Cajun Shrimp\nHomemade Grits\nHomemade Coleslaw\n\nClick HERE to RSVP for Gift Certificates and Pre-Paid Guests
URL:https://askauntv.com/event/cajun-shrimp-with-grits-and-coleslaw/
LOCATION:Ask Aunt V Cooking Class\, 222 South Main Street\, Naperville\, IL\, 60540\, United States
CATEGORIES:Group Classes
ATTACH;FMTTYPE=image/jpeg:https://askauntv.com/wp-content/uploads/2022/06/grilled-shrimp-prawn-1238668.jpg
ORGANIZER;CN="Classes are held inside Liam Brex Design Showroom":MAILTO:askauntv@gmail.com
END:VEVENT
BEGIN:VEVENT
DTSTART;TZID=America/Chicago:20230715T120000
DTEND;TZID=America/Chicago:20230715T133000
DTSTAMP:20260425T115604
CREATED:20230419T173959Z
LAST-MODIFIED:20230419T175053Z
UID:4022-1689422400-1689427800@askauntv.com
SUMMARY:Ding Ding Chicken Wings
DESCRIPTION:Summertime Favorites \n\nChicken Wings\nChicken Nuggets\nFrench Fries\nSweet Potato Fries\n\nClick HERE for Gift Certificates and Pre-Paid Tickets
URL:https://askauntv.com/event/ding-ding-chicken-wings/
LOCATION:Ask Aunt V Cooking Class\, 222 South Main Street\, Naperville\, IL\, 60540\, United States
CATEGORIES:Children,Teens,Tweens
ATTACH;FMTTYPE=image/jpeg:https://askauntv.com/wp-content/uploads/2023/04/chicken-wing-chicken-wings-1559579.jpg
ORGANIZER;CN="Classes are held inside Liam Brex Design Showroom":MAILTO:askauntv@gmail.com
END:VEVENT
BEGIN:VEVENT
DTSTART;TZID=America/Chicago:20230624T120000
DTEND;TZID=America/Chicago:20230624T133000
DTSTAMP:20260425T115604
CREATED:20230419T172822Z
LAST-MODIFIED:20230517T160409Z
UID:4017-1687608000-1687613400@askauntv.com
SUMMARY:SOLD OUT - Chinese Take Out Food
DESCRIPTION:All your favorite take out foods \n\nFried Rice\nChicken Wraps\nOrange Chicken\n\nClick HERE for Gift Certificates and Pre-Paid Tickets
URL:https://askauntv.com/event/chinese-take-out-food/
LOCATION:Ask Aunt V Cooking Class\, 222 South Main Street\, Naperville\, IL\, 60540\, United States
CATEGORIES:Children,Teens,Tweens
ATTACH;FMTTYPE=image/jpeg:https://askauntv.com/wp-content/uploads/2020/12/Chicken-Salad-Wraps.jpg
ORGANIZER;CN="Classes are held inside Liam Brex Design Showroom":MAILTO:askauntv@gmail.com
END:VEVENT
BEGIN:VEVENT
DTSTART;TZID=America/Chicago:20230617T080000
DTEND;TZID=America/Chicago:20230617T170000
DTSTAMP:20260425T115604
CREATED:20230522T215932Z
LAST-MODIFIED:20230609T211847Z
UID:4098-1686988800-1687021200@askauntv.com
SUMMARY:SOLD OUT - Grilling Like a Pit Master
DESCRIPTION:Recipes from the legendary pitmaster Rodney Scott \n\nPrime Rib Steak Sandwich with Caramelized Onions\nGrilled Vegetable Salad\nColeslaw\n\nClick here to RSVP or Upgrade to Premium Class
URL:https://askauntv.com/event/grilling-like-a-pit-master/
LOCATION:Ask Aunt V Cooking Class\, 222 South Main Street\, Naperville\, IL\, 60540\, United States
CATEGORIES:Group Classes
ATTACH;FMTTYPE=image/jpeg:https://askauntv.com/wp-content/uploads/2023/05/barbecue-barbeque-bbq-1239434.jpg
ORGANIZER;CN="Classes are held inside Liam Brex Design Showroom":MAILTO:askauntv@gmail.com
END:VEVENT
BEGIN:VEVENT
DTSTART;TZID=America/Chicago:20230615T080000
DTEND;TZID=America/Chicago:20230615T170000
DTSTAMP:20260425T115604
CREATED:20230522T220952Z
LAST-MODIFIED:20230523T201130Z
UID:4104-1686816000-1686848400@askauntv.com
SUMMARY:Citrus Grilled Fish Tacos
DESCRIPTION:Grilled Fish Tacos\nHomemade Tortillas\nCitrusy Dressing and Toppings\n\nClick here to RSVP or pre-paid tickets
URL:https://askauntv.com/event/citrusy-grilled-fish-tacos/
LOCATION:Ask Aunt V Cooking Class\, 222 South Main Street\, Naperville\, IL\, 60540\, United States
CATEGORIES:Group Classes
ATTACH;FMTTYPE=image/jpeg:https://askauntv.com/wp-content/uploads/2023/05/taco-snack-kitchen-2152097.jpg
ORGANIZER;CN="Classes are held inside Liam Brex Design Showroom":MAILTO:askauntv@gmail.com
END:VEVENT
BEGIN:VEVENT
DTSTART;TZID=America/Chicago:20230610T080000
DTEND;TZID=America/Chicago:20230610T170000
DTSTAMP:20260425T115604
CREATED:20230522T214357Z
LAST-MODIFIED:20230522T214357Z
UID:4093-1686384000-1686416400@askauntv.com
SUMMARY:Grilled Chicken and Mango Salad
DESCRIPTION:Grilled Chicken\nMango Salad\nCrunchy vegetables\n\nClick here to RSVP for pre-paid guests
URL:https://askauntv.com/event/grilled-chicken-and-mango-salad/
LOCATION:IL
CATEGORIES:Group Classes
ATTACH;FMTTYPE=image/jpeg:https://askauntv.com/wp-content/uploads/2023/05/food-health-rice-4509962.jpg
END:VEVENT
BEGIN:VEVENT
DTSTART;TZID=America/Chicago:20230609T180000
DTEND;TZID=America/Chicago:20230609T210000
DTSTAMP:20260425T115604
CREATED:20210215T183431Z
LAST-MODIFIED:20230523T201222Z
UID:1404-1686333600-1686344400@askauntv.com
SUMMARY:Greek Islands
DESCRIPTION:Chicken Gyros\nHomemade Tzatziki\nRoasted Greek Potatoes\n\nClick here to RSVP for Gift Certificates and Pre-Paid Guests
URL:https://askauntv.com/event/its-greek-to-me-4/
LOCATION:Ask Aunt V Cooking Class\, 222 South Main Street\, Naperville\, IL\, 60540\, United States
CATEGORIES:Group Classes
ATTACH;FMTTYPE=image/jpeg:https://askauntv.com/wp-content/uploads/2023/05/gyros-greek-food-meal-1222616.jpg
ORGANIZER;CN="Classes are held inside Liam Brex Design Showroom":MAILTO:askauntv@gmail.com
END:VEVENT
BEGIN:VEVENT
DTSTART;TZID=America/Chicago:20230603T093000
DTEND;TZID=America/Chicago:20230603T103000
DTSTAMP:20260425T115604
CREATED:20220525T194200Z
LAST-MODIFIED:20230516T155600Z
UID:3153-1685784600-1685788200@askauntv.com
SUMMARY:Miniature Fairy Gardens
DESCRIPTION:“All you need is Faith\, Trust…..and a little Pixie Dust.” \nA Whimsical Visit to Fairyland. Fun for all Ages. Create your own fairy garden and unleash your imagination into the magical\, whimsical\, world of miniature gardens. All supplies are included for the basic layout of the garden. You will be instructed how to design the layout of the garden\, select accessories from the collection of fences\, birdhouse\, cottages\, and pathways\, then choose plants. You will leave with a completed Magical\, Enchanting Fairy Garden. \nOne ticket for each 4 Inch Fairy Garden. You can work together for one Fairy Garden (one ticket)\, or each have your own (a ticket for each fairy garden). \nClick HERE to learn more or contact Ask Aunt V
URL:https://askauntv.com/event/fairy-gardens-a-whimsical-evening-in-fairyland/
LOCATION:Ask Aunt V Garden Class
CATEGORIES:Children,Garden Group Class,Gardening,Junior Chef,Mommy and Me
ATTACH;FMTTYPE=image/jpeg:https://askauntv.com/wp-content/uploads/2021/07/fairy-garden.04.jpg
ORGANIZER;CN="Classes are held inside Liam Brex Design Showroom":MAILTO:askauntv@gmail.com
END:VEVENT
BEGIN:VEVENT
DTSTART;TZID=America/Chicago:20230602T180000
DTEND;TZID=America/Chicago:20230602T210000
DTSTAMP:20260425T115604
CREATED:20230522T212233Z
LAST-MODIFIED:20230523T201103Z
UID:4088-1685728800-1685739600@askauntv.com
SUMMARY:Patio Party Favorites
DESCRIPTION:Chicken Kabobs\nWatermelon and Cucumber Salsa\nSummer Hummus and Dips\n\nClick here to RSVP for Gift Certificates and Pre-Paid Guests
URL:https://askauntv.com/event/greek-islands/
LOCATION:Ask Aunt V Cooking Class\, 222 South Main Street\, Naperville\, IL\, 60540\, United States
CATEGORIES:Group Classes
ATTACH;FMTTYPE=image/jpeg:https://askauntv.com/wp-content/uploads/2023/05/table-hotel-wine-4656327.jpg
ORGANIZER;CN="Classes are held inside Liam Brex Design Showroom":MAILTO:askauntv@gmail.com
END:VEVENT
BEGIN:VEVENT
DTSTART;TZID=America/Chicago:20230601T180000
DTEND;TZID=America/Chicago:20230601T210000
DTSTAMP:20260425T115604
CREATED:20230208T161401Z
LAST-MODIFIED:20230522T212359Z
UID:3827-1685642400-1685653200@askauntv.com
SUMMARY:Mediterranean Street Food
DESCRIPTION:Chicken Shawarma\nRed Pepper Hummus\nCucumber Salad\n\nClick here to RSVP for pre-paid guests
URL:https://askauntv.com/event/its-greek-to-me-6/
LOCATION:Ask Aunt V Cooking Class\, 222 South Main Street\, Naperville\, IL\, 60540\, United States
CATEGORIES:Group Classes
ATTACH;FMTTYPE=image/jpeg:https://askauntv.com/wp-content/uploads/2022/07/india-indian-indian-food-1481504.jpg
ORGANIZER;CN="Classes are held inside Liam Brex Design Showroom":MAILTO:askauntv@gmail.com
END:VEVENT
END:VCALENDAR