BEGIN:VCALENDAR
VERSION:2.0
PRODID:-//Ask Aunt V - ECPv6.9.0//NONSGML v1.0//EN
CALSCALE:GREGORIAN
METHOD:PUBLISH
X-WR-CALNAME:Ask Aunt V
X-ORIGINAL-URL:https://askauntv.com
X-WR-CALDESC:Events for Ask Aunt V
REFRESH-INTERVAL;VALUE=DURATION:PT1H
X-Robots-Tag:noindex
X-PUBLISHED-TTL:PT1H
BEGIN:VTIMEZONE
TZID:America/Chicago
BEGIN:DAYLIGHT
TZOFFSETFROM:-0600
TZOFFSETTO:-0500
TZNAME:CDT
DTSTART:20240310T080000
END:DAYLIGHT
BEGIN:STANDARD
TZOFFSETFROM:-0500
TZOFFSETTO:-0600
TZNAME:CST
DTSTART:20241103T070000
END:STANDARD
BEGIN:DAYLIGHT
TZOFFSETFROM:-0600
TZOFFSETTO:-0500
TZNAME:CDT
DTSTART:20250309T080000
END:DAYLIGHT
BEGIN:STANDARD
TZOFFSETFROM:-0500
TZOFFSETTO:-0600
TZNAME:CST
DTSTART:20251102T070000
END:STANDARD
END:VTIMEZONE
BEGIN:VEVENT
DTSTART;TZID=America/Chicago:20240622T180000
DTEND;TZID=America/Chicago:20240622T210000
DTSTAMP:20260423T174951
CREATED:20240424T204814Z
LAST-MODIFIED:20240424T204814Z
UID:4808-1719079200-1719090000@askauntv.com
SUMMARY:Summer Fresh
DESCRIPTION:Mango Chicken Curry\nCoconut Rice\nChicken Coconut Soup\nSummer Salad with Balsamic Vinaigrette\n\n  \nClick HERE for Gift Certificates and Pre-Paid Tickets
URL:https://askauntv.com/event/summer-fresh/
LOCATION:Ask Aunt V Cooking Class\, 222 South Main Street\, Naperville\, IL\, 60540\, United States
CATEGORIES:Group Classes,Teens,Tweens
ATTACH;FMTTYPE=image/jpeg:https://askauntv.com/wp-content/uploads/2024/04/food-health-rice-4509962.jpg
ORGANIZER;CN="Classes are held inside Liam Brex Design Showroom":MAILTO:askauntv@gmail.com
END:VEVENT
BEGIN:VEVENT
DTSTART;TZID=America/Chicago:20240622T113000
DTEND;TZID=America/Chicago:20240622T123000
DTSTAMP:20260423T174951
CREATED:20231111T182407Z
LAST-MODIFIED:20240515T015001Z
UID:4521-1719055800-1719059400@askauntv.com
SUMMARY:Junior Chef Let's Make Breakfast
DESCRIPTION:Junior Chef (6 years to 11 years old) \n\nFrench Toast with fresh fruits\, real maple syrup\, and/or homemade jellies and jams\nBanana Split Breakfast Parfait\n\nClick Here to RSVP for Gift Certificates and Pre-Paid Guests
URL:https://askauntv.com/event/junior-chef-lets-make-breakfast/
LOCATION:Ask Aunt V Cooking Class\, 222 South Main Street\, Naperville\, IL\, 60540\, United States
CATEGORIES:Children,Junior Chef
ATTACH;FMTTYPE=image/jpeg:https://askauntv.com/wp-content/uploads/2023/11/breakfast-french-toast-morning-3483644.jpg
ORGANIZER;CN="Classes are held inside Liam Brex Design Showroom":MAILTO:askauntv@gmail.com
END:VEVENT
BEGIN:VEVENT
DTSTART;TZID=America/Chicago:20240622T093000
DTEND;TZID=America/Chicago:20240622T103000
DTSTAMP:20260423T174951
CREATED:20231111T181719Z
LAST-MODIFIED:20240524T002110Z
UID:4515-1719048600-1719052200@askauntv.com
SUMMARY:"Mommy and Me" Let's Make Breakfast
DESCRIPTION:Mommy and Me – 2 years and up to 5 years \nDaddy\, Grandma\, Grandpa too! Make Breakfast together. Measuring\, Cooking\, and Having Fun \n\nFrench Toast with fresh fruits\, real maple syrup\, and/or homemade jellies and jams\nBanana Split Breakfast Parfait\n\nEach ticket is for one (1) workstation. You will make your own breakfast together and enjoy them right away or take them home with you. \nEach station has \n\n1 set of equipment\n1 set of ingredients\n\nClick Here to RSVP for Gift Certificates and Pre-Paid Guests
URL:https://askauntv.com/event/mommy-and-me-lets-make-breakfast/
LOCATION:Ask Aunt V Cooking Class\, 222 South Main Street\, Naperville\, IL\, 60540\, United States
CATEGORIES:Children,Mommy and Me
ATTACH;FMTTYPE=image/jpeg:https://askauntv.com/wp-content/uploads/2023/11/breakfast-french-toast-morning-3483644.jpg
ORGANIZER;CN="Classes are held inside Liam Brex Design Showroom":MAILTO:askauntv@gmail.com
END:VEVENT
BEGIN:VEVENT
DTSTART;TZID=America/Chicago:20240607T180000
DTEND;TZID=America/Chicago:20240607T210000
DTSTAMP:20260423T174951
CREATED:20220201T220559Z
LAST-MODIFIED:20240424T000746Z
UID:2802-1717783200-1717794000@askauntv.com
SUMMARY:SOLD OUT - Thai Kitchen
DESCRIPTION:Pad Thai – chicken\, shrimp\, tofu\nAuthentic Pad Thai Tamarind Sauce\, Phrik Phon Khua\, Phrik Naam Som\nThai Coconut Chicken Soup {Tom Kha Gai)\n\nClick HERE to RSVP for Gift Certificates and Pre-Paid Guests
URL:https://askauntv.com/event/thai-kitchen-4/
LOCATION:Ask Aunt V Cooking Class\, 222 South Main Street\, Naperville\, IL\, 60540\, United States
CATEGORIES:Group Classes
ATTACH;FMTTYPE=image/jpeg:https://askauntv.com/wp-content/uploads/2021/11/pad-thai-pad-thai-prawn-thai-food-4705276.jpg
ORGANIZER;CN="Classes are held inside Liam Brex Design Showroom":MAILTO:askauntv@gmail.com
END:VEVENT
BEGIN:VEVENT
DTSTART;TZID=America/Chicago:20240601T103000
DTEND;TZID=America/Chicago:20240601T123000
DTSTAMP:20260423T174951
CREATED:20230614T220005Z
LAST-MODIFIED:20240424T001921Z
UID:4150-1717237800-1717245000@askauntv.com
SUMMARY:SOLD OUT - Jams\, Jellies\, and Preserves
DESCRIPTION:Peach with Lemon Verbena and Champagne\nStrawberry with Pistachio & Vanilla\nRainer Cherry Preserves with Vanilla and Kirsch\n\nClick HERE to RSVP for Gift Certificates and Pre-Paid Guests
URL:https://askauntv.com/event/sold-out-jams-jellies-and-preserves/
LOCATION:Ask Aunt V Cooking Class\, 222 South Main Street\, Naperville\, IL\, 60540\, United States
CATEGORIES:Group Classes
ATTACH;FMTTYPE=image/jpeg:https://askauntv.com/wp-content/uploads/2023/06/jelly.jpg
ORGANIZER;CN="Classes are held inside Liam Brex Design Showroom":MAILTO:askauntv@gmail.com
END:VEVENT
BEGIN:VEVENT
DTSTART;TZID=America/Chicago:20240518T180000
DTEND;TZID=America/Chicago:20240518T210000
DTSTAMP:20260423T174951
CREATED:20230320T160838Z
LAST-MODIFIED:20240424T000218Z
UID:3888-1716055200-1716066000@askauntv.com
SUMMARY:SOLD OUT - Red Thai Curry
DESCRIPTION:Red Thai Curry\nPineapple Fried Rice\nThai Salad\n\nClick HERE to RSVP for Gift Certificates and Pre-Paid Guests
URL:https://askauntv.com/event/thai-kitchen-5/
LOCATION:Ask Aunt V Cooking Class\, 222 South Main Street\, Naperville\, IL\, 60540\, United States
CATEGORIES:Group Classes
ATTACH;FMTTYPE=image/jpeg:https://askauntv.com/wp-content/uploads/2020/10/food-spice-hot-3263515.jpg
ORGANIZER;CN="Classes are held inside Liam Brex Design Showroom":MAILTO:askauntv@gmail.com
END:VEVENT
BEGIN:VEVENT
DTSTART;TZID=America/Chicago:20240510T180000
DTEND;TZID=America/Chicago:20240510T210000
DTSTAMP:20260423T174951
CREATED:20220412T174302Z
LAST-MODIFIED:20240408T154645Z
UID:2999-1715364000-1715374800@askauntv.com
SUMMARY:SOLD OUT - Pasta Primavera for Spring
DESCRIPTION:Homemade Pasta Primavera\nCream of Asparagus and Artichoke Soup\nGarden Fresh Spring Salad\n\nClick here to RSVP for Gift Certificates and Pre-Paid Classes \n  \n 
URL:https://askauntv.com/event/primavera-says-spring/
LOCATION:Ask Aunt V Cooking Class\, 222 South Main Street\, Naperville\, IL\, 60540\, United States
CATEGORIES:Group Classes
ATTACH;FMTTYPE=image/jpeg:https://askauntv.com/wp-content/uploads/2022/04/pasta-italy-power-2351218.jpg
ORGANIZER;CN="Classes are held inside Liam Brex Design Showroom":MAILTO:askauntv@gmail.com
END:VEVENT
BEGIN:VEVENT
DTSTART;TZID=America/Chicago:20240504T110000
DTEND;TZID=America/Chicago:20240504T123000
DTSTAMP:20260423T174951
CREATED:20240328T194054Z
LAST-MODIFIED:20240328T194054Z
UID:4772-1714820400-1714825800@askauntv.com
SUMMARY:SOLD OUT - Junior Chef Mexican Fiesta
DESCRIPTION:Junior Chef (6 years to 11 years old) \n\nHomemade Corn Tortillas\nCheese Quesadillas\nSalsa and Pico de Gallo\n\nClick Here to RSVP for Gift Certificates and Pre-Paid Guests
URL:https://askauntv.com/event/sold-out-junior-chef-mexican-fiesta/
LOCATION:Ask Aunt V Cooking Class\, 222 South Main Street\, Naperville\, IL\, 60540\, United States
CATEGORIES:Children,Junior Chef
ATTACH;FMTTYPE=image/jpeg:https://askauntv.com/wp-content/uploads/2024/03/tacos-mexico-food-8176774.jpg
ORGANIZER;CN="Classes are held inside Liam Brex Design Showroom":MAILTO:askauntv@gmail.com
END:VEVENT
BEGIN:VEVENT
DTSTART;TZID=America/Chicago:20240504T093000
DTEND;TZID=America/Chicago:20240504T103000
DTSTAMP:20260423T174951
CREATED:20240328T194301Z
LAST-MODIFIED:20240328T194313Z
UID:4777-1714815000-1714818600@askauntv.com
SUMMARY:SOLD OUT - "Mommy and Me" Mexican Fiesta
DESCRIPTION:Mommy and Me – 2 years and up to 5 years \nDaddy\, Grandma\, Grandpa too! Make Pasta together. Measuring\, Cooking\, and Having Fun \n\nCheese Quesadillas\nHomemade Corn Tortillas\nSalso and snacks\n\nEach ticket is for one (1) workstation. You will make your own pasta together and enjoy them right away or take them home with you. \nEach station has \n\n1 set of equipment\n1 set of ingredients\n\nClick Here to RSVP for Gift Certificates and Pre-Paid Guests
URL:https://askauntv.com/event/sold-out-mommy-and-me-mexican-fiesta/
LOCATION:Ask Aunt V Cooking Class\, 222 South Main Street\, Naperville\, IL\, 60540\, United States
CATEGORIES:Children,Mommy and Me
ATTACH;FMTTYPE=image/jpeg:https://askauntv.com/wp-content/uploads/2024/03/tacos-mexico-food-8176774.jpg
ORGANIZER;CN="Classes are held inside Liam Brex Design Showroom":MAILTO:askauntv@gmail.com
END:VEVENT
BEGIN:VEVENT
DTSTART;TZID=America/Chicago:20240503T180000
DTEND;TZID=America/Chicago:20240503T210000
DTSTAMP:20260423T174951
CREATED:20230413T171410Z
LAST-MODIFIED:20240423T213202Z
UID:3977-1714759200-1714770000@askauntv.com
SUMMARY:SOLD OUT - Springtime Vegetables
DESCRIPTION:Asparagus Artichoke Soup\nAsparagus Au Gratin Tarte\nFresh Spring Vegetable Medley\n\nVegetarian \nClick here to RSVP for Gift Certificates and Pre-Paid Guests
URL:https://askauntv.com/event/springtime-vegetables/
LOCATION:Ask Aunt V Cooking Class\, 222 South Main Street\, Naperville\, IL\, 60540\, United States
CATEGORIES:Group Classes
ATTACH;FMTTYPE=image/jpeg:https://askauntv.com/wp-content/uploads/2020/12/sprouts-greens-growing-763457.jpg
ORGANIZER;CN="Classes are held inside Liam Brex Design Showroom":MAILTO:askauntv@gmail.com
END:VEVENT
BEGIN:VEVENT
DTSTART;TZID=America/Chicago:20240427T180000
DTEND;TZID=America/Chicago:20240427T210000
DTSTAMP:20260423T174951
CREATED:20220305T184844Z
LAST-MODIFIED:20240415T160955Z
UID:2906-1714240800-1714251600@askauntv.com
SUMMARY:SOLD OUT - Chicken Piccata with Vegetables and Spring Salad
DESCRIPTION:Gluten-Free\, Dairy-Free\, Keto -Paleo\, Whole30\, Grain-Free \nSkillet Chicken Piccata \nSeasonal Vegetables \nSpring Salad \nClick HERE to RSVP for Gift Certificates or Pre-Paid Classes  \n  \n 
URL:https://askauntv.com/event/fresh-fast-skillet-chicken-piccata/
LOCATION:Ask Aunt V Cooking Class\, 222 South Main Street\, Naperville\, IL\, 60540\, United States
CATEGORIES:Group Classes
ATTACH;FMTTYPE=image/jpeg:https://askauntv.com/wp-content/uploads/2022/04/cuisine-dish-food-1854246.jpg
ORGANIZER;CN="Classes are held inside Liam Brex Design Showroom":MAILTO:askauntv@gmail.com
END:VEVENT
BEGIN:VEVENT
DTSTART;TZID=America/Chicago:20240419T180000
DTEND;TZID=America/Chicago:20240419T210000
DTSTAMP:20260423T174951
CREATED:20210226T213653Z
LAST-MODIFIED:20240415T160908Z
UID:1476-1713549600-1713560400@askauntv.com
SUMMARY:SOLD OUT - Springtime Dinners
DESCRIPTION:Mushroom Risotto with Spring Vegetables\nCreamy Asparagus Chicken\nFresh Spring Vegetable  \n\n  \nClick here to RSVP for Gift Certificates and Pre-Paid Guests
URL:https://askauntv.com/event/spring-is-served-3/
LOCATION:Ask Aunt V Cooking Class\, 222 South Main Street\, Naperville\, IL\, 60540\, United States
CATEGORIES:Group Classes
ATTACH;FMTTYPE=image/jpeg:https://askauntv.com/wp-content/uploads/2023/02/rice-risotto-vegetables-4457143.jpg
ORGANIZER;CN="Classes are held inside Liam Brex Design Showroom":MAILTO:askauntv@gmail.com
END:VEVENT
BEGIN:VEVENT
DTSTART;TZID=America/Chicago:20240412T180000
DTEND;TZID=America/Chicago:20240412T203000
DTSTAMP:20260423T174951
CREATED:20210226T211523Z
LAST-MODIFIED:20240328T192950Z
UID:1465-1712944800-1712953800@askauntv.com
SUMMARY:SOLD OUT - Spring is Served
DESCRIPTION:Wild Rice Risotto with Shrimp and Spring Vegetables\nSpring Cobb Salad\nSpring Soup\n\nClick here to RSVP for Gift Certificates and Pre-Paid Guests
URL:https://askauntv.com/event/spring-is-served-2/
LOCATION:Ask Aunt V Cooking Class\, 222 South Main Street\, Naperville\, IL\, 60540\, United States
CATEGORIES:Group Classes
ATTACH;FMTTYPE=image/jpeg:https://askauntv.com/wp-content/uploads/2021/02/asparagus-green-green-asparagus-2169232.jpg
ORGANIZER;CN="Classes are held inside Liam Brex Design Showroom":MAILTO:askauntv@gmail.com
END:VEVENT
BEGIN:VEVENT
DTSTART;TZID=America/Chicago:20240406T130000
DTEND;TZID=America/Chicago:20240406T143000
DTSTAMP:20260423T174951
CREATED:20231111T191227Z
LAST-MODIFIED:20231121T175936Z
UID:4556-1712408400-1712413800@askauntv.com
SUMMARY:Teens and Tweens Pasta
DESCRIPTION:Junior Chef (12 years to 18 years old) \n\nHomemade Pasta with Marinara\nGarlic Bread\nSalad\n\nClick Here to RSVP for Gift Certificates and Pre-Paid Guests
URL:https://askauntv.com/event/teens-and-tweens-pasta/
LOCATION:Ask Aunt V Cooking Class\, 222 South Main Street\, Naperville\, IL\, 60540\, United States
CATEGORIES:Children,Teens,Tweens
ATTACH;FMTTYPE=image/jpeg:https://askauntv.com/wp-content/uploads/2022/11/pasta-making-pasta-food-1051611.jpg
ORGANIZER;CN="Classes are held inside Liam Brex Design Showroom":MAILTO:askauntv@gmail.com
END:VEVENT
BEGIN:VEVENT
DTSTART;TZID=America/Chicago:20240315T180000
DTEND;TZID=America/Chicago:20240315T210000
DTSTAMP:20260423T174951
CREATED:20221118T133924Z
LAST-MODIFIED:20240203T231010Z
UID:3635-1710525600-1710536400@askauntv.com
SUMMARY:SOLD OUT - Vietnamese Pho You
DESCRIPTION:Vietnamese Grilled Shrimp with Vermicelli Noodles\nNuoc Cham sauce\nCucumber Salad\nVegetarian Pho\n\nPlease Click Here to RSVP for Pre-Paid Guests \n*The chef reserves the right to determine if a menu item needs to be prepped\, or exchanged\, as a culinary tool to enrich the flavor of a dish. Complete instruction will be included.
URL:https://askauntv.com/event/tropical-island-4/
LOCATION:Ask Aunt V Cooking Class\, 222 South Main Street\, Naperville\, IL\, 60540\, United States
CATEGORIES:Group Classes
ATTACH;FMTTYPE=image/jpeg:https://askauntv.com/wp-content/uploads/2024/01/food-dishes-restaurant-1050813.jpg
ORGANIZER;CN="Classes are held inside Liam Brex Design Showroom":MAILTO:askauntv@gmail.com
END:VEVENT
BEGIN:VEVENT
DTSTART;TZID=America/Chicago:20240309T180000
DTEND;TZID=America/Chicago:20240309T203000
DTSTAMP:20260423T174951
CREATED:20240119T235720Z
LAST-MODIFIED:20240120T003655Z
UID:4689-1710007200-1710016200@askauntv.com
SUMMARY:SOLD OUT - The Irish Pub
DESCRIPTION:Beef and Stout Pies\,\nColcannon\,\n Potato Leek Soup\,\nIrish Cream Cheesecake.\n\nClick HERE to RSVP for Gift Certificates and Pre-Paid Guests \n*The chef reserves the right to determine if a menu item needs to be prepped\, or exchanged\, as a culinary tool to enrich the flavor of a dish. Complete instruction will be included.
URL:https://askauntv.com/event/sold-out-the-irish-pub/
LOCATION:Ask Aunt V Cooking Class\, 222 South Main Street\, Naperville\, IL\, 60540\, United States
CATEGORIES:Group Classes
ATTACH;FMTTYPE=image/jpeg:https://askauntv.com/wp-content/uploads/2024/01/Pot-Pie-Irish-1.jpg
ORGANIZER;CN="Classes are held inside Liam Brex Design Showroom":MAILTO:askauntv@gmail.com
END:VEVENT
BEGIN:VEVENT
DTSTART;TZID=America/Chicago:20240308T180000
DTEND;TZID=America/Chicago:20240308T203000
DTSTAMP:20260423T174951
CREATED:20240119T234120Z
LAST-MODIFIED:20240307T142838Z
UID:4685-1709920800-1709929800@askauntv.com
SUMMARY:A Taste of Ireland
DESCRIPTION:Homemade Irish Soda Bread\,\nFish Cakes\,\n Potato Leek Soup\,\nPotato and Onion Cakes with Sour Cream and Chives.\n\nClick HERE to RSVP for Gift Certificates and Pre-Paid Guests \n*The chef reserves the right to determine if a menu item needs to be prepped\, or exchanged\, as a culinary tool to enrich the flavor of a dish. Complete instruction will be included.
URL:https://askauntv.com/event/a-taste-of-ireland/
LOCATION:Ask Aunt V Cooking Class\, 222 South Main Street\, Naperville\, IL\, 60540\, United States
CATEGORIES:Group Classes
ATTACH;FMTTYPE=image/jpeg:https://askauntv.com/wp-content/uploads/2021/02/Irish-Soda-Bread.jpg
ORGANIZER;CN="Classes are held inside Liam Brex Design Showroom":MAILTO:askauntv@gmail.com
END:VEVENT
BEGIN:VEVENT
DTSTART;TZID=America/Chicago:20240302T180000
DTEND;TZID=America/Chicago:20240302T210000
DTSTAMP:20260423T174951
CREATED:20210215T183641Z
LAST-MODIFIED:20240206T171033Z
UID:1408-1709402400-1709413200@askauntv.com
SUMMARY:SOLD OUT - Dinner in Poland
DESCRIPTION:Homemade Pierogi (potato/cheese and mushroom filling)\,\nGalumpki (Cabbage Rolls) (traditional beef and pork filling)\,\nPotato Pancakes with dill sour cream topping\,\nBeet Salad.\n\nClick to RSVP for pre-paid guests \n*The chef reserves the right to determine if a menu item needs to be prepped\, or exchanged\, as a culinary tool to enrich the flavor of a dish. Complete instruction will be included.
URL:https://askauntv.com/event/dinner-in-poland-3/
LOCATION:Ask Aunt V Cooking Class\, 222 South Main Street\, Naperville\, IL\, 60540\, United States
CATEGORIES:Group Classes
ATTACH;FMTTYPE=image/jpeg:https://askauntv.com/wp-content/uploads/2021/10/Polish-Christmas-Pierogi-1.jpg
ORGANIZER;CN="Classes are held inside Liam Brex Design Showroom":MAILTO:askauntv@gmail.com
END:VEVENT
BEGIN:VEVENT
DTSTART;TZID=America/Chicago:20240302T130000
DTEND;TZID=America/Chicago:20240302T143000
DTSTAMP:20260423T174951
CREATED:20231111T185717Z
LAST-MODIFIED:20240220T171750Z
UID:4542-1709384400-1709389800@askauntv.com
SUMMARY:SOLD OUT - Teens and Tweens Pizza Rolls
DESCRIPTION:Junior Chef (12 years to 18 years old) \n\nPepperoni Pizza Rolls or mini-puzza\nCheese Sticks\ndipping Sauce\n\nClick Here to RSVP for Gift Certificates and Pre-Paid Guests
URL:https://askauntv.com/event/teens-and-tweens-pepperoni-pizza-rolls/
LOCATION:Ask Aunt V Cooking Class\, 222 South Main Street\, Naperville\, IL\, 60540\, United States
CATEGORIES:Children,Teens,Tweens
ATTACH;FMTTYPE=image/jpeg:https://askauntv.com/wp-content/uploads/2023/11/Pizza-Rolls.jpg
ORGANIZER;CN="Classes are held inside Liam Brex Design Showroom":MAILTO:askauntv@gmail.com
END:VEVENT
BEGIN:VEVENT
DTSTART;TZID=America/Chicago:20240302T110000
DTEND;TZID=America/Chicago:20240302T123000
DTSTAMP:20260423T174951
CREATED:20231111T190047Z
LAST-MODIFIED:20240220T171916Z
UID:4548-1709377200-1709382600@askauntv.com
SUMMARY:SOLD OUT - Junior Chef Pizza Rolls
DESCRIPTION:Junior Chef (6 years to 11 years old) \n\nPizza Rolls or mini-pizza\nCheese Sticks\nDipping Sauce\n\nClick Here to RSVP for Gift Certificates and Pre-Paid Guests
URL:https://askauntv.com/event/junior-chef-pizza-rolls/
LOCATION:Ask Aunt V Cooking Class\, 222 South Main Street\, Naperville\, IL\, 60540\, United States
CATEGORIES:Children,Junior Chef
ATTACH;FMTTYPE=image/jpeg:https://askauntv.com/wp-content/uploads/2023/11/Pizza-Rolls.jpg
ORGANIZER;CN="Classes are held inside Liam Brex Design Showroom":MAILTO:askauntv@gmail.com
END:VEVENT
BEGIN:VEVENT
DTSTART;TZID=America/Chicago:20240302T093000
DTEND;TZID=America/Chicago:20240302T103000
DTSTAMP:20260423T174951
CREATED:20231111T190342Z
LAST-MODIFIED:20250626T150958Z
UID:4552-1709371800-1709375400@askauntv.com
SUMMARY:SOLD OUT - "Mommy and Me" Pizza
DESCRIPTION:Mommy and Me – 2 years and up to 5 years \nDaddy\, Grandma\, Grandpa too! Make Pizza together. Measuring\, Cooking\, and Having Fun \n\nMake pizza rolls or mini-pizzas\nCheese Sticks\nDipping Sauce\n\nEach ticket is for one (1) workstation. You will make your own cookies together and enjoy them right away or take them home with you. \nEach station has \n\n1 set of equipment\n1 set of ingredients\n\nClick Here to RSVP for Gift Certificates and Pre-Paid Guests
URL:https://askauntv.com/event/mommy-and-me-pizza/
LOCATION:Ask Aunt V Cooking Class\, 222 South Main Street\, Naperville\, IL\, 60540\, United States
CATEGORIES:Children,Mommy and Me
ATTACH;FMTTYPE=image/jpeg:https://askauntv.com/wp-content/uploads/2023/11/Pizza-Rolls.jpg
ORGANIZER;CN="Classes are held inside Liam Brex Design Showroom":MAILTO:askauntv@gmail.com
END:VEVENT
BEGIN:VEVENT
DTSTART;TZID=America/Chicago:20240301T180000
DTEND;TZID=America/Chicago:20240301T210000
DTSTAMP:20260423T174951
CREATED:20211118T162858Z
LAST-MODIFIED:20240226T185425Z
UID:2448-1709316000-1709326800@askauntv.com
SUMMARY:SOLD OUT - Middle Eastern Cuisine - Vegan
DESCRIPTION:Homemade Falafel\nVegan Tzatziki\nHomemade Sweet Pepper Hummus\nFresh Made Pita Bread\nLentil Soup\n\nClick Here to RSVP for Gift Certificates and Pre-Paid Guests
URL:https://askauntv.com/event/middle-eastern-cuisine-group-vegan-2/
LOCATION:Ask Aunt V Cooking Class\, 222 South Main Street\, Naperville\, IL\, 60540\, United States
CATEGORIES:Group Classes
ATTACH;FMTTYPE=image/jpeg:https://askauntv.com/wp-content/uploads/2020/12/Falafel.jpg
ORGANIZER;CN="Classes are held inside Liam Brex Design Showroom":MAILTO:askauntv@gmail.com
END:VEVENT
BEGIN:VEVENT
DTSTART;TZID=America/Chicago:20240222T173000
DTEND;TZID=America/Chicago:20240222T200000
DTSTAMP:20260423T174951
CREATED:20240124T212440Z
LAST-MODIFIED:20240221T141949Z
UID:4726-1708623000-1708632000@askauntv.com
SUMMARY:Cocina de la República Dominicana
DESCRIPTION:Cuisine of the Dominican Republic – District 203 Spring Break\nPlease join Ask Aunt V and Brian Glasby (District 203 Teacher/Leader) to learn and prepare the cuisine of the Dominican Republic prior to the Spring Break Trip to the Dominican Republic. \nMenu (Please note that the students will be enjoying the food they prepare towards the end of the meet and greet.) \nSorbet\nSancocho\nTostones\nDips\, sauces\nCebolla con vinaigrette\, red onions and vinegar\nQueso frita\nHabichuelos Guisadas Dominican Beans
URL:https://askauntv.com/event/cocina-de-la-republica-dominicana/
LOCATION:Ask Aunt V Cooking Class\, 222 South Main Street\, Naperville\, IL\, 60540\, United States
CATEGORIES:Group Classes
ATTACH;FMTTYPE=image/jpeg:https://askauntv.com/wp-content/uploads/2024/01/dominican-republic-tropics-palms-1884286.jpg
ORGANIZER;CN="Classes are held inside Liam Brex Design Showroom":MAILTO:askauntv@gmail.com
END:VEVENT
BEGIN:VEVENT
DTSTART;TZID=America/Chicago:20240216T180000
DTEND;TZID=America/Chicago:20240216T210000
DTSTAMP:20260423T174951
CREATED:20220524T174950Z
LAST-MODIFIED:20240111T225400Z
UID:3108-1708106400-1708117200@askauntv.com
SUMMARY:SOLD OUT - Valencia by the Sea - Spanish Paella and Tapas
DESCRIPTION:Spanish Paella – Valencia Style with Chicken and Shrimp\nSpanish Garlic Mushrooms\nProsciutto and Manchego Tapas\nGrilled Peach With Balsamic and Blue Cheese\n\n  \nClick Here to RSVP for Gift Certificates and Pre-Paid Guests
URL:https://askauntv.com/event/valencia-by-the-sea-spanish-paella/
LOCATION:Ask Aunt V Cooking Class\, 222 South Main Street\, Naperville\, IL\, 60540\, United States
CATEGORIES:Group Classes
ATTACH;FMTTYPE=image/jpeg:https://askauntv.com/wp-content/uploads/2022/05/paella-lena-mixed-1167973.jpg
ORGANIZER;CN="Classes are held inside Liam Brex Design Showroom":MAILTO:askauntv@gmail.com
END:VEVENT
BEGIN:VEVENT
DTSTART;TZID=America/Chicago:20250308T180000
DTEND;TZID=America/Chicago:20250308T200000
DTSTAMP:20260423T174951
CREATED:20231121T185050Z
LAST-MODIFIED:20250117T180235Z
UID:4625-1741456800-1741464000@askauntv.com
SUMMARY:Private Class
DESCRIPTION:Mushroom Rissoto\nBeef Tenderloin\nRoasted Beet\, Spinach\, Whipped Goat Cheese\, Mandarin Orange\, and Pecan Salad with Aged Balsamic Vinaigrette\n\n 
URL:https://askauntv.com/event/private-class-let-me-call-you-sweetheart/
LOCATION:Ask Aunt V Cooking Class\, 222 South Main Street\, Naperville\, IL\, 60540\, United States
CATEGORIES:Group Classes,Premium Classes,Private Classes & Events
ATTACH;FMTTYPE=image/jpeg:https://askauntv.com/wp-content/uploads/2023/02/rice-risotto-vegetables-4457143.jpg
ORGANIZER;CN="Classes are held inside Liam Brex Design Showroom":MAILTO:askauntv@gmail.com
END:VEVENT
BEGIN:VEVENT
DTSTART;TZID=America/Chicago:20240203T130000
DTEND;TZID=America/Chicago:20240203T143000
DTSTAMP:20260423T174951
CREATED:20231111T184121Z
LAST-MODIFIED:20231121T190342Z
UID:4538-1706965200-1706970600@askauntv.com
SUMMARY:Teens and Tweens Valentine's Day Cookies
DESCRIPTION:Junior Chef (12 years to 18 years old) \n\nMake and decorate Valentine’s Day Cookies\n\nClick Here to RSVP for Gift Certificates and Pre-Paid Guests
URL:https://askauntv.com/event/teens-and-tweens-valentines-day-cookies/
LOCATION:Ask Aunt V Cooking Class\, 222 South Main Street\, Naperville\, IL\, 60540\, United States
CATEGORIES:Children,Teens,Tweens
ATTACH;FMTTYPE=image/jpeg:https://askauntv.com/wp-content/uploads/2023/10/cookie-christmas-cookies-cookies-3835992.jpg
ORGANIZER;CN="Classes are held inside Liam Brex Design Showroom":MAILTO:askauntv@gmail.com
END:VEVENT
BEGIN:VEVENT
DTSTART;TZID=America/Chicago:20240202T180000
DTEND;TZID=America/Chicago:20240202T210000
DTSTAMP:20260423T174951
CREATED:20230106T204332Z
LAST-MODIFIED:20231224T050927Z
UID:3706-1706896800-1706907600@askauntv.com
SUMMARY:SOLD OUT - Mardi Gras - NOLA Style
DESCRIPTION:Creole Jambalaya\nRemoulade Sauce\, Creole Mustard\nMini Muffulettas\nCajun Corn Maque Choux \n\nClick HERE to RSVP for Pre-Paid Guests
URL:https://askauntv.com/event/mardi-gras-nola-style-10/
LOCATION:Ask Aunt V Cooking Class\, 222 South Main Street\, Naperville\, IL\, 60540\, United States
CATEGORIES:Group Classes
ATTACH;FMTTYPE=image/jpeg:https://askauntv.com/wp-content/uploads/2023/01/new-orleans-louisiana-city-255548.jpg
ORGANIZER;CN="Classes are held inside Liam Brex Design Showroom":MAILTO:askauntv@gmail.com
END:VEVENT
BEGIN:VEVENT
DTSTART;TZID=America/Chicago:20240201T180000
DTEND;TZID=America/Chicago:20240201T210000
DTSTAMP:20260423T174951
CREATED:20231121T183800Z
LAST-MODIFIED:20240130T233413Z
UID:4610-1706810400-1706821200@askauntv.com
SUMMARY:SOLD OUT - Mardi Gras - NOLA Style
DESCRIPTION:Creole Jambalaya\nRemoulade Sauce\, Creole Mustard\nMini Muffulettas\nCajun Corn Maque Choux \n\nClick HERE to RSVP for Pre-Paid Guests
URL:https://askauntv.com/event/mardi-gras-nola-style/
LOCATION:Ask Aunt V Cooking Class\, 222 South Main Street\, Naperville\, IL\, 60540\, United States
CATEGORIES:Group Classes
ATTACH;FMTTYPE=image/jpeg:https://askauntv.com/wp-content/uploads/2023/01/new-orleans-louisiana-city-255548.jpg
ORGANIZER;CN="Classes are held inside Liam Brex Design Showroom":MAILTO:askauntv@gmail.com
END:VEVENT
BEGIN:VEVENT
DTSTART;TZID=America/Chicago:20240106T180000
DTEND;TZID=America/Chicago:20240106T210000
DTSTAMP:20260423T174951
CREATED:20231121T175512Z
LAST-MODIFIED:20231121T175512Z
UID:4586-1704564000-1704574800@askauntv.com
SUMMARY:SOLD OUT - Keto-Riffic
DESCRIPTION:Coconut Shrimp\nCoconut Broccoli Rice\nWedge Salad\n\nClick here to RSVP for Pre-Paid Guests
URL:https://askauntv.com/event/sold-out-keto-riffic/
LOCATION:Ask Aunt V Cooking Class\, 222 South Main Street\, Naperville\, IL\, 60540\, United States
CATEGORIES:Group Classes
ATTACH;FMTTYPE=image/jpeg:https://askauntv.com/wp-content/uploads/2020/12/Keto-shrimp.jpg
ORGANIZER;CN="Classes are held inside Liam Brex Design Showroom":MAILTO:askauntv@gmail.com
END:VEVENT
BEGIN:VEVENT
DTSTART;TZID=America/Chicago:20240106T130000
DTEND;TZID=America/Chicago:20240106T143000
DTSTAMP:20260423T174951
CREATED:20231111T182923Z
LAST-MODIFIED:20231121T194343Z
UID:4526-1704546000-1704551400@askauntv.com
SUMMARY:SOLD OUT - Teens and Tweens Let's Make Breakfast
DESCRIPTION:Junior Chef (12 years to 18 years old) \n\nFrench Toast with fresh fruits\, real maple syrup\, and/or homemade jellies and jams\nBanana Split Breakfast Parfait\n\nClick Here to RSVP for Gift Certificates and Pre-Paid Guests
URL:https://askauntv.com/event/teens-and-tweens-lets-make-breakfast/
LOCATION:Ask Aunt V Cooking Class\, 222 South Main Street\, Naperville\, IL\, 60540\, United States
CATEGORIES:Children,Teens,Tweens
ATTACH;FMTTYPE=image/jpeg:https://askauntv.com/wp-content/uploads/2023/11/breakfast-french-toast-morning-3483644.jpg
ORGANIZER;CN="Classes are held inside Liam Brex Design Showroom":MAILTO:askauntv@gmail.com
END:VEVENT
END:VCALENDAR