BEGIN:VCALENDAR
VERSION:2.0
PRODID:-//Ask Aunt V - ECPv6.9.0//NONSGML v1.0//EN
CALSCALE:GREGORIAN
METHOD:PUBLISH
X-ORIGINAL-URL:https://askauntv.com
X-WR-CALDESC:Events for Ask Aunt V
REFRESH-INTERVAL;VALUE=DURATION:PT1H
X-Robots-Tag:noindex
X-PUBLISHED-TTL:PT1H
BEGIN:VTIMEZONE
TZID:America/Chicago
BEGIN:DAYLIGHT
TZOFFSETFROM:-0600
TZOFFSETTO:-0500
TZNAME:CDT
DTSTART:20250309T080000
END:DAYLIGHT
BEGIN:STANDARD
TZOFFSETFROM:-0500
TZOFFSETTO:-0600
TZNAME:CST
DTSTART:20251102T070000
END:STANDARD
END:VTIMEZONE
BEGIN:VEVENT
DTSTART;TZID=America/Chicago:20251206T093000
DTEND;TZID=America/Chicago:20251206T103000
DTSTAMP:20260423T124835
CREATED:20201221T190323Z
LAST-MODIFIED:20251201T173309Z
UID:1133-1765013400-1765017000@askauntv.com
SUMMARY:SOLD OUT - "Mommy and Me" Christmas Cookies
DESCRIPTION:Mommy and Me – 2 years and up \nDaddy\, Grandma\, Grandpa too! Decorating Christmas Cookies\, Measuring\, Having Fun \nEach ticket is for one (1) workstation. You will make your own cookies and enjoy them right away or take them home with you. \nEach station has \n\n1 set of equipment\n1 set of ingredients\n\n 
URL:https://askauntv.com/event/christmas-cookie-decorating-2/
LOCATION:Ask Aunt V Cooking Class\, 222 South Main Street\, Naperville\, IL\, 60540\, United States
CATEGORIES:Children,Mommy and Me
ATTACH;FMTTYPE=image/jpeg:https://askauntv.com/wp-content/uploads/2021/01/dough-cookie-cut-out-2940165.jpg
ORGANIZER;CN="Classes are held inside Liam Brex Design Showroom":MAILTO:askauntv@gmail.com
END:VEVENT
BEGIN:VEVENT
DTSTART;TZID=America/Chicago:20251115T180000
DTEND;TZID=America/Chicago:20251115T210000
DTSTAMP:20260423T124835
CREATED:20211008T193047Z
LAST-MODIFIED:20251105T162232Z
UID:2297-1763229600-1763240400@askauntv.com
SUMMARY:Harvest of Salads
DESCRIPTION:Harvest Salad\nRoasted Beet Salad\nLentil Salad\n\nClick here to RSVP for Gift Certificates and Pre-Paid Guests
URL:https://askauntv.com/event/harvest-full-meal-salads-vegetarian-vegan-group-3/
LOCATION:Ask Aunt V Cooking Class\, 222 South Main Street\, Naperville\, IL\, 60540\, United States
CATEGORIES:Group Classes
ATTACH;FMTTYPE=image/jpeg:https://askauntv.com/wp-content/uploads/2021/08/vegetables-tomatoes-leek-1363033.jpg
ORGANIZER;CN="Classes are held inside Liam Brex Design Showroom":MAILTO:askauntv@gmail.com
END:VEVENT
BEGIN:VEVENT
DTSTART;TZID=America/Chicago:20251108T180000
DTEND;TZID=America/Chicago:20251108T210000
DTSTAMP:20260423T124835
CREATED:20201030T190111Z
LAST-MODIFIED:20250930T171713Z
UID:802-1762624800-1762635600@askauntv.com
SUMMARY:SOLD OUT - Comfort Food Classics
DESCRIPTION:  \n\nHomemade Chicken Pot Pie\nHomemade Macaroni and Cheese\nRoasted Beet Salad\n\nClick here to RSVP for pre-paid guests
URL:https://askauntv.com/event/comfort-food-classics/
LOCATION:Ask Aunt V Cooking Class\, 222 South Main Street\, Naperville\, IL\, 60540\, United States
CATEGORIES:Group Classes
ATTACH;FMTTYPE=image/jpeg:https://askauntv.com/wp-content/uploads/2020/10/chicken-pot-pie.jpg
ORGANIZER;CN="Classes are held inside Liam Brex Design Showroom":MAILTO:askauntv@gmail.com
END:VEVENT
BEGIN:VEVENT
DTSTART;TZID=America/Chicago:20251018T180000
DTEND;TZID=America/Chicago:20251018T210000
DTSTAMP:20260423T124835
CREATED:20220908T191015Z
LAST-MODIFIED:20250930T174206Z
UID:3462-1760810400-1760821200@askauntv.com
SUMMARY:SOLD OUT - Tailgate Party for a Crowd
DESCRIPTION:Sloppy Joes\nCheddar Bacon Cheese Dip\nHomemade Ranch Dressing\nRoasted Jalapeño Poppers\n\nClick here to RSVP for pre-paid Tickets
URL:https://askauntv.com/event/tailgate-party-for-a-crowd-hands-on-homemade-cooking-class-in-downtown-naperville-using-local-organic-seasonal-fresh-ingredients/
LOCATION:Ask Aunt V Cooking Class\, 222 South Main Street\, Naperville\, IL\, 60540\, United States
CATEGORIES:Group Classes
ATTACH;FMTTYPE=image/jpeg:https://askauntv.com/wp-content/uploads/2023/08/tomatoes-knife-towel-5365186.jpg
ORGANIZER;CN="Classes are held inside Liam Brex Design Showroom":MAILTO:askauntv@gmail.com
END:VEVENT
BEGIN:VEVENT
DTSTART;TZID=America/Chicago:20251017T180000
DTEND;TZID=America/Chicago:20251017T190000
DTSTAMP:20260423T124835
CREATED:20251002T161120Z
LAST-MODIFIED:20251002T161327Z
UID:5313-1760724000-1760727600@askauntv.com
SUMMARY:SOLD OUT - Girl Scout Cookie Decorating Class
DESCRIPTION:Decorating Cookies\n\nIn collaboration with The Spice House \n  \nClick Here to RSVP for Gift Certificates and Pre-Paid Guests
URL:https://askauntv.com/event/sold-out-girl-scout-cookie-decorating-class/
LOCATION:Ask Aunt V Cooking Class\, 222 South Main Street\, Naperville\, IL\, 60540\, United States
CATEGORIES:Children,Group Classes,Junior Chef
ATTACH;FMTTYPE=image/png:https://askauntv.com/wp-content/uploads/2025/10/Cookies-w-TSH.png
ORGANIZER;CN="Classes are held inside Liam Brex Design Showroom":MAILTO:askauntv@gmail.com
END:VEVENT
BEGIN:VEVENT
DTSTART;TZID=America/Chicago:20251011T180000
DTEND;TZID=America/Chicago:20251011T210000
DTSTAMP:20260423T124835
CREATED:20221118T135147Z
LAST-MODIFIED:20250930T174321Z
UID:3653-1760205600-1760216400@askauntv.com
SUMMARY:SOLD OUT - Tailgate Party
DESCRIPTION:Roasted Jalapeño Poppers\nWhite Chili\nSkillet Cornbread\n\nClick here to RSVP for pre-paid guests
URL:https://askauntv.com/event/tailgate-party-hands-on-cooking-class-in-downtown-naperville-with-organic-local-seasonal-fresh-ingredieints/
LOCATION:Ask Aunt V Cooking Class\, 222 South Main Street\, Naperville\, IL\, 60540\, United States
CATEGORIES:Group Classes
ATTACH;FMTTYPE=image/jpeg:https://askauntv.com/wp-content/uploads/2020/10/Football-Tailgate-Party.jpg
ORGANIZER;CN="Classes are held inside Liam Brex Design Showroom":MAILTO:askauntv@gmail.com
END:VEVENT
BEGIN:VEVENT
DTSTART;TZID=America/Chicago:20251003T180000
DTEND;TZID=America/Chicago:20251003T210000
DTSTAMP:20260423T124835
CREATED:20220907T182640Z
LAST-MODIFIED:20250822T192152Z
UID:3455-1759514400-1759525200@askauntv.com
SUMMARY:Octoberfest
DESCRIPTION:Homemade German Spaetzle\nBratwurst with Sauerkraut\, onions\, peppers\, and other toppings\nHomemade Pretzel\nObatzda (German Cheese Dip)\nSpicy Honey Sriracha Dip\n\nClick here to RSVP for Gift Certificates and Pre-Paid Classes
URL:https://askauntv.com/event/octoberfest-celebration-hands-on-cooking-class-in-downtown-naperville-using-fresh-local-organic-seasonal-ingredients-homemade-bratwurst-from-kregers-butcher-shop/
LOCATION:Ask Aunt V Cooking Class\, 222 South Main Street\, Naperville\, IL\, 60540\, United States
CATEGORIES:Group Classes
ATTACH;FMTTYPE=image/png:https://askauntv.com/wp-content/uploads/2022/09/pretzel-meal-isolated-1690189.png
ORGANIZER;CN="Classes are held inside Liam Brex Design Showroom":MAILTO:askauntv@gmail.com
END:VEVENT
BEGIN:VEVENT
DTSTART;TZID=America/Chicago:20250920T130000
DTEND;TZID=America/Chicago:20250920T150000
DTSTAMP:20260423T124835
CREATED:20250329T180506Z
LAST-MODIFIED:20250816T172840Z
UID:5176-1758373200-1758380400@askauntv.com
SUMMARY:SOLD OUT - Summer Medley
DESCRIPTION:Zucchini Tomato Tarte\nVegetable Bisque\nHarvest Salad\n\n  \nClick here to RSVP for Gift Certificates and Pre-Paid Classes \n  \n 
URL:https://askauntv.com/event/sold-out-springtime-vegetarian-meals/
LOCATION:Ask Aunt V Cooking Class\, 222 South Main Street\, Naperville\, IL\, 60540\, United States
CATEGORIES:Group Classes
ATTACH;FMTTYPE=image/jpeg:https://askauntv.com/wp-content/uploads/2022/11/carrots-soup-fresh-soup-food-2157199.jpg
ORGANIZER;CN="Classes are held inside Liam Brex Design Showroom":MAILTO:askauntv@gmail.com
END:VEVENT
BEGIN:VEVENT
DTSTART;TZID=America/Chicago:20250913T110000
DTEND;TZID=America/Chicago:20250913T130000
DTSTAMP:20260423T124835
CREATED:20220810T200338Z
LAST-MODIFIED:20250822T192305Z
UID:3377-1757761200-1757768400@askauntv.com
SUMMARY:SOLD OUT - Canning 101 - Canning Tomatoes
DESCRIPTION:The best way to preserve summer tomatoes? Can them! Learn how to can tomatoes here with simple\, time-tested recipe\, plus helpful tips. \nAll equipment and ingredients are included. You will make a pint of tomatoes to take home with you. \nClick HERE to RSVP for Gift Certificate or Pre-Paid Class
URL:https://askauntv.com/event/canning-101-tomatoes/
LOCATION:Ask Aunt V Cooking Class\, 222 South Main Street\, Naperville\, IL\, 60540\, United States
CATEGORIES:Group Classes
ATTACH;FMTTYPE=image/jpeg:https://askauntv.com/wp-content/uploads/2022/08/canned-tomatoes.jpg
ORGANIZER;CN="Classes are held inside Liam Brex Design Showroom":MAILTO:askauntv@gmail.com
END:VEVENT
BEGIN:VEVENT
DTSTART;TZID=America/Chicago:20250823T180000
DTEND;TZID=America/Chicago:20250823T210000
DTSTAMP:20260423T124835
CREATED:20230614T222211Z
LAST-MODIFIED:20250527T143849Z
UID:4159-1755972000-1755982800@askauntv.com
SUMMARY:SOLD OUT - All Grilled Up - Shrimp and Grits
DESCRIPTION:Harissa Lemon Grilled Shrimp\nHomemade Grits\nGrilled Summer Salad\n\nClick HERE to RSVP for Gift Certificates and Pre-Paid Guests
URL:https://askauntv.com/event/harissa-lemon-grilled-shrimp-with-polenta-and-summer-salad/
LOCATION:Ask Aunt V Cooking Class\, 222 South Main Street\, Naperville\, IL\, 60540\, United States
CATEGORIES:Group Classes
ATTACH;FMTTYPE=image/jpeg:https://askauntv.com/wp-content/uploads/2023/06/grilled-shrimp-shrimp-food-1114136.jpg
ORGANIZER;CN="Classes are held inside Liam Brex Design Showroom":MAILTO:askauntv@gmail.com
END:VEVENT
BEGIN:VEVENT
DTSTART;TZID=America/Chicago:20250816T180000
DTEND;TZID=America/Chicago:20250816T210000
DTSTAMP:20260423T124835
CREATED:20220606T215231Z
LAST-MODIFIED:20250805T230113Z
UID:3259-1755367200-1755378000@askauntv.com
SUMMARY:SOLD OUT - Farmers Market Meals
DESCRIPTION:Stuffed Zucchini\nTomato Salad\nFarmers Market Pizza on the Grill\n\nClick HERE to RSVP for Gift Certificate or Pre-Paid Class
URL:https://askauntv.com/event/farmers-market-meals-2/
LOCATION:Ask Aunt V Cooking Class\, 222 South Main Street\, Naperville\, IL\, 60540\, United States
CATEGORIES:Group Classes
ATTACH;FMTTYPE=image/jpeg:https://askauntv.com/wp-content/uploads/2022/06/fruit-vegetables-market-1626857.jpg
ORGANIZER;CN="Classes are held inside Liam Brex Design Showroom":MAILTO:askauntv@gmail.com
END:VEVENT
BEGIN:VEVENT
DTSTART;TZID=America/Chicago:20250809T180000
DTEND;TZID=America/Chicago:20250809T210000
DTSTAMP:20260423T124835
CREATED:20240424T205430Z
LAST-MODIFIED:20250808T181845Z
UID:4813-1754762400-1754773200@askauntv.com
SUMMARY:SOLD OUT - Greek Islands
DESCRIPTION:Greek Chicken Souvlaki with Pita Bread\nTzatziki Sauce\nGreek Salad\nOrzo with Lemon and Herbs\n\n  \nClick HERE for Gift Certificates and Pre-Paid Tickets
URL:https://askauntv.com/event/cool-for-summer/
LOCATION:Ask Aunt V Cooking Class\, 222 South Main Street\, Naperville\, IL\, 60540\, United States
CATEGORIES:Group Classes,Teens,Tweens
ATTACH;FMTTYPE=image/jpeg:https://askauntv.com/wp-content/uploads/2025/06/gdca41dc023cdcaf14b2ef24802e873014663030872eb3f194cacbc94520b37c58642a406de34bae55f54f36c440d0ad84c821f748c8b7e7f923506289e3791b9_1280-1649221.jpg
ORGANIZER;CN="Classes are held inside Liam Brex Design Showroom":MAILTO:askauntv@gmail.com
END:VEVENT
BEGIN:VEVENT
DTSTART;TZID=America/Chicago:20250802T180000
DTEND;TZID=America/Chicago:20250802T210000
DTSTAMP:20260423T124835
CREATED:20230614T225656Z
LAST-MODIFIED:20250525T174433Z
UID:4171-1754157600-1754168400@askauntv.com
SUMMARY:SOLD OUT - Summer Salads
DESCRIPTION:Mexican Street Corn Salad\nCucumber Salad\nAsian Slaw with Juicy Peaches\, Herbs\, and Toasted Nuts\n\nClick HERE to RSVP for Gift Certificates and Pre-Paid Guests
URL:https://askauntv.com/event/summer-salads/
LOCATION:Ask Aunt V Cooking Class\, 222 South Main Street\, Naperville\, IL\, 60540\, United States
CATEGORIES:Group Classes
ATTACH;FMTTYPE=image/jpeg:https://askauntv.com/wp-content/uploads/2020/12/vegetable-vegan-healthy-1085065.jpg
ORGANIZER;CN="Classes are held inside Liam Brex Design Showroom":MAILTO:askauntv@gmail.com
END:VEVENT
BEGIN:VEVENT
DTSTART;TZID=America/Chicago:20250802T120000
DTEND;TZID=America/Chicago:20250802T130000
DTSTAMP:20260423T124835
CREATED:20220412T200354Z
LAST-MODIFIED:20250626T150711Z
UID:3037-1754136000-1754139600@askauntv.com
SUMMARY:Junior Chef - Pasta Class
DESCRIPTION:Homemade Pasta\nAlfredo Sauce\nMediterranean Salad\nGarlic Bread\n\nPriority Seating will be given to Junior Chef Cooking Club \nClick Here to RSVP for Gift Certificates and Pre-Paid Guests
URL:https://askauntv.com/event/junior-chef-pasta-class/
LOCATION:Ask Aunt V Cooking Class\, 222 South Main Street\, Naperville\, IL\, 60540\, United States
CATEGORIES:Children,Group Classes,Junior Chef,Tweens
ATTACH;FMTTYPE=image/jpeg:https://askauntv.com/wp-content/uploads/2022/11/pasta-making-pasta-food-1051611.jpg
ORGANIZER;CN="Classes are held inside Liam Brex Design Showroom":MAILTO:askauntv@gmail.com
END:VEVENT
BEGIN:VEVENT
DTSTART;TZID=America/Chicago:20250726T180000
DTEND;TZID=America/Chicago:20250726T210000
DTSTAMP:20260423T124835
CREATED:20220603T153556Z
LAST-MODIFIED:20250626T150115Z
UID:3192-1753552800-1753563600@askauntv.com
SUMMARY:SOLD OUT - Summer Nights - Hawaiian Chicken
DESCRIPTION:Hawaiian Chicken Kabobs \nCoconut Rice \nSummer Salsa \nClick HERE to RSVP for Gift Certificate or Pre-Paid Class
URL:https://askauntv.com/event/summer-nights-hawaiian-chicken-4/
LOCATION:Ask Aunt V Cooking Class\, 222 South Main Street\, Naperville\, IL\, 60540\, United States
CATEGORIES:Group Classes
ATTACH;FMTTYPE=image/jpeg:https://askauntv.com/wp-content/uploads/2022/05/barbecue-bbq-beef-84671.jpg
ORGANIZER;CN="Classes are held inside Liam Brex Design Showroom":MAILTO:askauntv@gmail.com
END:VEVENT
BEGIN:VEVENT
DTSTART;TZID=America/Chicago:20250621T180000
DTEND;TZID=America/Chicago:20250621T210000
DTSTAMP:20260423T124835
CREATED:20250329T182336Z
LAST-MODIFIED:20250403T004312Z
UID:5185-1750528800-1750539600@askauntv.com
SUMMARY:SOLD OUT - Chicken Marsala with Gnocchi
DESCRIPTION:Bruschetta\nHomemade Gnocchi\nChicken Marsala\nRoasted Vegetables\n\nClick here to RSVP for Gift Certificates and Pre-Paid Classes \n  \n 
URL:https://askauntv.com/event/chicken-marsala-with-gnocchi/
LOCATION:Ask Aunt V Cooking Class\, 222 South Main Street\, Naperville\, IL\, 60540\, United States
CATEGORIES:Group Classes
ATTACH;FMTTYPE=image/jpeg:https://askauntv.com/wp-content/uploads/2022/09/pasta-food-dish-5579058.jpg
ORGANIZER;CN="Classes are held inside Liam Brex Design Showroom":MAILTO:askauntv@gmail.com
END:VEVENT
BEGIN:VEVENT
DTSTART;TZID=America/Chicago:20250614T180000
DTEND;TZID=America/Chicago:20250614T210000
DTSTAMP:20260423T124835
CREATED:20250329T182042Z
LAST-MODIFIED:20250329T182042Z
UID:5181-1749924000-1749934800@askauntv.com
SUMMARY:SOLD OUT - Early Summer Meals
DESCRIPTION:Beet Slaw with Pistachios and Raisins\nPistachio Butter\nChicken Kabobs\n\nClick here to RSVP for Gift Certificates and Pre-Paid Classes \n  \n 
URL:https://askauntv.com/event/sold-out-early-summer-meals/
LOCATION:Ask Aunt V Cooking Class\, 222 South Main Street\, Naperville\, IL\, 60540\, United States
CATEGORIES:Group Classes
ATTACH;FMTTYPE=image/jpeg:https://askauntv.com/wp-content/uploads/2022/05/20190427_170511-scaled.jpg
ORGANIZER;CN="Classes are held inside Liam Brex Design Showroom":MAILTO:askauntv@gmail.com
END:VEVENT
BEGIN:VEVENT
DTSTART;TZID=America/Chicago:20250607T093000
DTEND;TZID=America/Chicago:20250607T103000
DTSTAMP:20260423T124835
CREATED:20250329T184131Z
LAST-MODIFIED:20250329T184131Z
UID:5197-1749288600-1749292200@askauntv.com
SUMMARY:Junior Chef Breakfast
DESCRIPTION:Measuring\, Cooking\, and Having Fun \n\nFrench Toast\nPancakes\n\nEach ticket is for one (1) workstation. \nEach station has \n\n1 set of equipment\n1 set of ingredients\n\nClick Here to RSVP for Gift Certificates and Pre-Paid Guests
URL:https://askauntv.com/event/junior-chef-breakfast/
LOCATION:Ask Aunt V Cooking Class\, 222 South Main Street\, Naperville\, IL\, 60540\, United States
CATEGORIES:Children,Junior Chef
ATTACH;FMTTYPE=image/jpeg:https://askauntv.com/wp-content/uploads/2022/09/syrniki-russian-cheese-pancakes-pancakes-7347092.jpg
ORGANIZER;CN="Classes are held inside Liam Brex Design Showroom":MAILTO:askauntv@gmail.com
END:VEVENT
BEGIN:VEVENT
DTSTART;TZID=America/Chicago:20250524T110000
DTEND;TZID=America/Chicago:20250524T130000
DTSTAMP:20260423T124835
CREATED:20250329T175503Z
LAST-MODIFIED:20250329T175503Z
UID:5174-1748084400-1748091600@askauntv.com
SUMMARY:Baking Bread - Slow-Rise Wild-Bread Making Session III
DESCRIPTION:Naturally fermented bread. A healthier-for-you homemade bread concept\, resulting in a tastier\, nutritionally superior wild-yeast bread\, fermentation trigger the release of vital nutrients and breaks down carbohydrates. Every style of bread imaginable\, including gluten-free. \nFirst\, we make the starter. Each month we will go through the process of creating new breads\, rolls\, muffins\, flatbreads\, specialty breads\, and even a few desserts. Join us… and let the baking bread begin. \nWe meet the fourth Saturday of every month. Class will include hands-on demonstration and you will leave with a bread to bake for dinner. Price includes a 3-Month Membership. \nMonth 3 – Beginner Rolls \nFollowing months will include gluten-free bread\, breads\, rolls\, desserts\, and more. We plan to build a community of bread makers. Come join us~ \n 
URL:https://askauntv.com/event/baking-bread-slow-rise-wild-bread-making-session-iii-2/
LOCATION:Ask Aunt V Cooking Class\, 222 South Main Street\, Naperville\, IL\, 60540\, United States
CATEGORIES:Group Classes
ATTACH;FMTTYPE=image/jpeg:https://askauntv.com/wp-content/uploads/2023/11/bread-baked-food-1281053.jpg
ORGANIZER;CN="Classes are held inside Liam Brex Design Showroom":MAILTO:askauntv@gmail.com
END:VEVENT
BEGIN:VEVENT
DTSTART;TZID=America/Chicago:20250517T180000
DTEND;TZID=America/Chicago:20250517T210000
DTSTAMP:20260423T124835
CREATED:20250329T173115Z
LAST-MODIFIED:20250329T173516Z
UID:5164-1747504800-1747515600@askauntv.com
SUMMARY:SOLD OUT - Healthy Thai Cooking
DESCRIPTION:Chicken Breast with Thai Dressing and Red Peppers\nPineapple Coconut Rice\nGreen Papaya and Carrot Salad\n\nClick here to RSVP for Gift Certificates and Pre-Paid Classes \n  \n 
URL:https://askauntv.com/event/sold-out-healthy-thai-cooking/
LOCATION:Ask Aunt V Cooking Class\, 222 South Main Street\, Naperville\, IL\, 60540\, United States
CATEGORIES:Group Classes
ATTACH;FMTTYPE=image/jpeg:https://askauntv.com/wp-content/uploads/2024/01/food-dishes-restaurant-1050813.jpg
ORGANIZER;CN="Classes are held inside Liam Brex Design Showroom":MAILTO:askauntv@gmail.com
END:VEVENT
BEGIN:VEVENT
DTSTART;TZID=America/Chicago:20250510T120000
DTEND;TZID=America/Chicago:20250510T160000
DTSTAMP:20260423T124835
CREATED:20210320T194710Z
LAST-MODIFIED:20250329T175233Z
UID:1578-1746878400-1746892800@askauntv.com
SUMMARY:SOLD OUT - Mother's Day High Tea - A Proper Afternoon Tea
DESCRIPTION:A Proper Afternoon Tea\, with a classic selection of Teas\, Savories\, Sweets\, Spreads\, and Scones \nA delectable selection of handmade finger sandwiches\, savory tartes\, sweets\, spreads\, and scones served on vintage tableware \nA 90-minute seating including tea with a classic afternoon tea selection. Children of all ages are welcome to attend this seating. \n  \n 
URL:https://askauntv.com/event/mothers-day-high-tea-a-proper-afternoon-tea/
LOCATION:Ask Aunt V Cooking Class\, 222 South Main Street\, Naperville\, IL\, 60540\, United States
CATEGORIES:Children,Group Classes,Junior Chef,Mommy and Me,Premium Classes,Private Classes & Events,Tweens
ATTACH;FMTTYPE=image/jpeg:https://askauntv.com/wp-content/uploads/2021/03/old-country-roses-porcelain-cup-and-saucer-5946660.jpg
ORGANIZER;CN="Classes are held inside Liam Brex Design Showroom":MAILTO:askauntv@gmail.com
END:VEVENT
BEGIN:VEVENT
DTSTART;TZID=America/Chicago:20250503T180000
DTEND;TZID=America/Chicago:20250503T210000
DTSTAMP:20260423T124835
CREATED:20250425T215536Z
LAST-MODIFIED:20250425T215718Z
UID:5212-1746295200-1746306000@askauntv.com
SUMMARY:Private Class - Shrimp Scampi and Risotto
DESCRIPTION:
URL:https://askauntv.com/event/shrimp/
LOCATION:IL
CATEGORIES:Premium Classes
ATTACH;FMTTYPE=image/jpeg:https://askauntv.com/wp-content/uploads/2025/04/pexels-photo-132263-132263-scaled.jpg
END:VEVENT
BEGIN:VEVENT
DTSTART;TZID=America/Chicago:20250426T110000
DTEND;TZID=America/Chicago:20250426T130000
DTSTAMP:20260423T124835
CREATED:20250127T180957Z
LAST-MODIFIED:20250329T175100Z
UID:5027-1745665200-1745672400@askauntv.com
SUMMARY:Baking Bread - Slow-Rise Wild-Bread Making Session III
DESCRIPTION:Naturally fermented bread. A healthier-for-you homemade bread concept\, resulting in a tastier\, nutritionally superior wild-yeast bread\, fermentation trigger the release of vital nutrients and breaks down carbohydrates. Every style of bread imaginable\, including gluten-free. \nFirst\, we make the starter. Each month we will go through the process of creating new breads\, rolls\, muffins\, flatbreads\, specialty breads\, and even a few desserts. Join us… and let the baking bread begin. \nWe meet the fourth Saturday of every month. Class will include hands-on demonstration and you will leave with a bread to bake for dinner. Price includes a 3-Month Membership. \nMonth 3 – Beginner Rolls \nFollowing months will include gluten-free bread\, breads\, rolls\, desserts\, and more. We plan to build a community of bread makers. Come join us~ \n 
URL:https://askauntv.com/event/baking-bread-slow-rise-wild-bread-making-session-iii/
LOCATION:Ask Aunt V Cooking Class\, 222 South Main Street\, Naperville\, IL\, 60540\, United States
CATEGORIES:Group Classes
ATTACH;FMTTYPE=image/jpeg:https://askauntv.com/wp-content/uploads/2023/11/bread-baked-food-1281053.jpg
ORGANIZER;CN="Classes are held inside Liam Brex Design Showroom":MAILTO:askauntv@gmail.com
END:VEVENT
BEGIN:VEVENT
DTSTART;TZID=America/Chicago:20250425T180000
DTEND;TZID=America/Chicago:20250425T210000
DTSTAMP:20260423T124836
CREATED:20250127T180648Z
LAST-MODIFIED:20250312T190708Z
UID:5019-1745604000-1745614800@askauntv.com
SUMMARY:SOLD OUT - Chicken Marsala with Gnocchi
DESCRIPTION:Bruschetta\nHomemade Gnocchi\nChicken Marsala\nRoasted Vegetables\n\nClick here to RSVP for Gift Certificates and Pre-Paid Classes \n  \n 
URL:https://askauntv.com/event/chicken-marsala-gnocchi-pasta-homemamde/
LOCATION:Ask Aunt V Cooking Class\, 222 South Main Street\, Naperville\, IL\, 60540\, United States
CATEGORIES:Group Classes
ATTACH;FMTTYPE=image/jpeg:https://askauntv.com/wp-content/uploads/2022/09/pasta-food-dish-5579058.jpg
ORGANIZER;CN="Classes are held inside Liam Brex Design Showroom":MAILTO:askauntv@gmail.com
END:VEVENT
BEGIN:VEVENT
DTSTART;TZID=America/Chicago:20250412T180000
DTEND;TZID=America/Chicago:20250412T210000
DTSTAMP:20260423T124836
CREATED:20250127T180033Z
LAST-MODIFIED:20250303T145636Z
UID:5015-1744480800-1744491600@askauntv.com
SUMMARY:Mediterranean Dining
DESCRIPTION:Vegetarian\, \n\nHomemade Bruschetta\nHomemade Gnocchi\nBasil Pesto\nSeasonal Salad with Balsamic Vinaigrette\n\nClick HERE for Gift Certificates and Pre-Paid Tickets
URL:https://askauntv.com/event/mediterranean-dining/
LOCATION:Ask Aunt V Cooking Class\, 222 South Main Street\, Naperville\, IL\, 60540\, United States
CATEGORIES:Group Classes,Teens
ATTACH;FMTTYPE=image/jpeg:https://askauntv.com/wp-content/uploads/2024/04/food-wallpaper-hd-free-wallpaper-3048228.jpg
ORGANIZER;CN="Classes are held inside Liam Brex Design Showroom":MAILTO:askauntv@gmail.com
END:VEVENT
BEGIN:VEVENT
DTSTART;TZID=America/Chicago:20250227T180000
DTEND;TZID=America/Chicago:20250227T210000
DTSTAMP:20260423T124836
CREATED:20260103T175246Z
LAST-MODIFIED:20260105T040416Z
UID:5388-1740679200-1740690000@askauntv.com
SUMMARY:Mardi Gras - NOLA Style
DESCRIPTION:Creole Jambalaya\nRemoulade Sauce\, Creole Mustard\nMini Muffulettas\nCajun Corn Maque Choux \n\nClick HERE to RSVP for Pre-Paid Guests
URL:https://askauntv.com/event/mardi-gras-nola-style-3/
LOCATION:Ask Aunt V Cooking Class\, 222 South Main Street\, Naperville\, IL\, 60540\, United States
CATEGORIES:Group Classes
ATTACH;FMTTYPE=image/jpeg:https://askauntv.com/wp-content/uploads/2023/01/new-orleans-louisiana-city-255548.jpg
ORGANIZER;CN="Classes are held inside Liam Brex Design Showroom":MAILTO:askauntv@gmail.com
END:VEVENT
BEGIN:VEVENT
DTSTART;TZID=America/Chicago:20250222T110000
DTEND;TZID=America/Chicago:20250222T130000
DTSTAMP:20260423T124836
CREATED:20250127T181727Z
LAST-MODIFIED:20250127T181727Z
UID:5041-1740222000-1740229200@askauntv.com
SUMMARY:Baking Bread - Slow-Rise Wild-Bread Making Session II
DESCRIPTION:Naturally fermented bread. A healthier-for-you homemade bread concept\, resulting in a tastier\, nutritionally superior wild-yeast bread\, fermentation trigger the release of vital nutrients and breaks down carbohydrates. Every style of bread imaginable\, including gluten-free. \nFirst\, we make the starter. Each month we will go through the process of creating new breads\, rolls\, muffins\, flatbreads\, specialty breads\, and even a few desserts. Join us… and let the baking bread begin. \nWe meet the fourth Saturday of every month. Class will include hands-on demonstration and you will leave with a bread to bake for dinner. Price includes a 3-Month Membership. \nMonth 2 – Refrigerator Starter – Beginner Batter Bread \nMonth 3 – Beginner Rolls \nFollowing months will include gluten-free bread\, breads\, rolls\, desserts\, and more. We plan to build a community of bread makers. Come join us~ \n 
URL:https://askauntv.com/event/baking-bread-slow-rise-wild-bread-making-session-ii/
LOCATION:Ask Aunt V Cooking Class\, 222 South Main Street\, Naperville\, IL\, 60540\, United States
CATEGORIES:Group Classes
ATTACH;FMTTYPE=image/jpeg:https://askauntv.com/wp-content/uploads/2023/11/bread-baked-food-1281053.jpg
ORGANIZER;CN="Classes are held inside Liam Brex Design Showroom":MAILTO:askauntv@gmail.com
END:VEVENT
BEGIN:VEVENT
DTSTART;TZID=America/Chicago:20250201T180000
DTEND;TZID=America/Chicago:20250201T210000
DTSTAMP:20260423T124836
CREATED:20231121T184229Z
LAST-MODIFIED:20241122T172149Z
UID:4617-1738432800-1738443600@askauntv.com
SUMMARY:SOLD OUT - Mardi Gras - NOLA Style
DESCRIPTION:Creole Jambalaya\nRemoulade Sauce\, Creole Mustard\nMini Muffulettas\nCajun Corn Maque Choux \n\nClick HERE to RSVP for Pre-Paid Guests
URL:https://askauntv.com/event/sold-out-mardi-gras-nola-style/
LOCATION:Ask Aunt V Cooking Class\, 222 South Main Street\, Naperville\, IL\, 60540\, United States
CATEGORIES:Group Classes
ATTACH;FMTTYPE=image/jpeg:https://askauntv.com/wp-content/uploads/2023/01/new-orleans-louisiana-city-255548.jpg
ORGANIZER;CN="Classes are held inside Liam Brex Design Showroom":MAILTO:askauntv@gmail.com
END:VEVENT
BEGIN:VEVENT
DTSTART;TZID=America/Chicago:20250201T110000
DTEND;TZID=America/Chicago:20250201T130000
DTSTAMP:20260423T124836
CREATED:20231128T214557Z
LAST-MODIFIED:20250130T150415Z
UID:4637-1738407600-1738414800@askauntv.com
SUMMARY:Baking Bread - Slow-Rise Wild-Bread Making
DESCRIPTION:Naturally fermented bread. A healthier-for-you homemade bread concept\, resulting in a tastier\, nutritionally superior wild-yeast bread\, fermentation triggers the release of vital nutrients and breaks down carbohydrates. Every style of bread imaginable\, including gluten-free. \nFirst\, we make the starter. Each month we will go through the process of creating new breads\, rolls\, muffins\, flatbreads\, specialty breads\, and even a few desserts. Join us… and let the baking bread begin. \nWe meet the fourth Saturday of every month. Class will include hands-on demonstration and you will leave with a bread to bake for dinner. Price includes a 3-Month Membership. \nMonth 1 – Let’s Get Started – Making the Starter or Counter Mother \nMonth 2 – Refrigerator Starter – Beginner Batter Bread \nMonth 3 – Beginner Rolls \nFollowing months will include gluten-free bread\, breads\, rolls\, desserts\, and more. We plan to build a community of bread makers. Come join us~ \n 
URL:https://askauntv.com/event/breaking-bread-slow-rise-wild-bread-making/
LOCATION:Ask Aunt V Cooking Class\, 222 South Main Street\, Naperville\, IL\, 60540\, United States
CATEGORIES:Group Classes
ATTACH;FMTTYPE=image/jpeg:https://askauntv.com/wp-content/uploads/2023/11/bread-baked-food-1281053.jpg
ORGANIZER;CN="Classes are held inside Liam Brex Design Showroom":MAILTO:askauntv@gmail.com
END:VEVENT
BEGIN:VEVENT
DTSTART;TZID=America/Chicago:20250131T180000
DTEND;TZID=America/Chicago:20250131T210000
DTSTAMP:20260423T124836
CREATED:20240301T032122Z
LAST-MODIFIED:20241125T213433Z
UID:4749-1738346400-1738357200@askauntv.com
SUMMARY:SOLD OUT - Sushi Basics
DESCRIPTION:California Rolls\nPhilly Roll\nShrimp Tempura\nSauces for Sushi\n\nUsing only cooked proteins \nClick HERE for Gift Certificates and Pre-Paid Tickets
URL:https://askauntv.com/event/sushi-basics-4/
LOCATION:Ask Aunt V Cooking Class\, 222 South Main Street\, Naperville\, IL\, 60540\, United States
CATEGORIES:Group Classes,Teens,Tweens
ATTACH;FMTTYPE=image/jpeg:https://askauntv.com/wp-content/uploads/2020/10/sushi-japanese-plate-2853382.jpg
ORGANIZER;CN="Classes are held inside Liam Brex Design Showroom":MAILTO:askauntv@gmail.com
END:VEVENT
END:VCALENDAR