BEGIN:VCALENDAR
VERSION:2.0
PRODID:-//Ask Aunt V - ECPv6.9.0//NONSGML v1.0//EN
CALSCALE:GREGORIAN
METHOD:PUBLISH
X-WR-CALNAME:Ask Aunt V
X-ORIGINAL-URL:https://askauntv.com
X-WR-CALDESC:Events for Ask Aunt V
REFRESH-INTERVAL;VALUE=DURATION:PT1H
X-Robots-Tag:noindex
X-PUBLISHED-TTL:PT1H
BEGIN:VTIMEZONE
TZID:America/Chicago
BEGIN:DAYLIGHT
TZOFFSETFROM:-0600
TZOFFSETTO:-0500
TZNAME:CDT
DTSTART:20210314T080000
END:DAYLIGHT
BEGIN:STANDARD
TZOFFSETFROM:-0500
TZOFFSETTO:-0600
TZNAME:CST
DTSTART:20211107T070000
END:STANDARD
END:VTIMEZONE
BEGIN:VEVENT
DTSTART;TZID=America/Chicago:20210506T180000
DTEND;TZID=America/Chicago:20210506T203000
DTSTAMP:20260425T095513
CREATED:20210320T191550Z
LAST-MODIFIED:20210427T182755Z
UID:1562-1620324000-1620333000@askauntv.com
SUMMARY:SOLD OUT - Mexican Fiesta
DESCRIPTION:Celebrate Cinco de Mayo \n\nHomemade Corn Tortillas\nChicken Tacos\nFiesta Slaw\nCheesy Polenta Mezcla\n\nClick HERE to RSVP for Gift Certificates or Pre-Paid Guests
URL:https://askauntv.com/event/mexican-fiesta-4/
LOCATION:Ask Aunt V Cooking Class\, 222 South Main Street\, Naperville\, IL\, 60540\, United States
CATEGORIES:Group Classes
ATTACH;FMTTYPE=image/jpeg:https://askauntv.com/wp-content/uploads/2021/03/taco-mexican-food-food-2610649.jpg
ORGANIZER;CN="Classes are held inside Liam Brex Design Showroom":MAILTO:askauntv@gmail.com
END:VEVENT
BEGIN:VEVENT
DTSTART;TZID=America/Chicago:20210429T180000
DTEND;TZID=America/Chicago:20210429T203000
DTSTAMP:20260425T095513
CREATED:20210319T204754Z
LAST-MODIFIED:20210411T192211Z
UID:1550-1619719200-1619728200@askauntv.com
SUMMARY:SOLD OUT - Kentucky Derby Party
DESCRIPTION:Kentucky Derby Classics \nBeef Brisket Sliders with Pickled Red Onions and Bourbon BBQ Sauce \nDerby Deviled Eggs \nDerby Bites \nKentucky Cole Slaw \nClick HERE to RSVP for Gift Certificates and Pre-Paid Guests \n  \n 
URL:https://askauntv.com/event/kentucky-derby-party/
LOCATION:Ask Aunt V Cooking Class\, 222 South Main Street\, Naperville\, IL\, 60540\, United States
CATEGORIES:Group Classes
ATTACH;FMTTYPE=image/jpeg:https://askauntv.com/wp-content/uploads/2021/03/beef-brisket-sliders.jpg
ORGANIZER;CN="Classes are held inside Liam Brex Design Showroom":MAILTO:askauntv@gmail.com
END:VEVENT
BEGIN:VEVENT
DTSTART;TZID=America/Chicago:20210415T180000
DTEND;TZID=America/Chicago:20210415T203000
DTSTAMP:20260425T095513
CREATED:20210226T211015Z
LAST-MODIFIED:20210308T170817Z
UID:1459-1618509600-1618518600@askauntv.com
SUMMARY:Spring is Served
DESCRIPTION:Wild Rice Risotto with Shrimp and Spring Vegetables\nSpring Cobb Salad\nSpring Soup\nRoasted Radishes with Sesame Salt\n\nClick here to RSVP for Gift Certificates and Pre-Paid Guests
URL:https://askauntv.com/event/spring-is-served/
LOCATION:Ask Aunt V Cooking Class\, 222 South Main Street\, Naperville\, IL\, 60540\, United States
CATEGORIES:Group Classes
ATTACH;FMTTYPE=image/jpeg:https://askauntv.com/wp-content/uploads/2021/02/asparagus-green-green-asparagus-2169232.jpg
ORGANIZER;CN="Classes are held inside Liam Brex Design Showroom":MAILTO:askauntv@gmail.com
END:VEVENT
BEGIN:VEVENT
DTSTART;TZID=America/Chicago:20210410T180000
DTEND;TZID=America/Chicago:20210410T203000
DTSTAMP:20260425T095513
CREATED:20210210T205651Z
LAST-MODIFIED:20210213T173441Z
UID:1358-1618077600-1618086600@askauntv.com
SUMMARY:SOLD OUT - Pasta Dumplings Around the World - Group
DESCRIPTION:Make homemade pasta \n\nCheese Ravioli\nPotato Cheese Pierogi\nPotstickers\n\nClick here to RSVP for Gift Certificates and Pre-Paid Guests
URL:https://askauntv.com/event/pasta-dumplings-around-the-world-group-2/
LOCATION:Ask Aunt V Cooking Class\, 222 South Main Street\, Naperville\, IL\, 60540\, United States
CATEGORIES:Group Classes
ATTACH;FMTTYPE=image/jpeg:https://askauntv.com/wp-content/uploads/2021/02/ravioli-pasta-stuffed-pasta-2063535.jpg
ORGANIZER;CN="Classes are held inside Liam Brex Design Showroom":MAILTO:askauntv@gmail.com
END:VEVENT
BEGIN:VEVENT
DTSTART;TZID=America/Chicago:20210330T183000
DTEND;TZID=America/Chicago:20210330T193000
DTSTAMP:20260425T095513
CREATED:20210204T204528Z
LAST-MODIFIED:20210320T192730Z
UID:1338-1617129000-1617132600@askauntv.com
SUMMARY:Organic Vegetable Gardener Series
DESCRIPTION:March Madness Special $150 Value for ONLY $25 through March 31st\, 2021 – ONLINE \nA Five-Part Series for First Time and Seasoned Gardeners. Organic\, Heirloom Gardens. A “How To” on the Essentials for having a successful garden. ONLINE \nPresented by Master of Urban Farming and Gardening\, Veronica Porter\, A third generation organic farmer\, chef\, culinary instructor\, and food educator for home and garden.  Veronica is a Licensed Chef and holds a Master’s of Organic Urban Farming and Gardening. \nSeed Starting ($25) – Encore Presentation – March 30\, 2021 – 6:30 pm to 7:30 pm CDT \nSelecting A Location ($25) – April 6\, 2021 – 6:30 pm to 7:30 pm CDT \nPlanting Your Garden ($25) – April 13\, 2021 – 6:30 pm to 7:30 pm CDT \nCaring for Your Garden ($25) – April 20\, 2021 – 6:30 pm to 7:30 pm CDT \nHarvest Your Garden (End of Season) ($25) – April 27\, 2021 – 6:30 pm to 7:30 pm CDT \nBONUS: Growing Tomatoes ($25) – May 4\, 2021 – 6:30 pm to 7:30 pm CDT \n  \n 
URL:https://askauntv.com/event/planning-your-organic-garden/
LOCATION:Ask Aunt V Garden Class
CATEGORIES:Garden Group Class,Garden Online,Gardening,Premium Classes
ATTACH;FMTTYPE=image/jpeg:https://askauntv.com/wp-content/uploads/2020/12/seedling-gardening-greenhouse-5009286.jpg
ORGANIZER;CN="Ask Aunt V Online":MAILTO:askauntv@gmail.com
END:VEVENT
BEGIN:VEVENT
DTSTART;TZID=America/Chicago:20210327T180000
DTEND;TZID=America/Chicago:20210327T203000
DTSTAMP:20260425T095513
CREATED:20210210T213050Z
LAST-MODIFIED:20210216T162136Z
UID:1375-1616868000-1616877000@askauntv.com
SUMMARY:SOLD OUT - It's Greek to Me
DESCRIPTION:Soupa Avgolemono (egg-lemon soup) \nBéchamel Sauce \nPastitio \nGreek Salad \nClick here to RSVP for Gift Certificates and Pre-Paid Guests
URL:https://askauntv.com/event/its-greek-to-me-3/
LOCATION:Ask Aunt V Cooking Class\, 222 South Main Street\, Naperville\, IL\, 60540\, United States
CATEGORIES:Group Classes
ATTACH;FMTTYPE=image/jpeg:https://askauntv.com/wp-content/uploads/2020/10/greece-greek-salad-salad-2913362.jpg
ORGANIZER;CN="Classes are held inside Liam Brex Design Showroom":MAILTO:askauntv@gmail.com
END:VEVENT
BEGIN:VEVENT
DTSTART;TZID=America/Chicago:20210311T180000
DTEND;TZID=America/Chicago:20210311T203000
DTSTAMP:20260425T095513
CREATED:20210120T000106Z
LAST-MODIFIED:20210210T212543Z
UID:1256-1615485600-1615494600@askauntv.com
SUMMARY:Everybody's Irish........................ On St. Patrick's Day
DESCRIPTION:Potato Leek Soup\nPotato Pancakes\nA Taste of Ireland (corn beef\, potatoes\, and cabbage)\n\nClick HERE to RSVP for Pre-Paid Guests
URL:https://askauntv.com/event/everybodys-irish-on-st-patricks-day/
LOCATION:Ask Aunt V Cooking Class\, 222 South Main Street\, Naperville\, IL\, 60540\, United States
CATEGORIES:Group Classes
ORGANIZER;CN="Classes are held inside Liam Brex Design Showroom":MAILTO:askauntv@gmail.com
END:VEVENT
BEGIN:VEVENT
DTSTART;TZID=America/Chicago:20210306T180000
DTEND;TZID=America/Chicago:20210306T203000
DTSTAMP:20260425T095513
CREATED:20201019T155256Z
LAST-MODIFIED:20210106T225359Z
UID:774-1615053600-1615062600@askauntv.com
SUMMARY:SOLD OUT - Dinner in Poland
DESCRIPTION:Homemade Pierogi\nGalumpki (Cabbage Rolls)\nPotato Pancakes\nBeet Salad\n\nClick to RSVP for pre-paid guests
URL:https://askauntv.com/event/dinner-in-poland-2/
LOCATION:Ask Aunt V Cooking Class\, 222 South Main Street\, Naperville\, IL\, 60540\, United States
CATEGORIES:Group Classes
ATTACH;FMTTYPE=image/jpeg:https://askauntv.com/wp-content/uploads/2020/10/poland-castle-malbork-1104042.jpg
ORGANIZER;CN="Classes are held inside Liam Brex Design Showroom":MAILTO:askauntv@gmail.com
END:VEVENT
BEGIN:VEVENT
DTSTART;TZID=America/Chicago:20210305T180000
DTEND;TZID=America/Chicago:20210305T203000
DTSTAMP:20260425T095513
CREATED:20210204T202114Z
LAST-MODIFIED:20210216T163948Z
UID:1329-1614967200-1614976200@askauntv.com
SUMMARY:Private Class
DESCRIPTION:
URL:https://askauntv.com/event/sushi-basics-friday-night-group-class/
LOCATION:Ask Aunt V Cooking Class\, 222 South Main Street\, Naperville\, IL\, 60540\, United States
CATEGORIES:Group Classes
ATTACH;FMTTYPE=image/jpeg:https://askauntv.com/wp-content/uploads/2021/01/rose-wine-red-1024710.jpg
ORGANIZER;CN="Classes are held inside Liam Brex Design Showroom":MAILTO:askauntv@gmail.com
END:VEVENT
BEGIN:VEVENT
DTSTART;TZID=America/Chicago:20210304T180000
DTEND;TZID=America/Chicago:20210304T203000
DTSTAMP:20260425T095513
CREATED:20210108T164444Z
LAST-MODIFIED:20210118T162212Z
UID:1211-1614880800-1614889800@askauntv.com
SUMMARY:SOLD OUT - Dinner in Poland
DESCRIPTION:Homemade Pierogi\nGalumpki (Cabbage Rolls)\nPotato Pancakes\nBeet Salad\n\nClick to RSVP for pre-paid guests
URL:https://askauntv.com/event/sold-out-dinner-in-poland/
LOCATION:Ask Aunt V Cooking Class\, 222 South Main Street\, Naperville\, IL\, 60540\, United States
CATEGORIES:Group Classes
ATTACH;FMTTYPE=image/jpeg:https://askauntv.com/wp-content/uploads/2020/10/poland-castle-malbork-1104042.jpg
ORGANIZER;CN="Classes are held inside Liam Brex Design Showroom":MAILTO:askauntv@gmail.com
END:VEVENT
BEGIN:VEVENT
DTSTART;TZID=America/Chicago:20210216T183000
DTEND;TZID=America/Chicago:20210216T193000
DTSTAMP:20260425T095513
CREATED:20201221T195445Z
LAST-MODIFIED:20210204T205519Z
UID:1147-1613500200-1613503800@askauntv.com
SUMMARY:Microgreens
DESCRIPTION:How to grow Microgreens  \nSupplies list and materials included with registration.
URL:https://askauntv.com/event/microgreens/
LOCATION:Ask Aunt V Garden Class
CATEGORIES:Garden Group Class,Garden Online,Gardening
ATTACH;FMTTYPE=image/jpeg:https://askauntv.com/wp-content/uploads/2020/12/sprouts-greens-growing-763457.jpg
ORGANIZER;CN="Ask Aunt V Online":MAILTO:askauntv@gmail.com
END:VEVENT
BEGIN:VEVENT
DTSTART;TZID=America/Chicago:20210211T180000
DTEND;TZID=America/Chicago:20210211T203000
DTSTAMP:20260425T095513
CREATED:20210119T235134Z
LAST-MODIFIED:20210205T172345Z
UID:1254-1613066400-1613075400@askauntv.com
SUMMARY:SOLD OUT - Tropical Island - Group
DESCRIPTION:Caribbean Chicken \nCauliflower Coconut Rice\nAvocado Pineapple Salad\n\nPlease Click Here to RSVP for Pre-Paid Guests
URL:https://askauntv.com/event/sold-out-tropical-island-group/
LOCATION:Ask Aunt V Cooking Class\, 222 South Main Street\, Naperville\, IL\, 60540\, United States
CATEGORIES:Group Classes
ATTACH;FMTTYPE=image/jpeg:https://askauntv.com/wp-content/uploads/2020/12/Tropical-Island-Dinner-Table.jpg
ORGANIZER;CN="Classes are held inside Liam Brex Design Showroom":MAILTO:askauntv@gmail.com
END:VEVENT
BEGIN:VEVENT
DTSTART;TZID=America/Chicago:20210202T180000
DTEND;TZID=America/Chicago:20210202T203000
DTSTAMP:20260425T095513
CREATED:20201006T005123Z
LAST-MODIFIED:20210106T225039Z
UID:713-1612288800-1612297800@askauntv.com
SUMMARY:Tailgate Party - Group
DESCRIPTION:Roasted Jalapeño Poppers\nWhite Chili\nSkillet Cornbread\n\nClick here to RSVP for pre-paid guests
URL:https://askauntv.com/event/tailgate-party-2/
LOCATION:Ask Aunt V Cooking Class\, 222 South Main Street\, Naperville\, IL\, 60540\, United States
CATEGORIES:Group Classes
ATTACH;FMTTYPE=image/jpeg:https://askauntv.com/wp-content/uploads/2020/10/Football-Tailgate-Party.jpg
ORGANIZER;CN="Classes are held inside Liam Brex Design Showroom":MAILTO:askauntv@gmail.com
END:VEVENT
END:VCALENDAR