BEGIN:VCALENDAR
VERSION:2.0
PRODID:-//Ask Aunt V - ECPv6.9.0//NONSGML v1.0//EN
CALSCALE:GREGORIAN
METHOD:PUBLISH
X-WR-CALNAME:Ask Aunt V
X-ORIGINAL-URL:https://askauntv.com
X-WR-CALDESC:Events for Ask Aunt V
REFRESH-INTERVAL;VALUE=DURATION:PT1H
X-Robots-Tag:noindex
X-PUBLISHED-TTL:PT1H
BEGIN:VTIMEZONE
TZID:America/Chicago
BEGIN:DAYLIGHT
TZOFFSETFROM:-0600
TZOFFSETTO:-0500
TZNAME:CDT
DTSTART:20210314T080000
END:DAYLIGHT
BEGIN:STANDARD
TZOFFSETFROM:-0500
TZOFFSETTO:-0600
TZNAME:CST
DTSTART:20211107T070000
END:STANDARD
END:VTIMEZONE
BEGIN:VEVENT
DTSTART;TZID=America/Chicago:20210828T110000
DTEND;TZID=America/Chicago:20210828T140000
DTSTAMP:20260425T095552
CREATED:20210813T210421Z
LAST-MODIFIED:20210813T210421Z
UID:2081-1630148400-1630159200@askauntv.com
SUMMARY:Summertime Fruit Pies and Pastries
DESCRIPTION:Homemade Pie Dough\nSummer Fruit Pie\nStrawberry Shortcake\nFruit Tarts\n\nClick HERE to RSVP for Gift Certificates and Pre-Paid Guests
URL:https://askauntv.com/event/summertime-fruit-pies-and-pastries/
LOCATION:Ask Aunt V Cooking Class\, 222 South Main Street\, Naperville\, IL\, 60540\, United States
CATEGORIES:Group Classes
ATTACH;FMTTYPE=image/jpeg:https://askauntv.com/wp-content/uploads/2021/08/blueberries-fruit-healthy-3460423.jpg
ORGANIZER;CN="Classes are held inside Liam Brex Design Showroom":MAILTO:askauntv@gmail.com
END:VEVENT
BEGIN:VEVENT
DTSTART;TZID=America/Chicago:20210826T180000
DTEND;TZID=America/Chicago:20210826T203000
DTSTAMP:20260425T095552
CREATED:20210717T175854Z
LAST-MODIFIED:20210806T134639Z
UID:2030-1630000800-1630009800@askauntv.com
SUMMARY:SOLD OUT - Valenicia By The Sea - Group Class
DESCRIPTION:Paella Valenciana\nSofrito\nSpanish Salmorejo Soup\nGrilled Peaches with Blue Cheese and Balsamic Drizzle\n\nClick HERE to RSVP for Gift Certificates and Pre-Paid Guests
URL:https://askauntv.com/event/valenicia-by-the-sea-group-class/
LOCATION:Ask Aunt V Cooking Class\, 222 South Main Street\, Naperville\, IL\, 60540\, United States
CATEGORIES:Group Classes
ATTACH;FMTTYPE=image/jpeg:https://askauntv.com/wp-content/uploads/2021/07/paella-lena-mixed-1167973.jpg
ORGANIZER;CN="Classes are held inside Liam Brex Design Showroom":MAILTO:askauntv@gmail.com
END:VEVENT
BEGIN:VEVENT
DTSTART;TZID=America/Chicago:20210821T180000
DTEND;TZID=America/Chicago:20210821T203000
DTSTAMP:20260425T095552
CREATED:20210717T173407Z
LAST-MODIFIED:20210720T205807Z
UID:2022-1629568800-1629577800@askauntv.com
SUMMARY:SOLD OUT - Spanish Nights - Group Class - Vegan
DESCRIPTION:Murcian Style Vegan Paella\nSofrito\nSpanish Salmorejo Soup\nGrilled Peaches with Balsamic Drizzle\n\nGrilled Peaches with Balsamic Drizzle \nClick HERE to RSVP for Gift Certificates and Pre-Paid Guests
URL:https://askauntv.com/event/spanish-nights-group-class-vegan-2/
LOCATION:Ask Aunt V Cooking Class\, 222 South Main Street\, Naperville\, IL\, 60540\, United States
CATEGORIES:Group Classes
ATTACH;FMTTYPE=image/jpeg:https://askauntv.com/wp-content/uploads/2021/07/paella-rice-peas-926303.jpg
ORGANIZER;CN="Classes are held inside Liam Brex Design Showroom":MAILTO:askauntv@gmail.com
END:VEVENT
BEGIN:VEVENT
DTSTART;TZID=America/Chicago:20210819T180000
DTEND;TZID=America/Chicago:20210819T203000
DTSTAMP:20260425T095552
CREATED:20210717T173237Z
LAST-MODIFIED:20210813T203425Z
UID:2017-1629396000-1629405000@askauntv.com
SUMMARY:SOLD OUT - Spanish Nights - Group Class - Vegan
DESCRIPTION:Murcian Style Vegan Paella\nSofrito\nSpanish Salmorejo Soup\nGrilled Peaches with Balsamic Drizzle\n\nClick HERE to RSVP for Gift Certificates and Pre-Paid Guests
URL:https://askauntv.com/event/spanish-nights-group-class-vegan/
LOCATION:Ask Aunt V Cooking Class\, 222 South Main Street\, Naperville\, IL\, 60540\, United States
CATEGORIES:Group Classes
ATTACH;FMTTYPE=image/jpeg:https://askauntv.com/wp-content/uploads/2021/07/paella-rice-peas-926303.jpg
ORGANIZER;CN="Classes are held inside Liam Brex Design Showroom":MAILTO:askauntv@gmail.com
END:VEVENT
BEGIN:VEVENT
DTSTART;TZID=America/Chicago:20210814T180000
DTEND;TZID=America/Chicago:20210814T203000
DTSTAMP:20260425T095552
CREATED:20210711T111115Z
LAST-MODIFIED:20210813T203238Z
UID:1979-1628964000-1628973000@askauntv.com
SUMMARY:Hawaiian Nights - Group Class
DESCRIPTION:Hawaiian Chicken and Pineapple Grill\nSummer Salsa\nGrilled Summer Salad\n\nClick HERE to RSVP for Gift Certificates and Pre-Paid Guests
URL:https://askauntv.com/event/sold-out-last-call-for-summer-group-class/
LOCATION:Ask Aunt V Cooking Class\, 222 South Main Street\, Naperville\, IL\, 60540\, United States
CATEGORIES:Group Classes
ATTACH;FMTTYPE=image/jpeg:https://askauntv.com/wp-content/uploads/2021/07/vegetables-paprika-food-331638.jpg
ORGANIZER;CN="Classes are held inside Liam Brex Design Showroom":MAILTO:askauntv@gmail.com
END:VEVENT
BEGIN:VEVENT
DTSTART;TZID=America/Chicago:20210812T180000
DTEND;TZID=America/Chicago:20210812T203000
DTSTAMP:20260425T095552
CREATED:20210711T110954Z
LAST-MODIFIED:20210811T180459Z
UID:1974-1628791200-1628800200@askauntv.com
SUMMARY:Last Call for Summer - Group Class - Vegetarian
DESCRIPTION:Parmesan Zucchini Boats\nCurried Chickpea Pita Salad\nSummer Pasta Salad with Tomatoes\, Cucumbers\, and Grilled Green Onion Vinaigrette\n\nClick HERE to RSVP for Gift Certificates and Pre-Paid Guests
URL:https://askauntv.com/event/last-call-for-summer-group-class/
LOCATION:Ask Aunt V Cooking Class\, 222 South Main Street\, Naperville\, IL\, 60540\, United States
CATEGORIES:Group Classes
ATTACH;FMTTYPE=image/jpeg:https://askauntv.com/wp-content/uploads/2021/07/vegetables-paprika-food-331638.jpg
ORGANIZER;CN="Classes are held inside Liam Brex Design Showroom":MAILTO:askauntv@gmail.com
END:VEVENT
BEGIN:VEVENT
DTSTART;TZID=America/Chicago:20210807T180000
DTEND;TZID=America/Chicago:20210807T203000
DTSTAMP:20260425T095552
CREATED:20210701T144632Z
LAST-MODIFIED:20210701T144632Z
UID:1886-1628359200-1628368200@askauntv.com
SUMMARY:SOLD OUT - King of the Grill - Premium Class
DESCRIPTION:Ribeye Steak\nRosemary Potatoes\nGrilled Vegetables
URL:https://askauntv.com/event/sold-out-king-of-the-grill-premium-class/
LOCATION:Ask Aunt V Cooking Class\, 222 South Main Street\, Naperville\, IL\, 60540\, United States
CATEGORIES:Group Classes,Premium Classes
ATTACH;FMTTYPE=image/jpeg:https://askauntv.com/wp-content/uploads/2021/07/steak-pan-rosemary-3766548.jpg
ORGANIZER;CN="Classes are held inside Liam Brex Design Showroom":MAILTO:askauntv@gmail.com
END:VEVENT
BEGIN:VEVENT
DTSTART;TZID=America/Chicago:20210729T180000
DTEND;TZID=America/Chicago:20210729T203000
DTSTAMP:20260425T095552
CREATED:20210624T211242Z
LAST-MODIFIED:20210728T172757Z
UID:1836-1627581600-1627590600@askauntv.com
SUMMARY:SOLD OUT - Chicken Shawarma - Group Class
DESCRIPTION:Grilled Za’atar Chicken With Garlic Yogurt and Cilantro \nPersian Cucumber\, Tomato and Onion Salad \nFlatbread with red pepper hummus \nClick HERE to RSVP for Gift Certificates and Pre-Paid Guests
URL:https://askauntv.com/event/chicken-shawarma/
LOCATION:Ask Aunt V Cooking Class\, 222 South Main Street\, Naperville\, IL\, 60540\, United States
CATEGORIES:Group Classes
ATTACH;FMTTYPE=image/jpeg:https://askauntv.com/wp-content/uploads/2021/06/Chciken-Shawarma.jpg
ORGANIZER;CN="Classes are held inside Liam Brex Design Showroom":MAILTO:askauntv@gmail.com
END:VEVENT
BEGIN:VEVENT
DTSTART;TZID=America/Chicago:20210724T180000
DTEND;TZID=America/Chicago:20210724T203000
DTSTAMP:20260425T095552
CREATED:20210701T144824Z
LAST-MODIFIED:20210701T144824Z
UID:1891-1627149600-1627158600@askauntv.com
SUMMARY:SOLD OUT - Cool By The Pool - Group Class
DESCRIPTION:Shrimp Lettuce Wraps\nCoconut-Lime Jicama Rice\nCucumber\, Avocado\, Strawberry Salsa\n\n  \nClick here to RSVP for Gift Certificates and Pre-Paid Guests
URL:https://askauntv.com/event/sold-out-cool-by-the-pool-group-class/
LOCATION:Ask Aunt V Cooking Class\, 222 South Main Street\, Naperville\, IL\, 60540\, United States
CATEGORIES:Group Classes
ATTACH;FMTTYPE=image/jpeg:https://askauntv.com/wp-content/uploads/2021/05/Shrimp-Lettuce-Wrap.jpg
ORGANIZER;CN="Classes are held inside Liam Brex Design Showroom":MAILTO:askauntv@gmail.com
END:VEVENT
BEGIN:VEVENT
DTSTART;TZID=America/Chicago:20210722T180000
DTEND;TZID=America/Chicago:20210722T203000
DTSTAMP:20260425T095552
CREATED:20210525T164659Z
LAST-MODIFIED:20210718T222452Z
UID:1794-1626976800-1626985800@askauntv.com
SUMMARY:SOLD OUT - Cool By The Pool - Group Class
DESCRIPTION:Shrimp Lettuce Wraps\nCoconut-Lime Jicama Rice\nCucumber\, Avocado\, Strawberry Salsa\n\n  \nClick here to RSVP for Gift Certificates and Pre-Paid Guests
URL:https://askauntv.com/event/cool-by-the-pool-2/
LOCATION:Ask Aunt V Cooking Class\, 222 South Main Street\, Naperville\, IL\, 60540\, United States
CATEGORIES:Group Classes
ATTACH;FMTTYPE=image/jpeg:https://askauntv.com/wp-content/uploads/2021/05/Shrimp-Lettuce-Wrap.jpg
ORGANIZER;CN="Classes are held inside Liam Brex Design Showroom":MAILTO:askauntv@gmail.com
END:VEVENT
BEGIN:VEVENT
DTSTART;TZID=America/Chicago:20210717T180000
DTEND;TZID=America/Chicago:20210717T203000
DTSTAMP:20260425T095552
CREATED:20210618T173956Z
LAST-MODIFIED:20210629T172012Z
UID:1822-1626544800-1626553800@askauntv.com
SUMMARY:SOLD OUT - Summer Nights
DESCRIPTION:Hawaiian Chicken and Pineapple Grill \nSummer Salsa \nGrilled Summer Salad \nClick here for Gift Certificates or Pre-Paid Guests
URL:https://askauntv.com/event/summer-nights-3/
LOCATION:Ask Aunt V Cooking Class\, 222 South Main Street\, Naperville\, IL\, 60540\, United States
CATEGORIES:Group Classes
ATTACH;FMTTYPE=image/jpeg:https://askauntv.com/wp-content/uploads/2021/04/Summer-Salsa.jpg
ORGANIZER;CN="Classes are held inside Liam Brex Design Showroom":MAILTO:askauntv@gmail.com
END:VEVENT
BEGIN:VEVENT
DTSTART;TZID=America/Chicago:20210715T180000
DTEND;TZID=America/Chicago:20210715T203000
DTSTAMP:20260425T095552
CREATED:20210525T163245Z
LAST-MODIFIED:20210607T152405Z
UID:1785-1626372000-1626381000@askauntv.com
SUMMARY:SOLD OUT - Summer Nights
DESCRIPTION:Hawaiian Chicken and Pineapple Grill \nSummer Salsa \nGrilled Summer Salad \nClick here for Gift Certificates or Pre-Paid Guests
URL:https://askauntv.com/event/summer-nights-2/
LOCATION:Ask Aunt V Cooking Class\, 222 South Main Street\, Naperville\, IL\, 60540\, United States
CATEGORIES:Group Classes
ATTACH;FMTTYPE=image/jpeg:https://askauntv.com/wp-content/uploads/2021/04/Summer-Salsa.jpg
ORGANIZER;CN="Classes are held inside Liam Brex Design Showroom":MAILTO:askauntv@gmail.com
END:VEVENT
BEGIN:VEVENT
DTSTART;TZID=America/Chicago:20210710T110000
DTEND;TZID=America/Chicago:20210710T143000
DTSTAMP:20260425T095552
CREATED:20210630T221424Z
LAST-MODIFIED:20210701T165955Z
UID:1871-1625914800-1625927400@askauntv.com
SUMMARY:SOLD OUT - Pasta by the Grill
DESCRIPTION:Homemade Tortellini \nTomato Bruschetta \nStrawberry\, Pecan\, Spinach Salad with Aged Balsamic from Modena
URL:https://askauntv.com/event/sold-out-pasta-by-the-grill/
LOCATION:Ask Aunt V Cooking Class\, 222 South Main Street\, Naperville\, IL\, 60540\, United States
CATEGORIES:Group Classes
ATTACH;FMTTYPE=image/jpeg:https://askauntv.com/wp-content/uploads/2021/06/tortelloni.02.jpg
ORGANIZER;CN="Classes are held inside Liam Brex Design Showroom":MAILTO:askauntv@gmail.com
END:VEVENT
BEGIN:VEVENT
DTSTART;TZID=America/Chicago:20210708T180000
DTEND;TZID=America/Chicago:20210708T203000
DTSTAMP:20260425T095552
CREATED:20210630T220700Z
LAST-MODIFIED:20210701T142859Z
UID:1866-1625767200-1625776200@askauntv.com
SUMMARY:SOLD OUT - Summer By the Sea - Premium Class
DESCRIPTION:Pan Seared Scallops in Lemon Herb Sauce \nGrilled In-Season Vegetables \nCoconut Jasmine Rice
URL:https://askauntv.com/event/sold-out-summer-by-the-sea/
LOCATION:Ask Aunt V Cooking Class\, 222 South Main Street\, Naperville\, IL\, 60540\, United States
CATEGORIES:Group Classes,Premium Classes
ATTACH;FMTTYPE=image/jpeg:https://askauntv.com/wp-content/uploads/2021/06/scallops-food-seafood-4709349.jpg
ORGANIZER;CN="Classes are held inside Liam Brex Design Showroom":MAILTO:askauntv@gmail.com
END:VEVENT
BEGIN:VEVENT
DTSTART;TZID=America/Chicago:20210625T180000
DTEND;TZID=America/Chicago:20210625T203000
DTSTAMP:20260425T095552
CREATED:20210504T210436Z
LAST-MODIFIED:20210525T123445Z
UID:1734-1624644000-1624653000@askauntv.com
SUMMARY:Asian Summer Night
DESCRIPTION:Vietnamese Shrimp Salad with Rice Noodle Bowl \nVietnamese Spring Roll with Peanut Sauce \nSaigon Soup \nClick HERE to RSVP for Gift Certificates or Pre-Paid Guests
URL:https://askauntv.com/event/asian-summer/
LOCATION:Ask Aunt V Cooking Class\, 222 South Main Street\, Naperville\, IL\, 60540\, United States
CATEGORIES:Group Classes
ATTACH;FMTTYPE=image/jpeg:https://askauntv.com/wp-content/uploads/2021/05/Vietnamese-Shrimp-Noodle-Salad-2.jpg
ORGANIZER;CN="Classes are held inside Liam Brex Design Showroom":MAILTO:askauntv@gmail.com
END:VEVENT
BEGIN:VEVENT
DTSTART;TZID=America/Chicago:20210624T180000
DTEND;TZID=America/Chicago:20210624T203000
DTSTAMP:20260425T095552
CREATED:20210504T210845Z
LAST-MODIFIED:20210601T170132Z
UID:1743-1624557600-1624566600@askauntv.com
SUMMARY:Asian Summer Night
DESCRIPTION:Vietnamese Shrimp Salad with Rice Noodle Bowl \nVietnamese Spring Roll with Peanut Sauce \nSaigon Soup \nClick HERE to RSVP for Gift Certificates or Pre-Paid Guests
URL:https://askauntv.com/event/asian-summer-night/
LOCATION:Ask Aunt V Cooking Class\, 222 South Main Street\, Naperville\, IL\, 60540\, United States
CATEGORIES:Group Classes
ATTACH;FMTTYPE=image/jpeg:https://askauntv.com/wp-content/uploads/2021/05/Vietnamese-Shrimp-Noodle-Salad-2.jpg
ORGANIZER;CN="Classes are held inside Liam Brex Design Showroom":MAILTO:askauntv@gmail.com
END:VEVENT
BEGIN:VEVENT
DTSTART;TZID=America/Chicago:20210618T180000
DTEND;TZID=America/Chicago:20210618T203000
DTSTAMP:20260425T095552
CREATED:20210504T211153Z
LAST-MODIFIED:20210618T181634Z
UID:1747-1624039200-1624048200@askauntv.com
SUMMARY:SOLD OUT - Wok on the Grill
DESCRIPTION:An Asian Food Fusion \n\nThai Zoodle Salad\nSpicy Shrimp Stir Fry\nAsian Chicken Carrot Noodle Soup\n\nClick HERE to RSVP for Gift Certificates or Pre-Paid Guests
URL:https://askauntv.com/event/mexican-fiesta-7/
LOCATION:Ask Aunt V Cooking Class\, 222 South Main Street\, Naperville\, IL\, 60540\, United States
CATEGORIES:Group Classes
ATTACH;FMTTYPE=image/jpeg:https://askauntv.com/wp-content/uploads/2021/05/bbq-vegetables-pepper-500547.jpg
ORGANIZER;CN="Classes are held inside Liam Brex Design Showroom":MAILTO:askauntv@gmail.com
END:VEVENT
BEGIN:VEVENT
DTSTART;TZID=America/Chicago:20210612T180000
DTEND;TZID=America/Chicago:20210612T203000
DTSTAMP:20260425T095552
CREATED:20210430T203202Z
LAST-MODIFIED:20210509T022438Z
UID:1719-1623520800-1623529800@askauntv.com
SUMMARY:SOLD OUT - Summer Nights
DESCRIPTION:Hawaiian Chicken and Pineapple Grill \nSummer Salsa \nGrilled Summer Salad \nClick here for Gift Certificates or Pre-Paid Guests
URL:https://askauntv.com/event/summer-nights/
LOCATION:Ask Aunt V Cooking Class\, 222 South Main Street\, Naperville\, IL\, 60540\, United States
CATEGORIES:Group Classes
ATTACH;FMTTYPE=image/jpeg:https://askauntv.com/wp-content/uploads/2021/04/Summer-Salsa.jpg
ORGANIZER;CN="Classes are held inside Liam Brex Design Showroom":MAILTO:askauntv@gmail.com
END:VEVENT
BEGIN:VEVENT
DTSTART;TZID=America/Chicago:20210610T180000
DTEND;TZID=America/Chicago:20210610T203000
DTSTAMP:20260425T095552
CREATED:20210430T202736Z
LAST-MODIFIED:20210524T213751Z
UID:1713-1623348000-1623357000@askauntv.com
SUMMARY:SOLD OUT - Summer Nights
DESCRIPTION:Hawaiian Chicken and Pineapple Grill \nSummer Salsa \nGrilled Summer Salad \nClick here for Gift Certificates or Pre-Paid Guests
URL:https://askauntv.com/event/grillin-and-chillin/
LOCATION:Ask Aunt V Cooking Class\, 222 South Main Street\, Naperville\, IL\, 60540\, United States
CATEGORIES:Group Classes
ATTACH;FMTTYPE=image/jpeg:https://askauntv.com/wp-content/uploads/2021/04/Summer-Salsa.jpg
ORGANIZER;CN="Classes are held inside Liam Brex Design Showroom":MAILTO:askauntv@gmail.com
END:VEVENT
BEGIN:VEVENT
DTSTART;TZID=America/Chicago:20210515T100000
DTEND;TZID=America/Chicago:20210515T113000
DTSTAMP:20260425T095552
CREATED:20210514T163948Z
LAST-MODIFIED:20210514T164557Z
UID:1765-1621072800-1621078200@askauntv.com
SUMMARY:SOLD OUT- Healthier Pets Naturally - Dog Food Cooking Class
DESCRIPTION:test
URL:https://askauntv.com/event/sold-out-healthier-pets-naturally-dog-food-cooking-class/
LOCATION:Ask Aunt V Cooking Class\, 222 South Main Street\, Naperville\, IL\, 60540\, United States
ORGANIZER;CN="Classes are held inside Liam Brex Design Showroom":MAILTO:askauntv@gmail.com
END:VEVENT
BEGIN:VEVENT
DTSTART;TZID=America/Chicago:20210515T100000
DTEND;TZID=America/Chicago:20210515T113000
DTSTAMP:20260425T095552
CREATED:20210423T212927Z
LAST-MODIFIED:20210514T164737Z
UID:1684-1621072800-1621078200@askauntv.com
SUMMARY:Healthier Pets Naturally - Dog Food Cooking Class
DESCRIPTION:Making Puploaf for your Pooch. Co-Hosted with Dr. Elizabeth Cutright B.S.\, BSVM D.VM.\, Advanced Nutrition Response Testing Clinician.  \nHealthier Pets Naturally (HPN) is a holistic veterinary service provider whose passion is to help educate and guide owners in the healing arts\, using food as our “medicine.” Their Mission:  Create an activated healing potential for pets\, enhance health\, and the human animal bond. \nAll Proceeds will go to the Naperville Humane Society. \nWe will be following a Dr. Judy Morgan Recipe from the book Yin and Yang Nutrition for Dogs
URL:https://askauntv.com/event/healthier-pets-naturally-dog-food-cooking-class/
LOCATION:Ask Aunt V Cooking Class\, 222 South Main Street\, Naperville\, IL\, 60540\, United States
CATEGORIES:Group Classes
ATTACH;FMTTYPE=image/jpeg:https://askauntv.com/wp-content/uploads/2021/04/Puploaf.jpg
ORGANIZER;CN="Classes are held inside Liam Brex Design Showroom":MAILTO:askauntv@gmail.com
END:VEVENT
BEGIN:VEVENT
DTSTART;TZID=America/Chicago:20210513T180000
DTEND;TZID=America/Chicago:20210513T203000
DTSTAMP:20260425T095552
CREATED:20210320T192237Z
LAST-MODIFIED:20210426T155830Z
UID:1568-1620928800-1620937800@askauntv.com
SUMMARY:Mexican Fiesta
DESCRIPTION:Celebrate Cinco de Mayo \n\nHomemade Corn Tortillas\nChicken Tacos\nFiesta Slaw\nCheesy Polenta Mezcla\n\nClick HERE to RSVP for Gift Certificates or Pre-Paid Guests
URL:https://askauntv.com/event/mexican-fiesta-5/
LOCATION:Ask Aunt V Cooking Class\, 222 South Main Street\, Naperville\, IL\, 60540\, United States
CATEGORIES:Group Classes
ATTACH;FMTTYPE=image/jpeg:https://askauntv.com/wp-content/uploads/2021/03/taco-mexican-food-food-2610649.jpg
ORGANIZER;CN="Classes are held inside Liam Brex Design Showroom":MAILTO:askauntv@gmail.com
END:VEVENT
BEGIN:VEVENT
DTSTART;TZID=America/Chicago:20210506T180000
DTEND;TZID=America/Chicago:20210506T203000
DTSTAMP:20260425T095552
CREATED:20210320T191550Z
LAST-MODIFIED:20210427T182755Z
UID:1562-1620324000-1620333000@askauntv.com
SUMMARY:SOLD OUT - Mexican Fiesta
DESCRIPTION:Celebrate Cinco de Mayo \n\nHomemade Corn Tortillas\nChicken Tacos\nFiesta Slaw\nCheesy Polenta Mezcla\n\nClick HERE to RSVP for Gift Certificates or Pre-Paid Guests
URL:https://askauntv.com/event/mexican-fiesta-4/
LOCATION:Ask Aunt V Cooking Class\, 222 South Main Street\, Naperville\, IL\, 60540\, United States
CATEGORIES:Group Classes
ATTACH;FMTTYPE=image/jpeg:https://askauntv.com/wp-content/uploads/2021/03/taco-mexican-food-food-2610649.jpg
ORGANIZER;CN="Classes are held inside Liam Brex Design Showroom":MAILTO:askauntv@gmail.com
END:VEVENT
BEGIN:VEVENT
DTSTART;TZID=America/Chicago:20210429T180000
DTEND;TZID=America/Chicago:20210429T203000
DTSTAMP:20260425T095552
CREATED:20210319T204754Z
LAST-MODIFIED:20210411T192211Z
UID:1550-1619719200-1619728200@askauntv.com
SUMMARY:SOLD OUT - Kentucky Derby Party
DESCRIPTION:Kentucky Derby Classics \nBeef Brisket Sliders with Pickled Red Onions and Bourbon BBQ Sauce \nDerby Deviled Eggs \nDerby Bites \nKentucky Cole Slaw \nClick HERE to RSVP for Gift Certificates and Pre-Paid Guests \n  \n 
URL:https://askauntv.com/event/kentucky-derby-party/
LOCATION:Ask Aunt V Cooking Class\, 222 South Main Street\, Naperville\, IL\, 60540\, United States
CATEGORIES:Group Classes
ATTACH;FMTTYPE=image/jpeg:https://askauntv.com/wp-content/uploads/2021/03/beef-brisket-sliders.jpg
ORGANIZER;CN="Classes are held inside Liam Brex Design Showroom":MAILTO:askauntv@gmail.com
END:VEVENT
BEGIN:VEVENT
DTSTART;TZID=America/Chicago:20210415T180000
DTEND;TZID=America/Chicago:20210415T203000
DTSTAMP:20260425T095552
CREATED:20210226T211015Z
LAST-MODIFIED:20210308T170817Z
UID:1459-1618509600-1618518600@askauntv.com
SUMMARY:Spring is Served
DESCRIPTION:Wild Rice Risotto with Shrimp and Spring Vegetables\nSpring Cobb Salad\nSpring Soup\nRoasted Radishes with Sesame Salt\n\nClick here to RSVP for Gift Certificates and Pre-Paid Guests
URL:https://askauntv.com/event/spring-is-served/
LOCATION:Ask Aunt V Cooking Class\, 222 South Main Street\, Naperville\, IL\, 60540\, United States
CATEGORIES:Group Classes
ATTACH;FMTTYPE=image/jpeg:https://askauntv.com/wp-content/uploads/2021/02/asparagus-green-green-asparagus-2169232.jpg
ORGANIZER;CN="Classes are held inside Liam Brex Design Showroom":MAILTO:askauntv@gmail.com
END:VEVENT
BEGIN:VEVENT
DTSTART;TZID=America/Chicago:20210410T180000
DTEND;TZID=America/Chicago:20210410T203000
DTSTAMP:20260425T095552
CREATED:20210210T205651Z
LAST-MODIFIED:20210213T173441Z
UID:1358-1618077600-1618086600@askauntv.com
SUMMARY:SOLD OUT - Pasta Dumplings Around the World - Group
DESCRIPTION:Make homemade pasta \n\nCheese Ravioli\nPotato Cheese Pierogi\nPotstickers\n\nClick here to RSVP for Gift Certificates and Pre-Paid Guests
URL:https://askauntv.com/event/pasta-dumplings-around-the-world-group-2/
LOCATION:Ask Aunt V Cooking Class\, 222 South Main Street\, Naperville\, IL\, 60540\, United States
CATEGORIES:Group Classes
ATTACH;FMTTYPE=image/jpeg:https://askauntv.com/wp-content/uploads/2021/02/ravioli-pasta-stuffed-pasta-2063535.jpg
ORGANIZER;CN="Classes are held inside Liam Brex Design Showroom":MAILTO:askauntv@gmail.com
END:VEVENT
BEGIN:VEVENT
DTSTART;TZID=America/Chicago:20210330T183000
DTEND;TZID=America/Chicago:20210330T193000
DTSTAMP:20260425T095552
CREATED:20210204T204528Z
LAST-MODIFIED:20210320T192730Z
UID:1338-1617129000-1617132600@askauntv.com
SUMMARY:Organic Vegetable Gardener Series
DESCRIPTION:March Madness Special $150 Value for ONLY $25 through March 31st\, 2021 – ONLINE \nA Five-Part Series for First Time and Seasoned Gardeners. Organic\, Heirloom Gardens. A “How To” on the Essentials for having a successful garden. ONLINE \nPresented by Master of Urban Farming and Gardening\, Veronica Porter\, A third generation organic farmer\, chef\, culinary instructor\, and food educator for home and garden.  Veronica is a Licensed Chef and holds a Master’s of Organic Urban Farming and Gardening. \nSeed Starting ($25) – Encore Presentation – March 30\, 2021 – 6:30 pm to 7:30 pm CDT \nSelecting A Location ($25) – April 6\, 2021 – 6:30 pm to 7:30 pm CDT \nPlanting Your Garden ($25) – April 13\, 2021 – 6:30 pm to 7:30 pm CDT \nCaring for Your Garden ($25) – April 20\, 2021 – 6:30 pm to 7:30 pm CDT \nHarvest Your Garden (End of Season) ($25) – April 27\, 2021 – 6:30 pm to 7:30 pm CDT \nBONUS: Growing Tomatoes ($25) – May 4\, 2021 – 6:30 pm to 7:30 pm CDT \n  \n 
URL:https://askauntv.com/event/planning-your-organic-garden/
LOCATION:Ask Aunt V Garden Class
CATEGORIES:Garden Group Class,Garden Online,Gardening,Premium Classes
ATTACH;FMTTYPE=image/jpeg:https://askauntv.com/wp-content/uploads/2020/12/seedling-gardening-greenhouse-5009286.jpg
ORGANIZER;CN="Ask Aunt V Online":MAILTO:askauntv@gmail.com
END:VEVENT
BEGIN:VEVENT
DTSTART;TZID=America/Chicago:20210327T180000
DTEND;TZID=America/Chicago:20210327T203000
DTSTAMP:20260425T095552
CREATED:20210210T213050Z
LAST-MODIFIED:20210216T162136Z
UID:1375-1616868000-1616877000@askauntv.com
SUMMARY:SOLD OUT - It's Greek to Me
DESCRIPTION:Soupa Avgolemono (egg-lemon soup) \nBéchamel Sauce \nPastitio \nGreek Salad \nClick here to RSVP for Gift Certificates and Pre-Paid Guests
URL:https://askauntv.com/event/its-greek-to-me-3/
LOCATION:Ask Aunt V Cooking Class\, 222 South Main Street\, Naperville\, IL\, 60540\, United States
CATEGORIES:Group Classes
ATTACH;FMTTYPE=image/jpeg:https://askauntv.com/wp-content/uploads/2020/10/greece-greek-salad-salad-2913362.jpg
ORGANIZER;CN="Classes are held inside Liam Brex Design Showroom":MAILTO:askauntv@gmail.com
END:VEVENT
BEGIN:VEVENT
DTSTART;TZID=America/Chicago:20210311T180000
DTEND;TZID=America/Chicago:20210311T203000
DTSTAMP:20260425T095552
CREATED:20210120T000106Z
LAST-MODIFIED:20210210T212543Z
UID:1256-1615485600-1615494600@askauntv.com
SUMMARY:Everybody's Irish........................ On St. Patrick's Day
DESCRIPTION:Potato Leek Soup\nPotato Pancakes\nA Taste of Ireland (corn beef\, potatoes\, and cabbage)\n\nClick HERE to RSVP for Pre-Paid Guests
URL:https://askauntv.com/event/everybodys-irish-on-st-patricks-day/
LOCATION:Ask Aunt V Cooking Class\, 222 South Main Street\, Naperville\, IL\, 60540\, United States
CATEGORIES:Group Classes
ORGANIZER;CN="Classes are held inside Liam Brex Design Showroom":MAILTO:askauntv@gmail.com
END:VEVENT
BEGIN:VEVENT
DTSTART;TZID=America/Chicago:20210306T180000
DTEND;TZID=America/Chicago:20210306T203000
DTSTAMP:20260425T095552
CREATED:20201019T155256Z
LAST-MODIFIED:20210106T225359Z
UID:774-1615053600-1615062600@askauntv.com
SUMMARY:SOLD OUT - Dinner in Poland
DESCRIPTION:Homemade Pierogi\nGalumpki (Cabbage Rolls)\nPotato Pancakes\nBeet Salad\n\nClick to RSVP for pre-paid guests
URL:https://askauntv.com/event/dinner-in-poland-2/
LOCATION:Ask Aunt V Cooking Class\, 222 South Main Street\, Naperville\, IL\, 60540\, United States
CATEGORIES:Group Classes
ATTACH;FMTTYPE=image/jpeg:https://askauntv.com/wp-content/uploads/2020/10/poland-castle-malbork-1104042.jpg
ORGANIZER;CN="Classes are held inside Liam Brex Design Showroom":MAILTO:askauntv@gmail.com
END:VEVENT
END:VCALENDAR