BEGIN:VCALENDAR
VERSION:2.0
PRODID:-//Ask Aunt V - ECPv6.9.0//NONSGML v1.0//EN
CALSCALE:GREGORIAN
METHOD:PUBLISH
X-WR-CALNAME:Ask Aunt V
X-ORIGINAL-URL:https://askauntv.com
X-WR-CALDESC:Events for Ask Aunt V
REFRESH-INTERVAL;VALUE=DURATION:PT1H
X-Robots-Tag:noindex
X-PUBLISHED-TTL:PT1H
BEGIN:VTIMEZONE
TZID:America/Chicago
BEGIN:DAYLIGHT
TZOFFSETFROM:-0600
TZOFFSETTO:-0500
TZNAME:CDT
DTSTART:20210314T080000
END:DAYLIGHT
BEGIN:STANDARD
TZOFFSETFROM:-0500
TZOFFSETTO:-0600
TZNAME:CST
DTSTART:20211107T070000
END:STANDARD
BEGIN:DAYLIGHT
TZOFFSETFROM:-0600
TZOFFSETTO:-0500
TZNAME:CDT
DTSTART:20220313T080000
END:DAYLIGHT
BEGIN:STANDARD
TZOFFSETFROM:-0500
TZOFFSETTO:-0600
TZNAME:CST
DTSTART:20221106T070000
END:STANDARD
END:VTIMEZONE
BEGIN:VEVENT
DTSTART;TZID=America/Chicago:20220113T180000
DTEND;TZID=America/Chicago:20220113T203000
DTSTAMP:20260425T081311
CREATED:20210814T184716Z
LAST-MODIFIED:20211129T193207Z
UID:2110-1642096800-1642105800@askauntv.com
SUMMARY:SOLD OUT - Middle Eastern Cuisine - Vegan
DESCRIPTION:Homemade Falafel\nVegan Tzatziki\nHomemade Sweet Pepper Hummus\n\nClick Here to RSVP for Gift Certificates and Pre-Paid Guests
URL:https://askauntv.com/event/middle-eastern-cuisine-group-vegan/
LOCATION:Ask Aunt V Cooking Class\, 222 South Main Street\, Naperville\, IL\, 60540\, United States
CATEGORIES:Group Classes,Teens,Tweens
ATTACH;FMTTYPE=image/jpeg:https://askauntv.com/wp-content/uploads/2020/12/Falafel.jpg
ORGANIZER;CN="Classes are held inside Liam Brex Design Showroom":MAILTO:askauntv@gmail.com
END:VEVENT
BEGIN:VEVENT
DTSTART;TZID=America/Chicago:20220108T180000
DTEND;TZID=America/Chicago:20220108T203000
DTSTAMP:20260425T081311
CREATED:20211118T161355Z
LAST-MODIFIED:20211209T164655Z
UID:2432-1641664800-1641673800@askauntv.com
SUMMARY:SOLD OUT - Tropical Dinner
DESCRIPTION:Caribbean Chicken with Lime-Cayenne Butter\nAvocado Pineapple Salad\nCoconut Rice\n\nClick HERE to RSVP for Gift Certificates and Pre-Paid Guests
URL:https://askauntv.com/event/tropical-dinner-2/
LOCATION:Ask Aunt V Cooking Class\, 222 South Main Street\, Naperville\, IL\, 60540\, United States
CATEGORIES:Group Classes
ATTACH;FMTTYPE=image/jpeg:https://askauntv.com/wp-content/uploads/2020/12/Tropical-Island-Dinner-Table.jpg
ORGANIZER;CN="Classes are held inside Liam Brex Design Showroom":MAILTO:askauntv@gmail.com
END:VEVENT
BEGIN:VEVENT
DTSTART;TZID=America/Chicago:20220106T180000
DTEND;TZID=America/Chicago:20220106T203000
DTSTAMP:20260425T081311
CREATED:20211118T160841Z
LAST-MODIFIED:20211118T184539Z
UID:2427-1641492000-1641501000@askauntv.com
SUMMARY:SOLD OUT - Tropical Dinner
DESCRIPTION:Caribbean Chicken with Lime-Cayenne Butter\nAvocado Pineapple Salad\nCoconut Rice\n\nClick HERE to RSVP for Gift Certificates and Pre-Paid Guests
URL:https://askauntv.com/event/tropical-dinner/
LOCATION:Ask Aunt V Cooking Class\, 222 South Main Street\, Naperville\, IL\, 60540\, United States
CATEGORIES:Group Classes,Teens,Tweens
ATTACH;FMTTYPE=image/jpeg:https://askauntv.com/wp-content/uploads/2020/12/Tropical-Island-Dinner-Table.jpg
ORGANIZER;CN="Classes are held inside Liam Brex Design Showroom":MAILTO:askauntv@gmail.com
END:VEVENT
BEGIN:VEVENT
DTSTART;TZID=America/Chicago:20211229T110000
DTEND;TZID=America/Chicago:20211229T114500
DTSTAMP:20260425T081311
CREATED:20201223T212213Z
LAST-MODIFIED:20211221T164206Z
UID:1185-1640775600-1640778300@askauntv.com
SUMMARY:Inside Out Club - Tag! You're It! Online Cookie Class
DESCRIPTION:“Spreading Love & Cheer This Winter” Indoor Out Club \nDelicious Fun – A Child Friendly Cookie Class\n\n\nA cooking class that is step-by-step geared to a child’s ability. \nChildren can cook along with the online class or watch the process. \nAdult supervision and/or participation is encouraged. \nThe class lasts 30 to 45 minutes\nAt the end….you have cookies!!!\n\n  \n  \n  \n  \n  \n  \n  \n  \n  \n  \n  \n 
URL:https://askauntv.com/event/inside-out-club-tag-youre-it-online-cookie-class-2/
LOCATION:Ask Aunt V Online
CATEGORIES:Children,Junior Chef,Mommy and Me,Premium Classes,Teens,Tweens
ATTACH;FMTTYPE=image/jpeg:https://askauntv.com/wp-content/uploads/2021/01/dough-cookie-cut-out-2940165.jpg
ORGANIZER;CN="Ask Aunt V Online":MAILTO:askauntv@gmail.com
END:VEVENT
BEGIN:VEVENT
DTSTART;TZID=America/Chicago:20211221T180000
DTEND;TZID=America/Chicago:20211221T203000
DTSTAMP:20260425T081311
CREATED:20211026T233847Z
LAST-MODIFIED:20211126T182552Z
UID:2358-1640109600-1640118600@askauntv.com
SUMMARY:“Bon appétit!” Dinner in France
DESCRIPTION:French cuisine\, easy\, and elegant! \n\nChicken Wellington\nHaricots Verts Amandine (Green Beans Almondine)\nClassic French Spinach Au Gratin\n\nClick HERE to RSVP for Gift Certificates and Pre-Paid Guests
URL:https://askauntv.com/event/bon-appetit-dinner-in-france/
LOCATION:Ask Aunt V Cooking Class\, 222 South Main Street\, Naperville\, IL\, 60540\, United States
CATEGORIES:Group Classes
ATTACH;FMTTYPE=image/jpeg:https://askauntv.com/wp-content/uploads/2021/10/French_spinach-au-gratin.jpg
ORGANIZER;CN="Classes are held inside Liam Brex Design Showroom":MAILTO:askauntv@gmail.com
END:VEVENT
BEGIN:VEVENT
DTSTART;TZID=America/Chicago:20211218T180000
DTEND;TZID=America/Chicago:20211218T203000
DTSTAMP:20260425T081311
CREATED:20211028T194702Z
LAST-MODIFIED:20211113T151832Z
UID:2392-1639850400-1639859400@askauntv.com
SUMMARY:SOLD OUT - Holiday Party Entertaining
DESCRIPTION:Classic Appetizers and Entertaining \n\nCheese Fondue\nBaked Brie\nHoliday Wreath Appetizers\nBaked Dates with Blue Cheese and Prosciutto\n\nClick HERE to RSVP for Gift Certificates and Pre-Paid Guests
URL:https://askauntv.com/event/holiday-party-entertaining-2/
LOCATION:Ask Aunt V Cooking Class\, 222 South Main Street\, Naperville\, IL\, 60540\, United States
CATEGORIES:Group Classes
ATTACH;FMTTYPE=image/jpeg:https://askauntv.com/wp-content/uploads/2021/10/fondue-chocolate-fondue-chocolate-4894249.jpg
ORGANIZER;CN="Classes are held inside Liam Brex Design Showroom":MAILTO:askauntv@gmail.com
END:VEVENT
BEGIN:VEVENT
DTSTART;TZID=America/Chicago:20211218T110000
DTEND;TZID=America/Chicago:20211218T133000
DTSTAMP:20260425T081311
CREATED:20211028T193137Z
LAST-MODIFIED:20211113T151930Z
UID:2380-1639825200-1639834200@askauntv.com
SUMMARY:SOLD OUT - Classic Christmas Cookies
DESCRIPTION:One of the best smells in the world is homemade Christmas cookies fresh from the oven. \n\nShortbread\nKolachy\nPecan Pixies – A Chicago Classic\n\nClick here to RSVP for Gift Certificates and Pre-Paid Guests
URL:https://askauntv.com/event/christmas-cookies-2/
LOCATION:Ask Aunt V Cooking Class\, 222 South Main Street\, Naperville\, IL\, 60540\, United States
CATEGORIES:Children,Group Classes,Junior Chef,Mommy and Me,Teens,Tweens
ATTACH;FMTTYPE=image/jpeg:https://askauntv.com/wp-content/uploads/2021/10/Cookies-kolachy.jpg
ORGANIZER;CN="Classes are held inside Liam Brex Design Showroom":MAILTO:askauntv@gmail.com
END:VEVENT
BEGIN:VEVENT
DTSTART;TZID=America/Chicago:20211216T180000
DTEND;TZID=America/Chicago:20211216T203000
DTSTAMP:20260425T081311
CREATED:20211028T194323Z
LAST-MODIFIED:20211123T184949Z
UID:2387-1639677600-1639686600@askauntv.com
SUMMARY:SOLD OUT - Holiday Party Entertaining
DESCRIPTION:Content is protected.
URL:https://askauntv.com/event/holiday-party-entertaining/
LOCATION:Ask Aunt V Cooking Class\, 222 South Main Street\, Naperville\, IL\, 60540\, United States
CATEGORIES:Group Classes
ORGANIZER;CN="Classes are held inside Liam Brex Design Showroom":MAILTO:askauntv@gmail.com
END:VEVENT
BEGIN:VEVENT
DTSTART;TZID=America/Chicago:20211211T110000
DTEND;TZID=America/Chicago:20211211T133000
DTSTAMP:20260425T081311
CREATED:20211028T191534Z
LAST-MODIFIED:20211118T171605Z
UID:2374-1639220400-1639229400@askauntv.com
SUMMARY:SOLD OUT - Christmas Cookies
DESCRIPTION:One of the best smells in the world is homemade Christmas cookies fresh from the oven. \n\nSugar Cookies for decoration\nSnowball Cookies (Mexican Wedding Cookies)\nPecan Pixies – A Chicago Classic\n\nClick here to RSVP for Gift Certificates and Pre-Paid Guests
URL:https://askauntv.com/event/christmas-cookies/
LOCATION:Ask Aunt V Cooking Class\, 222 South Main Street\, Naperville\, IL\, 60540\, United States
CATEGORIES:Children,Group Classes,Junior Chef,Mommy and Me,Teens,Tweens
ATTACH;FMTTYPE=image/jpeg:https://askauntv.com/wp-content/uploads/2021/10/santa-claus-hot-chocolate-christmas-cookies-1906513.jpg
ORGANIZER;CN="Classes are held inside Liam Brex Design Showroom":MAILTO:askauntv@gmail.com
END:VEVENT
BEGIN:VEVENT
DTSTART;TZID=America/Chicago:20211209T180000
DTEND;TZID=America/Chicago:20211209T203000
DTSTAMP:20260425T081311
CREATED:20211026T004349Z
LAST-MODIFIED:20211104T170054Z
UID:2345-1639072800-1639081800@askauntv.com
SUMMARY:Christmas in Poland
DESCRIPTION:Homemade Pierogi (potato)\nGalumpki (stuffed cabbage)\nPoppy Seed Rolled Cake\n\nClick HERE to RSVP for Gift Certificates and Pre-Paid Guests \n 
URL:https://askauntv.com/event/christmas-in-poland/
LOCATION:Ask Aunt V Cooking Class\, 222 South Main Street\, Naperville\, IL\, 60540\, United States
CATEGORIES:Group Classes
ATTACH;FMTTYPE=image/jpeg:https://askauntv.com/wp-content/uploads/2021/10/Polish-Christmas-Pierogi-1.jpg
ORGANIZER;CN="Classes are held inside Liam Brex Design Showroom":MAILTO:askauntv@gmail.com
END:VEVENT
BEGIN:VEVENT
DTSTART;TZID=America/Chicago:20211120T110000
DTEND;TZID=America/Chicago:20211120T140000
DTSTAMP:20260425T081311
CREATED:20211008T194920Z
LAST-MODIFIED:20211025T200925Z
UID:2306-1637406000-1637416800@askauntv.com
SUMMARY:Holiday Desserts
DESCRIPTION:Homemade Pie Dough\nApple Pie\nApple Crisp\nPumpkin Pasties\n\nClick HERE to RSVP for Gift Certificates and Pre-Paid Guests
URL:https://askauntv.com/event/holiday-desserts/
LOCATION:Ask Aunt V Cooking Class\, 222 South Main Street\, Naperville\, IL\, 60540\, United States
CATEGORIES:Group Classes
ATTACH;FMTTYPE=image/jpeg:https://askauntv.com/wp-content/uploads/2021/10/pie-apples-fruit-5601656.jpg
ORGANIZER;CN="Classes are held inside Liam Brex Design Showroom":MAILTO:askauntv@gmail.com
END:VEVENT
BEGIN:VEVENT
DTSTART;TZID=America/Chicago:20211111T163000
DTEND;TZID=America/Chicago:20211111T183000
DTSTAMP:20260425T081311
CREATED:20210831T220652Z
LAST-MODIFIED:20211108T170700Z
UID:2188-1636648200-1636655400@askauntv.com
SUMMARY:SOLD OUT - Pizza Party - Group
DESCRIPTION:Homemade pizza dough\nMake your own pizza\nGarlic Bread\nParmesan Zucchini Boats\n\nClick here to RSVP for Gift Certificates and Pre-Paid Guests
URL:https://askauntv.com/event/pizza-party-group/
LOCATION:Ask Aunt V Cooking Class\, 222 South Main Street\, Naperville\, IL\, 60540\, United States
CATEGORIES:Group Classes,Private Classes & Events
ATTACH;FMTTYPE=image/jpeg:https://askauntv.com/wp-content/uploads/2021/08/pizza-drink-food-386717.jpg
ORGANIZER;CN="Classes are held inside Liam Brex Design Showroom":MAILTO:askauntv@gmail.com
END:VEVENT
BEGIN:VEVENT
DTSTART;TZID=America/Chicago:20211106T180000
DTEND;TZID=America/Chicago:20211106T203000
DTSTAMP:20260425T081311
CREATED:20210825T152402Z
LAST-MODIFIED:20211008T193349Z
UID:2135-1636221600-1636230600@askauntv.com
SUMMARY:SOLD OUT - Peruvian Dinner Party
DESCRIPTION:Vegan Lomo Saltado with vegan pasta\nVegetable Ceviche\nPeruvian Pastel de Papa
URL:https://askauntv.com/event/sold-out-peruvian-dinner-party/
LOCATION:IL
CATEGORIES:Group Classes
ATTACH;FMTTYPE=image/jpeg:https://askauntv.com/wp-content/uploads/2021/08/farmers-market-peppers-colorful-718272.jpg
END:VEVENT
BEGIN:VEVENT
DTSTART;TZID=America/Chicago:20211030T180000
DTEND;TZID=America/Chicago:20211030T203000
DTSTAMP:20260425T081311
CREATED:20210909T231050Z
LAST-MODIFIED:20211025T200328Z
UID:2226-1635616800-1635625800@askauntv.com
SUMMARY:SOLD OUT - Crispy Chicken Sliders Challenge
DESCRIPTION:Spicy Buffalo | Spicy Deluxe | Classic Crispy\nCole Slaw\nRanch Dressing / Blue Cheese Dressing\nCelery Carrot Blue Cheese Toppings\n\nClick here to RSVP for Gift Certificates and Pre-Paid Guests
URL:https://askauntv.com/event/crispy-chicken-sandwich-challenge-2/
LOCATION:Ask Aunt V Cooking Class\, 222 South Main Street\, Naperville\, IL\, 60540\, United States
CATEGORIES:Group Classes
ATTACH;FMTTYPE=image/jpeg:https://askauntv.com/wp-content/uploads/2021/09/american-background-barbecue-1334633.jpg
ORGANIZER;CN="Classes are held inside Liam Brex Design Showroom":MAILTO:askauntv@gmail.com
END:VEVENT
BEGIN:VEVENT
DTSTART;TZID=America/Chicago:20211028T180000
DTEND;TZID=America/Chicago:20211028T203000
DTSTAMP:20260425T081311
CREATED:20210909T230856Z
LAST-MODIFIED:20211015T181658Z
UID:2221-1635444000-1635453000@askauntv.com
SUMMARY:SOLD OUT - Crispy Chicken Sliders Challenge
DESCRIPTION:Spicy Buffalo | Spicy Deluxe | Classic Crispy\nCole Slaw\nRanch Dressing / Blue Cheese Dressing\nCelery Carrot Blue Cheese Toppings\n\nClick here to RSVP for Gift Certificates and Pre-Paid Guests
URL:https://askauntv.com/event/crispy-chicken-sandwich-challenge/
LOCATION:Ask Aunt V Cooking Class\, 222 South Main Street\, Naperville\, IL\, 60540\, United States
CATEGORIES:Group Classes
ATTACH;FMTTYPE=image/jpeg:https://askauntv.com/wp-content/uploads/2021/09/american-background-barbecue-1334633.jpg
ORGANIZER;CN="Classes are held inside Liam Brex Design Showroom":MAILTO:askauntv@gmail.com
END:VEVENT
BEGIN:VEVENT
DTSTART;TZID=America/Chicago:20211021T180000
DTEND;TZID=America/Chicago:20211021T203000
DTSTAMP:20260425T081311
CREATED:20210831T215438Z
LAST-MODIFIED:20211008T193301Z
UID:2170-1634839200-1634848200@askauntv.com
SUMMARY:SOLD OUT - Harvest Full Meal Salads - Vegetarian/Vegan - Group
DESCRIPTION:Harvest Salad\nRoasted Beet Salad\nLentil Salad\n\nClick here to RSVP for Gift Certificates and Pre-Paid Guests
URL:https://askauntv.com/event/harvest-full-meal-salads-vegetarian-vegan-group/
LOCATION:Ask Aunt V Cooking Class\, 222 South Main Street\, Naperville\, IL\, 60540\, United States
CATEGORIES:Group Classes
ATTACH;FMTTYPE=image/jpeg:https://askauntv.com/wp-content/uploads/2021/08/vegetables-tomatoes-leek-1363033.jpg
ORGANIZER;CN="Classes are held inside Liam Brex Design Showroom":MAILTO:askauntv@gmail.com
END:VEVENT
BEGIN:VEVENT
DTSTART;TZID=America/Chicago:20211016T180000
DTEND;TZID=America/Chicago:20211016T203000
DTSTAMP:20260425T081311
CREATED:20210831T214308Z
LAST-MODIFIED:20211015T181842Z
UID:2166-1634407200-1634416200@askauntv.com
SUMMARY:SOLD OUT - Tailgate Party - Group
DESCRIPTION:White Chili\nRoasted Jalapeño Poppers\nCornbread\n\nClick here to RSVP for Gift Certificates and Pre-Paid Guests
URL:https://askauntv.com/event/tailgate-party-group-2/
LOCATION:Ask Aunt V Cooking Class\, 222 South Main Street\, Naperville\, IL\, 60540\, United States
CATEGORIES:Group Classes
ATTACH;FMTTYPE=image/jpeg:https://askauntv.com/wp-content/uploads/2021/08/face-tomatoes-chili-3117412.jpg
ORGANIZER;CN="Classes are held inside Liam Brex Design Showroom":MAILTO:askauntv@gmail.com
END:VEVENT
BEGIN:VEVENT
DTSTART;TZID=America/Chicago:20211014T180000
DTEND;TZID=America/Chicago:20211014T203000
DTSTAMP:20260425T081311
CREATED:20210831T214139Z
LAST-MODIFIED:20211008T193522Z
UID:2160-1634234400-1634243400@askauntv.com
SUMMARY:SOLD OUT - Tailgate Party - Group
DESCRIPTION:White Chili\nRoasted Jalapeño Poppers\nCornbread\n\nClick here to RSVP for Gift Certificates and Pre-Paid Guests
URL:https://askauntv.com/event/tailgate-party-group/
LOCATION:Ask Aunt V Cooking Class\, 222 South Main Street\, Naperville\, IL\, 60540\, United States
CATEGORIES:Group Classes
ATTACH;FMTTYPE=image/jpeg:https://askauntv.com/wp-content/uploads/2021/08/face-tomatoes-chili-3117412.jpg
ORGANIZER;CN="Classes are held inside Liam Brex Design Showroom":MAILTO:askauntv@gmail.com
END:VEVENT
BEGIN:VEVENT
DTSTART;TZID=America/Chicago:20211009T180000
DTEND;TZID=America/Chicago:20211009T203000
DTSTAMP:20260425T081311
CREATED:20210831T212647Z
LAST-MODIFIED:20210901T181547Z
UID:2156-1633802400-1633811400@askauntv.com
SUMMARY:SOLD OUT - Octoberfest - Group
DESCRIPTION:Homemade German Spaetzle\nBratwurst and Sauerkraut\nHomemade Pretzel\n\nClick here to RSVP for Gift Certificates and Pre-Paid Guests
URL:https://askauntv.com/event/octoberfest-group-2/
LOCATION:Ask Aunt V Cooking Class\, 222 South Main Street\, Naperville\, IL\, 60540\, United States
CATEGORIES:Group Classes
ATTACH;FMTTYPE=image/png:https://askauntv.com/wp-content/uploads/2021/08/oktoberfest-beer-sausage-4221209.png
ORGANIZER;CN="Classes are held inside Liam Brex Design Showroom":MAILTO:askauntv@gmail.com
END:VEVENT
BEGIN:VEVENT
DTSTART;TZID=America/Chicago:20211008T180000
DTEND;TZID=America/Chicago:20211008T203000
DTSTAMP:20260425T081311
CREATED:20210901T181736Z
LAST-MODIFIED:20210928T143349Z
UID:2197-1633716000-1633725000@askauntv.com
SUMMARY:Octoberfest - Group
DESCRIPTION:Homemade German Spaetzle\nBratwurst and Sauerkraut\nHomemade Pretzel\n\nClick here to RSVP for Gift Certificates and Pre-Paid Guests
URL:https://askauntv.com/event/octoberfest-group-3/
LOCATION:Ask Aunt V Cooking Class\, 222 South Main Street\, Naperville\, IL\, 60540\, United States
CATEGORIES:Group Classes
ATTACH;FMTTYPE=image/png:https://askauntv.com/wp-content/uploads/2021/08/oktoberfest-beer-sausage-4221209.png
ORGANIZER;CN="Classes are held inside Liam Brex Design Showroom":MAILTO:askauntv@gmail.com
END:VEVENT
BEGIN:VEVENT
DTSTART;TZID=America/Chicago:20211007T180000
DTEND;TZID=America/Chicago:20211007T203000
DTSTAMP:20260425T081311
CREATED:20210831T212445Z
LAST-MODIFIED:20210928T143251Z
UID:2151-1633629600-1633638600@askauntv.com
SUMMARY:SOLD OUT - Octoberfest - Group
DESCRIPTION:Homemade German Spaetzle\nBratwurst and Sauerkraut\nHomemade Pretzel\n\nClick here to RSVP for Gift Certificates and Pre-Paid Guests
URL:https://askauntv.com/event/octoberfest-group/
LOCATION:Ask Aunt V Cooking Class\, 222 South Main Street\, Naperville\, IL\, 60540\, United States
CATEGORIES:Group Classes
ATTACH;FMTTYPE=image/png:https://askauntv.com/wp-content/uploads/2021/08/oktoberfest-beer-sausage-4221209.png
ORGANIZER;CN="Classes are held inside Liam Brex Design Showroom":MAILTO:askauntv@gmail.com
END:VEVENT
BEGIN:VEVENT
DTSTART;TZID=America/Chicago:20211001T180000
DTEND;TZID=America/Chicago:20211001T203000
DTSTAMP:20260425T081311
CREATED:20210910T190349Z
LAST-MODIFIED:20210910T190917Z
UID:2233-1633111200-1633120200@askauntv.com
SUMMARY:SOLD OUT - Cast Iron Skillet Meals - Group
DESCRIPTION:Skillet-Roasted Chicken with Rosemary\, Garlic\, and Maple-Balsamic Glaze\nRosemary Roasted Potatoes\nSautéed Green Beans with Melting Tomatoes and Nuts\n\nClick here to RSVP for Gift Certificates or Pre-Paid Classes
URL:https://askauntv.com/event/cast-iron-skillet-meals-group-2/
LOCATION:Ask Aunt V Cooking Class\, 222 South Main Street\, Naperville\, IL\, 60540\, United States
CATEGORIES:Group Classes
ATTACH;FMTTYPE=image/jpeg:https://askauntv.com/wp-content/uploads/2021/09/cast-iron-cooking_chicken_pixabay.jpg
ORGANIZER;CN="Classes are held inside Liam Brex Design Showroom":MAILTO:askauntv@gmail.com
END:VEVENT
BEGIN:VEVENT
DTSTART;TZID=America/Chicago:20210909T180000
DTEND;TZID=America/Chicago:20210909T203000
DTSTAMP:20260425T081311
CREATED:20210902T191150Z
LAST-MODIFIED:20210902T191150Z
UID:2204-1631210400-1631219400@askauntv.com
SUMMARY:SOLD OUT - Middle Eastern Cuisine - Group - Vegan
DESCRIPTION:Homemade Falafel\nVegan Tzatziki\nSweet Pepper Hummus\n\nClick Here to RSVP for Gift Certificates and Pre-Paid Guests
URL:https://askauntv.com/event/sold-out-middle-eastern-cuisine-group-vegan/
LOCATION:Ask Aunt V Cooking Class\, 222 South Main Street\, Naperville\, IL\, 60540\, United States
CATEGORIES:Group Classes
ATTACH;FMTTYPE=image/jpeg:https://askauntv.com/wp-content/uploads/2020/12/Falafel.jpg
ORGANIZER;CN="Classes are held inside Liam Brex Design Showroom":MAILTO:askauntv@gmail.com
END:VEVENT
BEGIN:VEVENT
DTSTART;TZID=America/Chicago:20210904T110000
DTEND;TZID=America/Chicago:20210904T140000
DTSTAMP:20260425T081311
CREATED:20210813T210712Z
LAST-MODIFIED:20210830T223449Z
UID:2087-1630753200-1630764000@askauntv.com
SUMMARY:Summertime Fruit Pies and Pastries
DESCRIPTION:Homemade Pie Dough\nSummer Fruit Pie\nStrawberry Shortcake\nFruit Tarts\n\nClick HERE to RSVP for Gift Certificates and Pre-Paid Guests
URL:https://askauntv.com/event/summertime-fruit-pies-and-pastries-2/
LOCATION:Ask Aunt V Cooking Class\, 222 South Main Street\, Naperville\, IL\, 60540\, United States
CATEGORIES:Group Classes
ATTACH;FMTTYPE=image/jpeg:https://askauntv.com/wp-content/uploads/2021/08/blueberries-fruit-healthy-3460423.jpg
ORGANIZER;CN="Classes are held inside Liam Brex Design Showroom":MAILTO:askauntv@gmail.com
END:VEVENT
BEGIN:VEVENT
DTSTART;TZID=America/Chicago:20210902T180000
DTEND;TZID=America/Chicago:20210902T203000
DTSTAMP:20260425T081311
CREATED:20210814T184403Z
LAST-MODIFIED:20210825T223047Z
UID:2106-1630605600-1630614600@askauntv.com
SUMMARY:Mexican Fiesta
DESCRIPTION:Celebrate the end of summer \n\nHomemade Corn Tortillas\nChicken Tacos\nFiesta Slaw\nCheesy Polenta Mezcla\n\nClick HERE to RSVP for Gift Certificates or Pre-Paid Guests
URL:https://askauntv.com/event/mexican-fiesta-10/
LOCATION:Ask Aunt V Cooking Class\, 222 South Main Street\, Naperville\, IL\, 60540\, United States
CATEGORIES:Group Classes
ATTACH;FMTTYPE=image/jpeg:https://askauntv.com/wp-content/uploads/2021/03/taco-mexican-food-food-2610649.jpg
ORGANIZER;CN="Classes are held inside Liam Brex Design Showroom":MAILTO:askauntv@gmail.com
END:VEVENT
BEGIN:VEVENT
DTSTART;TZID=America/Chicago:20210828T180000
DTEND;TZID=America/Chicago:20210828T203000
DTSTAMP:20260425T081311
CREATED:20210717T180020Z
LAST-MODIFIED:20210718T214832Z
UID:2035-1630173600-1630182600@askauntv.com
SUMMARY:SOLD OUT - Valenicia By The Sea - Group Class
DESCRIPTION:Paella Valenciana\nSofrito\nSpanish Salmorejo Soup\nGrilled Peaches with Blue Cheese and Balsamic Drizzle\n\nClick HERE to RSVP for Gift Certificates and Pre-Paid Guests
URL:https://askauntv.com/event/sold-out-valenicia-by-the-sea-group-class/
LOCATION:Ask Aunt V Cooking Class\, 222 South Main Street\, Naperville\, IL\, 60540\, United States
CATEGORIES:Group Classes
ATTACH;FMTTYPE=image/jpeg:https://askauntv.com/wp-content/uploads/2021/07/paella-lena-mixed-1167973.jpg
ORGANIZER;CN="Classes are held inside Liam Brex Design Showroom":MAILTO:askauntv@gmail.com
END:VEVENT
BEGIN:VEVENT
DTSTART;TZID=America/Chicago:20210828T110000
DTEND;TZID=America/Chicago:20210828T140000
DTSTAMP:20260425T081311
CREATED:20210813T210421Z
LAST-MODIFIED:20210813T210421Z
UID:2081-1630148400-1630159200@askauntv.com
SUMMARY:Summertime Fruit Pies and Pastries
DESCRIPTION:Homemade Pie Dough\nSummer Fruit Pie\nStrawberry Shortcake\nFruit Tarts\n\nClick HERE to RSVP for Gift Certificates and Pre-Paid Guests
URL:https://askauntv.com/event/summertime-fruit-pies-and-pastries/
LOCATION:Ask Aunt V Cooking Class\, 222 South Main Street\, Naperville\, IL\, 60540\, United States
CATEGORIES:Group Classes
ATTACH;FMTTYPE=image/jpeg:https://askauntv.com/wp-content/uploads/2021/08/blueberries-fruit-healthy-3460423.jpg
ORGANIZER;CN="Classes are held inside Liam Brex Design Showroom":MAILTO:askauntv@gmail.com
END:VEVENT
BEGIN:VEVENT
DTSTART;TZID=America/Chicago:20210826T180000
DTEND;TZID=America/Chicago:20210826T203000
DTSTAMP:20260425T081311
CREATED:20210717T175854Z
LAST-MODIFIED:20210806T134639Z
UID:2030-1630000800-1630009800@askauntv.com
SUMMARY:SOLD OUT - Valenicia By The Sea - Group Class
DESCRIPTION:Paella Valenciana\nSofrito\nSpanish Salmorejo Soup\nGrilled Peaches with Blue Cheese and Balsamic Drizzle\n\nClick HERE to RSVP for Gift Certificates and Pre-Paid Guests
URL:https://askauntv.com/event/valenicia-by-the-sea-group-class/
LOCATION:Ask Aunt V Cooking Class\, 222 South Main Street\, Naperville\, IL\, 60540\, United States
CATEGORIES:Group Classes
ATTACH;FMTTYPE=image/jpeg:https://askauntv.com/wp-content/uploads/2021/07/paella-lena-mixed-1167973.jpg
ORGANIZER;CN="Classes are held inside Liam Brex Design Showroom":MAILTO:askauntv@gmail.com
END:VEVENT
BEGIN:VEVENT
DTSTART;TZID=America/Chicago:20210821T180000
DTEND;TZID=America/Chicago:20210821T203000
DTSTAMP:20260425T081311
CREATED:20210717T173407Z
LAST-MODIFIED:20210720T205807Z
UID:2022-1629568800-1629577800@askauntv.com
SUMMARY:SOLD OUT - Spanish Nights - Group Class - Vegan
DESCRIPTION:Murcian Style Vegan Paella\nSofrito\nSpanish Salmorejo Soup\nGrilled Peaches with Balsamic Drizzle\n\nGrilled Peaches with Balsamic Drizzle \nClick HERE to RSVP for Gift Certificates and Pre-Paid Guests
URL:https://askauntv.com/event/spanish-nights-group-class-vegan-2/
LOCATION:Ask Aunt V Cooking Class\, 222 South Main Street\, Naperville\, IL\, 60540\, United States
CATEGORIES:Group Classes
ATTACH;FMTTYPE=image/jpeg:https://askauntv.com/wp-content/uploads/2021/07/paella-rice-peas-926303.jpg
ORGANIZER;CN="Classes are held inside Liam Brex Design Showroom":MAILTO:askauntv@gmail.com
END:VEVENT
BEGIN:VEVENT
DTSTART;TZID=America/Chicago:20210819T180000
DTEND;TZID=America/Chicago:20210819T203000
DTSTAMP:20260425T081311
CREATED:20210717T173237Z
LAST-MODIFIED:20210813T203425Z
UID:2017-1629396000-1629405000@askauntv.com
SUMMARY:SOLD OUT - Spanish Nights - Group Class - Vegan
DESCRIPTION:Murcian Style Vegan Paella\nSofrito\nSpanish Salmorejo Soup\nGrilled Peaches with Balsamic Drizzle\n\nClick HERE to RSVP for Gift Certificates and Pre-Paid Guests
URL:https://askauntv.com/event/spanish-nights-group-class-vegan/
LOCATION:Ask Aunt V Cooking Class\, 222 South Main Street\, Naperville\, IL\, 60540\, United States
CATEGORIES:Group Classes
ATTACH;FMTTYPE=image/jpeg:https://askauntv.com/wp-content/uploads/2021/07/paella-rice-peas-926303.jpg
ORGANIZER;CN="Classes are held inside Liam Brex Design Showroom":MAILTO:askauntv@gmail.com
END:VEVENT
END:VCALENDAR