BEGIN:VCALENDAR
VERSION:2.0
PRODID:-//Ask Aunt V - ECPv6.9.0//NONSGML v1.0//EN
CALSCALE:GREGORIAN
METHOD:PUBLISH
X-ORIGINAL-URL:https://askauntv.com
X-WR-CALDESC:Events for Ask Aunt V
REFRESH-INTERVAL;VALUE=DURATION:PT1H
X-Robots-Tag:noindex
X-PUBLISHED-TTL:PT1H
BEGIN:VTIMEZONE
TZID:America/Chicago
BEGIN:DAYLIGHT
TZOFFSETFROM:-0600
TZOFFSETTO:-0500
TZNAME:CDT
DTSTART:20260308T080000
END:DAYLIGHT
BEGIN:STANDARD
TZOFFSETFROM:-0500
TZOFFSETTO:-0600
TZNAME:CST
DTSTART:20261101T070000
END:STANDARD
END:VTIMEZONE
BEGIN:VEVENT
DTSTART;TZID=America/Chicago:20260117T180000
DTEND;TZID=America/Chicago:20260117T210000
DTSTAMP:20260425T093839
CREATED:20240424T000908Z
LAST-MODIFIED:20260107T204340Z
UID:4791-1768672800-1768683600@askauntv.com
SUMMARY:SOLD OUT - Thai Kitchen
DESCRIPTION:Pad Thai – chicken\, shrimp\, tofu\nAuthentic Pad Thai Tamarind Sauce\, Phrik Phon Khua\, Phrik Naam Som\nThai Coconut Chicken Soup {Tom Kha Gai)\n\nClick HERE to RSVP for Gift Certificates and Pre-Paid Guests
URL:https://askauntv.com/event/thai-kitchen-6/
LOCATION:Ask Aunt V Cooking Class\, 222 South Main Street\, Naperville\, IL\, 60540\, United States
CATEGORIES:Group Classes
ATTACH;FMTTYPE=image/jpeg:https://askauntv.com/wp-content/uploads/2021/11/pad-thai-pad-thai-prawn-thai-food-4705276.jpg
ORGANIZER;CN="Classes are held inside Liam Brex Design Showroom":MAILTO:askauntv@gmail.com
END:VEVENT
BEGIN:VEVENT
DTSTART;TZID=America/Chicago:20260124T180000
DTEND;TZID=America/Chicago:20260124T210000
DTSTAMP:20260425T093839
CREATED:20231121T181634Z
LAST-MODIFIED:20251220T192722Z
UID:4594-1769277600-1769288400@askauntv.com
SUMMARY:Keto-Riffic
DESCRIPTION:Coconut Shrimp\nCoconut Broccoli Rice\nWedge Salad\n\nClick here to RSVP for Pre-Paid Guests
URL:https://askauntv.com/event/keto-riffic-4/
LOCATION:Ask Aunt V Cooking Class\, 222 South Main Street\, Naperville\, IL\, 60540\, United States
CATEGORIES:Group Classes
ATTACH;FMTTYPE=image/jpeg:https://askauntv.com/wp-content/uploads/2020/12/Keto-shrimp.jpg
ORGANIZER;CN="Classes are held inside Liam Brex Design Showroom":MAILTO:askauntv@gmail.com
END:VEVENT
BEGIN:VEVENT
DTSTART;TZID=America/Chicago:20260131T170000
DTEND;TZID=America/Chicago:20260131T200000
DTSTAMP:20260425T093839
CREATED:20240120T004944Z
LAST-MODIFIED:20251219T225630Z
UID:4706-1769878800-1769889600@askauntv.com
SUMMARY:Tropical Island
DESCRIPTION:Tropical Chicken Soup\nCaribbean Chicken Skewers with Coconut Rice\nAvocado Pineapple Salad\n\nPlease Click Here to RSVP for Pre-Paid Guests \n*The chef reserves the right to determine if a menu item needs to be prepped\, or exchanged\, as a culinary tool to enrich the flavor of a dish. Complete instruction will be included.
URL:https://askauntv.com/event/tropical-island/
LOCATION:Ask Aunt V Cooking Class\, 222 South Main Street\, Naperville\, IL\, 60540\, United States
CATEGORIES:Group Classes
ATTACH;FMTTYPE=image/jpeg:https://askauntv.com/wp-content/uploads/2022/06/shish-kebab-meat-skewer-vegetable-skewer-417994.jpg
ORGANIZER;CN="Classes are held inside Liam Brex Design Showroom":MAILTO:askauntv@gmail.com
END:VEVENT
BEGIN:VEVENT
DTSTART;TZID=America/Chicago:20260206T180000
DTEND;TZID=America/Chicago:20260206T210000
DTSTAMP:20260425T093839
CREATED:20250212T163052Z
LAST-MODIFIED:20260114T202938Z
UID:5120-1770400800-1770411600@askauntv.com
SUMMARY:Sushi Basics
DESCRIPTION:California Rolls\nPhilly Roll\nShrimp Tempura\nSauces for Sushi\n\nUsing only cooked proteins \nClick HERE for Gift Certificates and Pre-Paid Tickets
URL:https://askauntv.com/event/sushi-basics-2/
LOCATION:Ask Aunt V Cooking Class\, 222 South Main Street\, Naperville\, IL\, 60540\, United States
CATEGORIES:Group Classes,Teens,Tweens
ATTACH;FMTTYPE=image/jpeg:https://askauntv.com/wp-content/uploads/2020/10/sushi-japanese-plate-2853382.jpg
ORGANIZER;CN="Classes are held inside Liam Brex Design Showroom":MAILTO:askauntv@gmail.com
END:VEVENT
BEGIN:VEVENT
DTSTART;TZID=America/Chicago:20260214T180000
DTEND;TZID=America/Chicago:20260214T200000
DTSTAMP:20260425T093839
CREATED:20250127T182050Z
LAST-MODIFIED:20251218T145839Z
UID:5047-1771092000-1771099200@askauntv.com
SUMMARY:Let Me Call You Sweetheart
DESCRIPTION:Reserved just for you. A Private Cooking Class and Dinner for Just the Two of You \n\nRoasted Vegetables\nChicken Wellington\nRoasted Beet\, Spinach\, Whipped Goat Cheese\, Mandarin Orange\, and Pecan Salad with Aged Balsamic Vinaigrette\n\n 
URL:https://askauntv.com/event/private-class-let-me-call-you-sweetheart-2/
LOCATION:Ask Aunt V Cooking Class\, 222 South Main Street\, Naperville\, IL\, 60540\, United States
CATEGORIES:Group Classes,Premium Classes
ATTACH;FMTTYPE=image/jpeg:https://askauntv.com/wp-content/uploads/2021/01/rose-wine-red-1024710.jpg
ORGANIZER;CN="Classes are held inside Liam Brex Design Showroom":MAILTO:askauntv@gmail.com
END:VEVENT
BEGIN:VEVENT
DTSTART;TZID=America/Chicago:20260221T180000
DTEND;TZID=America/Chicago:20260221T210000
DTSTAMP:20260425T093839
CREATED:20241122T172523Z
LAST-MODIFIED:20260105T040520Z
UID:4951-1771696800-1771707600@askauntv.com
SUMMARY:Mardi Gras - NOLA Style
DESCRIPTION:Creole Jambalaya\nRemoulade Sauce\, Creole Mustard\nMini Muffulettas\nCajun Corn Maque Choux \n\nClick HERE to RSVP for Pre-Paid Guests
URL:https://askauntv.com/event/mardi-gras-nola-style-2/
LOCATION:Ask Aunt V Cooking Class\, 222 South Main Street\, Naperville\, IL\, 60540\, United States
CATEGORIES:Group Classes
ATTACH;FMTTYPE=image/jpeg:https://askauntv.com/wp-content/uploads/2023/01/new-orleans-louisiana-city-255548.jpg
ORGANIZER;CN="Classes are held inside Liam Brex Design Showroom":MAILTO:askauntv@gmail.com
END:VEVENT
BEGIN:VEVENT
DTSTART;TZID=America/Chicago:20260306T180000
DTEND;TZID=America/Chicago:20260306T180000
DTSTAMP:20260425T093839
CREATED:20250127T181531Z
LAST-MODIFIED:20260211T162829Z
UID:5037-1772820000-1772820000@askauntv.com
SUMMARY:Sushi Basics
DESCRIPTION:California Rolls\nPhilly Roll\nShrimp Tempura\nSauces for Sushi\n\nUsing only cooked proteins \nClick HERE for Gift Certificates and Pre-Paid Tickets
URL:https://askauntv.com/event/sushi-basics/
LOCATION:Ask Aunt V Cooking Class\, 222 South Main Street\, Naperville\, IL\, 60540\, United States
CATEGORIES:Group Classes,Teens,Tweens
ATTACH;FMTTYPE=image/jpeg:https://askauntv.com/wp-content/uploads/2020/10/sushi-japanese-plate-2853382.jpg
ORGANIZER;CN="Classes are held inside Liam Brex Design Showroom":MAILTO:askauntv@gmail.com
END:VEVENT
BEGIN:VEVENT
DTSTART;TZID=America/Chicago:20260314T170000
DTEND;TZID=America/Chicago:20260314T200000
DTSTAMP:20260425T093839
CREATED:20210222T234719Z
LAST-MODIFIED:20260121T231729Z
UID:1430-1773507600-1773518400@askauntv.com
SUMMARY:SOLD OUT - Irish Celebration
DESCRIPTION:St. Patrick’s Day is finally here — which means it’s time to cook up a delicious Irish feast! And how could a St. Paddy’s celebration be complete without some tasty Irish-inspired favorites? Luckily\, if you are craving a taste of the Emerald Isle\, we are baking up some St. Patrick’s Day food ideas that are as satisfying as they are festive — Serve up these delicious Irish treats for an extra dose of luck on St. Paddy’s Day. \n\nHomemade Irish Soda Bread\nPotato Pancakes\nCorned Beef with Cabbage and Potatoes
URL:https://askauntv.com/event/irish-soda-bread-homemade-handmade-irish-food/
LOCATION:Ask Aunt V Cooking Class\, 222 South Main Street\, Naperville\, IL\, 60540\, United States
CATEGORIES:Group Classes,Private Classes & Events
ATTACH;FMTTYPE=image/jpeg:https://askauntv.com/wp-content/uploads/2026/01/gc18f19dd77ce1dafa3c429979591d1d6e1d5fd6718913314a5c37b4c764b3b6c21c751e448e8054aa27252cd25fb1f06a99742bf1e806c2d16e0b80c98136b8e_1280-3471667.jpg
ORGANIZER;CN="Classes are held inside Liam Brex Design Showroom":MAILTO:askauntv@gmail.com
END:VEVENT
BEGIN:VEVENT
DTSTART;TZID=America/Chicago:20260321T170000
DTEND;TZID=America/Chicago:20260321T200000
DTSTAMP:20260425T093839
CREATED:20230925T183301Z
LAST-MODIFIED:20260211T162728Z
UID:4363-1774112400-1774123200@askauntv.com
SUMMARY:SOLD OUT - Italian Pasta Master Class
DESCRIPTION:Homemade Pasta – Tagliatelle\nHomemade Alfredo Sauce\nMediterranean Salad with Italian Vinaigrette\nBruschetta\n\n 
URL:https://askauntv.com/event/italian-pasta-master-class-2/
LOCATION:Ask Aunt V Cooking Class\, 222 South Main Street\, Naperville\, IL\, 60540\, United States
CATEGORIES:Group Classes
ATTACH;FMTTYPE=image/jpeg:https://askauntv.com/wp-content/uploads/2026/01/pexels-photo-5908191-5908191-scaled.jpg
ORGANIZER;CN="Classes are held inside Liam Brex Design Showroom":MAILTO:askauntv@gmail.com
END:VEVENT
BEGIN:VEVENT
DTSTART;TZID=America/Chicago:20260328T170000
DTEND;TZID=America/Chicago:20260328T200000
DTSTAMP:20260425T093839
CREATED:20210624T211550Z
LAST-MODIFIED:20260124T174559Z
UID:1842-1774717200-1774728000@askauntv.com
SUMMARY:SOLD OUT - Mediterranean Shawarma
DESCRIPTION:Grilled Chicken Shawarma With Garlic Yogurt and Cilantro\nPersian Cucumber\, Tomato and Onion Salad\nPita Chips with Red Pepper Hummus\n\nClick HERE to RSVP for Gift Certificates and Pre-Paid Guests
URL:https://askauntv.com/event/chicken-shawarma-mediterranean-food/
LOCATION:Ask Aunt V Cooking Class\, 222 South Main Street\, Naperville\, IL\, 60540\, United States
CATEGORIES:Group Classes
ATTACH;FMTTYPE=image/jpeg:https://askauntv.com/wp-content/uploads/2026/01/g5dfb0ac8daf97b1b88b2f151fde96dcb2ba71de6519eadcd5d5ca1e63573492afc3a8b89395d07ca6c99c2d1196e4c66_1280-757827.jpg
ORGANIZER;CN="Classes are held inside Liam Brex Design Showroom":MAILTO:askauntv@gmail.com
END:VEVENT
BEGIN:VEVENT
DTSTART;TZID=America/Chicago:20260411T170000
DTEND;TZID=America/Chicago:20260411T200000
DTSTAMP:20260425T093839
CREATED:20220201T234206Z
LAST-MODIFIED:20260202T190932Z
UID:2814-1775926800-1775937600@askauntv.com
SUMMARY:SOLD OUT - Homemade Pasta - Tortelloni
DESCRIPTION:The Best Homemade Pasta You’ll Ever Eat! \n\nSpinach\, Ricotta Tortelloni\nArtichoke Bruschetta\nMediterranean Salad\n\nClick HERE to RSVP for Gift Certificates and Pre-Paid Guests
URL:https://askauntv.com/event/homemade-pasta-tortelloni-7/
LOCATION:Ask Aunt V Cooking Class\, 222 South Main Street\, Naperville\, IL\, 60540\, United States
CATEGORIES:Group Classes
ATTACH;FMTTYPE=image/jpeg:https://askauntv.com/wp-content/uploads/2021/03/pasta_rolling.jpg
ORGANIZER;CN="Classes are held inside Liam Brex Design Showroom":MAILTO:askauntv@gmail.com
END:VEVENT
BEGIN:VEVENT
DTSTART;TZID=America/Chicago:20260418T170000
DTEND;TZID=America/Chicago:20260418T200000
DTSTAMP:20260425T093839
CREATED:20231229T225224Z
LAST-MODIFIED:20260224T211622Z
UID:4662-1776531600-1776542400@askauntv.com
SUMMARY:SOLD OUT - Valencia by the Sea - Spanish Paella and Tapas
DESCRIPTION:Spanish Paella – Valencia Style with Chicken \nSpanish Garlic Shrimp\nIberian Charcuterie\, selection of Spanish Sausage and Cheese\n\n  \nClick Here to RSVP for Gift Certificates and Pre-Paid Guests
URL:https://askauntv.com/event/valencia-by-the-sea-spanish-paella-and-tapas-2/
LOCATION:Ask Aunt V Cooking Class\, 222 South Main Street\, Naperville\, IL\, 60540\, United States
CATEGORIES:Group Classes
ATTACH;FMTTYPE=image/jpeg:https://askauntv.com/wp-content/uploads/2022/05/paella-lena-mixed-1167973.jpg
ORGANIZER;CN="Classes are held inside Liam Brex Design Showroom":MAILTO:askauntv@gmail.com
END:VEVENT
BEGIN:VEVENT
DTSTART;TZID=America/Chicago:20260502T170000
DTEND;TZID=America/Chicago:20260502T200000
DTSTAMP:20260425T093839
CREATED:20210319T205045Z
LAST-MODIFIED:20260305T230904Z
UID:1558-1777741200-1777752000@askauntv.com
SUMMARY:SOLD OUT - Kentucky Derby Party
DESCRIPTION:Kentucky Derby Classics \nBeef Sliders with Pickled Red Onions and Bourbon BBQ Sauce \nDerby Day Deviled Eggs \nDerby Day Bites \nKentucky Cole Slaw \nClick HERE to RSVP for Gift Certificates and Pre-Paid Guests \n  \n 
URL:https://askauntv.com/event/kentucky-derby-party-2/
LOCATION:Ask Aunt V Cooking Class\, 222 South Main Street\, Naperville\, IL\, 60540\, United States
CATEGORIES:Group Classes
ATTACH;FMTTYPE=image/jpeg:https://askauntv.com/wp-content/uploads/2021/03/beef-brisket-sliders.jpg
ORGANIZER;CN="Classes are held inside Liam Brex Design Showroom":MAILTO:askauntv@gmail.com
END:VEVENT
BEGIN:VEVENT
DTSTART;TZID=America/Chicago:20260516T170000
DTEND;TZID=America/Chicago:20260516T200000
DTSTAMP:20260425T093839
CREATED:20221118T134351Z
LAST-MODIFIED:20260314T223207Z
UID:3639-1778950800-1778961600@askauntv.com
SUMMARY:Asian Kitchen
DESCRIPTION:Plant-Based\, Gluten-Free\, Dairy-Free\, Vegan\, Vegetarian \n\nVietnamese Spring Rolls – Vegetarian\nPotstickers – chicken\nFried Rice\n\nClick Here to RSVP for Pre-Paid Guests
URL:https://askauntv.com/event/asian-kitchen/
LOCATION:Ask Aunt V Cooking Class\, 222 South Main Street\, Naperville\, IL\, 60540\, United States
CATEGORIES:Group Classes
ATTACH;FMTTYPE=image/jpeg:https://askauntv.com/wp-content/uploads/2020/12/Vietnamese-Spring-Rolls.jpg
ORGANIZER;CN="Classes are held inside Liam Brex Design Showroom":MAILTO:askauntv@gmail.com
END:VEVENT
BEGIN:VEVENT
DTSTART;TZID=America/Chicago:20260523T113000
DTEND;TZID=America/Chicago:20260523T133000
DTSTAMP:20260425T093839
CREATED:20260305T230616Z
LAST-MODIFIED:20260309T171911Z
UID:5468-1779535800-1779543000@askauntv.com
SUMMARY:Wine Walk Appetizers
DESCRIPTION:Vulcan Fire Dip\nCarmelized Onion Dip\nRed Pepper Hummus\nRed Harrisa Pita Chips
URL:https://askauntv.com/event/wine-walk-appetizers/
LOCATION:IL
CATEGORIES:Group Classes
ATTACH;FMTTYPE=image/jpeg:https://askauntv.com/wp-content/uploads/2023/01/Carmelized-Onion-and-Blue-Cheese-Dip-scaled.jpg
END:VEVENT
BEGIN:VEVENT
DTSTART;TZID=America/Chicago:20260613T170000
DTEND;TZID=America/Chicago:20260613T200000
DTSTAMP:20260425T093839
CREATED:20220606T205023Z
LAST-MODIFIED:20260311T234759Z
UID:3227-1781370000-1781380800@askauntv.com
SUMMARY:Italian Summer
DESCRIPTION:Chicken Saltimbocca Roll-ups\nClassic Italian Caprese Salad\nStrozzapreti Pasta with Spinach and Mushrooms\n\n  \nClick HERE to RSVP for Gift Certificate or Pre-Paid Class
URL:https://askauntv.com/event/italian-summer/
LOCATION:Ask Aunt V Cooking Class\, 222 South Main Street\, Naperville\, IL\, 60540\, United States
CATEGORIES:Group Classes
ATTACH;FMTTYPE=image/jpeg:https://askauntv.com/wp-content/uploads/2022/06/Chicken-Saltobocca.jpg
ORGANIZER;CN="Classes are held inside Liam Brex Design Showroom":MAILTO:askauntv@gmail.com
END:VEVENT
END:VCALENDAR