BEGIN:VCALENDAR
VERSION:2.0
PRODID:-//Ask Aunt V - ECPv6.9.0//NONSGML v1.0//EN
CALSCALE:GREGORIAN
METHOD:PUBLISH
X-WR-CALNAME:Ask Aunt V
X-ORIGINAL-URL:https://askauntv.com
X-WR-CALDESC:Events for Ask Aunt V
REFRESH-INTERVAL;VALUE=DURATION:PT1H
X-Robots-Tag:noindex
X-PUBLISHED-TTL:PT1H
BEGIN:VTIMEZONE
TZID:America/Chicago
BEGIN:DAYLIGHT
TZOFFSETFROM:-0600
TZOFFSETTO:-0500
TZNAME:CDT
DTSTART:20220313T080000
END:DAYLIGHT
BEGIN:STANDARD
TZOFFSETFROM:-0500
TZOFFSETTO:-0600
TZNAME:CST
DTSTART:20221106T070000
END:STANDARD
BEGIN:DAYLIGHT
TZOFFSETFROM:-0600
TZOFFSETTO:-0500
TZNAME:CDT
DTSTART:20230312T080000
END:DAYLIGHT
BEGIN:STANDARD
TZOFFSETFROM:-0500
TZOFFSETTO:-0600
TZNAME:CST
DTSTART:20231105T070000
END:STANDARD
BEGIN:DAYLIGHT
TZOFFSETFROM:-0600
TZOFFSETTO:-0500
TZNAME:CDT
DTSTART:20240310T080000
END:DAYLIGHT
BEGIN:STANDARD
TZOFFSETFROM:-0500
TZOFFSETTO:-0600
TZNAME:CST
DTSTART:20241103T070000
END:STANDARD
BEGIN:DAYLIGHT
TZOFFSETFROM:-0600
TZOFFSETTO:-0500
TZNAME:CDT
DTSTART:20250309T080000
END:DAYLIGHT
BEGIN:STANDARD
TZOFFSETFROM:-0500
TZOFFSETTO:-0600
TZNAME:CST
DTSTART:20251102T070000
END:STANDARD
BEGIN:DAYLIGHT
TZOFFSETFROM:-0600
TZOFFSETTO:-0500
TZNAME:CDT
DTSTART:20260308T080000
END:DAYLIGHT
BEGIN:STANDARD
TZOFFSETFROM:-0500
TZOFFSETTO:-0600
TZNAME:CST
DTSTART:20261101T070000
END:STANDARD
END:VTIMEZONE
BEGIN:VEVENT
DTSTART;TZID=America/Chicago:20260306T180000
DTEND;TZID=America/Chicago:20260306T180000
DTSTAMP:20260423T113814
CREATED:20250127T181531Z
LAST-MODIFIED:20260211T162829Z
UID:5037-1772820000-1772820000@askauntv.com
SUMMARY:Sushi Basics
DESCRIPTION:California Rolls\nPhilly Roll\nShrimp Tempura\nSauces for Sushi\n\nUsing only cooked proteins \nClick HERE for Gift Certificates and Pre-Paid Tickets
URL:https://askauntv.com/event/sushi-basics/
LOCATION:Ask Aunt V Cooking Class\, 222 South Main Street\, Naperville\, IL\, 60540\, United States
CATEGORIES:Group Classes,Teens,Tweens
ATTACH;FMTTYPE=image/jpeg:https://askauntv.com/wp-content/uploads/2020/10/sushi-japanese-plate-2853382.jpg
ORGANIZER;CN="Classes are held inside Liam Brex Design Showroom":MAILTO:askauntv@gmail.com
END:VEVENT
BEGIN:VEVENT
DTSTART;TZID=America/Chicago:20260206T180000
DTEND;TZID=America/Chicago:20260206T210000
DTSTAMP:20260423T113814
CREATED:20250212T163052Z
LAST-MODIFIED:20260114T202938Z
UID:5120-1770400800-1770411600@askauntv.com
SUMMARY:Sushi Basics
DESCRIPTION:California Rolls\nPhilly Roll\nShrimp Tempura\nSauces for Sushi\n\nUsing only cooked proteins \nClick HERE for Gift Certificates and Pre-Paid Tickets
URL:https://askauntv.com/event/sushi-basics-2/
LOCATION:Ask Aunt V Cooking Class\, 222 South Main Street\, Naperville\, IL\, 60540\, United States
CATEGORIES:Group Classes,Teens,Tweens
ATTACH;FMTTYPE=image/jpeg:https://askauntv.com/wp-content/uploads/2020/10/sushi-japanese-plate-2853382.jpg
ORGANIZER;CN="Classes are held inside Liam Brex Design Showroom":MAILTO:askauntv@gmail.com
END:VEVENT
BEGIN:VEVENT
DTSTART;TZID=America/Chicago:20251206T120000
DTEND;TZID=America/Chicago:20251206T130000
DTSTAMP:20260423T113814
CREATED:20251113T211119Z
LAST-MODIFIED:20251113T211119Z
UID:5314-1765022400-1765026000@askauntv.com
SUMMARY:Junior Chef - Christmas Cookie Class
DESCRIPTION:Homemade Cookies\nDecorating Cookies\n\n  \nClick Here to RSVP for Gift Certificates and Pre-Paid Guests
URL:https://askauntv.com/event/junior-chef-christmas-cookie-class/
LOCATION:Ask Aunt V Cooking Class\, 222 South Main Street\, Naperville\, IL\, 60540\, United States
CATEGORIES:Children,Junior Chef,Tweens
ATTACH;FMTTYPE=image/jpeg:https://askauntv.com/wp-content/uploads/2023/10/cookie-christmas-cookies-cookies-3835992.jpg
ORGANIZER;CN="Classes are held inside Liam Brex Design Showroom":MAILTO:askauntv@gmail.com
END:VEVENT
BEGIN:VEVENT
DTSTART;TZID=America/Chicago:20250809T180000
DTEND;TZID=America/Chicago:20250809T210000
DTSTAMP:20260423T113814
CREATED:20240424T205430Z
LAST-MODIFIED:20250808T181845Z
UID:4813-1754762400-1754773200@askauntv.com
SUMMARY:SOLD OUT - Greek Islands
DESCRIPTION:Greek Chicken Souvlaki with Pita Bread\nTzatziki Sauce\nGreek Salad\nOrzo with Lemon and Herbs\n\n  \nClick HERE for Gift Certificates and Pre-Paid Tickets
URL:https://askauntv.com/event/cool-for-summer/
LOCATION:Ask Aunt V Cooking Class\, 222 South Main Street\, Naperville\, IL\, 60540\, United States
CATEGORIES:Group Classes,Teens,Tweens
ATTACH;FMTTYPE=image/jpeg:https://askauntv.com/wp-content/uploads/2025/06/gdca41dc023cdcaf14b2ef24802e873014663030872eb3f194cacbc94520b37c58642a406de34bae55f54f36c440d0ad84c821f748c8b7e7f923506289e3791b9_1280-1649221.jpg
ORGANIZER;CN="Classes are held inside Liam Brex Design Showroom":MAILTO:askauntv@gmail.com
END:VEVENT
BEGIN:VEVENT
DTSTART;TZID=America/Chicago:20250802T120000
DTEND;TZID=America/Chicago:20250802T130000
DTSTAMP:20260423T113814
CREATED:20220412T200354Z
LAST-MODIFIED:20250626T150711Z
UID:3037-1754136000-1754139600@askauntv.com
SUMMARY:Junior Chef - Pasta Class
DESCRIPTION:Homemade Pasta\nAlfredo Sauce\nMediterranean Salad\nGarlic Bread\n\nPriority Seating will be given to Junior Chef Cooking Club \nClick Here to RSVP for Gift Certificates and Pre-Paid Guests
URL:https://askauntv.com/event/junior-chef-pasta-class/
LOCATION:Ask Aunt V Cooking Class\, 222 South Main Street\, Naperville\, IL\, 60540\, United States
CATEGORIES:Children,Group Classes,Junior Chef,Tweens
ATTACH;FMTTYPE=image/jpeg:https://askauntv.com/wp-content/uploads/2022/11/pasta-making-pasta-food-1051611.jpg
ORGANIZER;CN="Classes are held inside Liam Brex Design Showroom":MAILTO:askauntv@gmail.com
END:VEVENT
BEGIN:VEVENT
DTSTART;TZID=America/Chicago:20250510T120000
DTEND;TZID=America/Chicago:20250510T160000
DTSTAMP:20260423T113814
CREATED:20210320T194710Z
LAST-MODIFIED:20250329T175233Z
UID:1578-1746878400-1746892800@askauntv.com
SUMMARY:SOLD OUT - Mother's Day High Tea - A Proper Afternoon Tea
DESCRIPTION:A Proper Afternoon Tea\, with a classic selection of Teas\, Savories\, Sweets\, Spreads\, and Scones \nA delectable selection of handmade finger sandwiches\, savory tartes\, sweets\, spreads\, and scones served on vintage tableware \nA 90-minute seating including tea with a classic afternoon tea selection. Children of all ages are welcome to attend this seating. \n  \n 
URL:https://askauntv.com/event/mothers-day-high-tea-a-proper-afternoon-tea/
LOCATION:Ask Aunt V Cooking Class\, 222 South Main Street\, Naperville\, IL\, 60540\, United States
CATEGORIES:Children,Group Classes,Junior Chef,Mommy and Me,Premium Classes,Private Classes & Events,Tweens
ATTACH;FMTTYPE=image/jpeg:https://askauntv.com/wp-content/uploads/2021/03/old-country-roses-porcelain-cup-and-saucer-5946660.jpg
ORGANIZER;CN="Classes are held inside Liam Brex Design Showroom":MAILTO:askauntv@gmail.com
END:VEVENT
BEGIN:VEVENT
DTSTART;TZID=America/Chicago:20250131T180000
DTEND;TZID=America/Chicago:20250131T210000
DTSTAMP:20260423T113814
CREATED:20240301T032122Z
LAST-MODIFIED:20241125T213433Z
UID:4749-1738346400-1738357200@askauntv.com
SUMMARY:SOLD OUT - Sushi Basics
DESCRIPTION:California Rolls\nPhilly Roll\nShrimp Tempura\nSauces for Sushi\n\nUsing only cooked proteins \nClick HERE for Gift Certificates and Pre-Paid Tickets
URL:https://askauntv.com/event/sushi-basics-4/
LOCATION:Ask Aunt V Cooking Class\, 222 South Main Street\, Naperville\, IL\, 60540\, United States
CATEGORIES:Group Classes,Teens,Tweens
ATTACH;FMTTYPE=image/jpeg:https://askauntv.com/wp-content/uploads/2020/10/sushi-japanese-plate-2853382.jpg
ORGANIZER;CN="Classes are held inside Liam Brex Design Showroom":MAILTO:askauntv@gmail.com
END:VEVENT
BEGIN:VEVENT
DTSTART;TZID=America/Chicago:20241207T130000
DTEND;TZID=America/Chicago:20241207T150000
DTSTAMP:20260423T113814
CREATED:20221012T165745Z
LAST-MODIFIED:20250816T184651Z
UID:3555-1733576400-1733583600@askauntv.com
SUMMARY:Christmas Cookie Decorating
DESCRIPTION:Homemade Sugar Cookies\nDecorating Cookies\n\n  \nClick here to RSVP for Gift Certificates and Pre-Paid Classes
URL:https://askauntv.com/event/christmas-cookie-decorating/
LOCATION:Ask Aunt V Cooking Class\, 222 South Main Street\, Naperville\, IL\, 60540\, United States
CATEGORIES:Children,Group Classes,Junior Chef,Teens,Tweens
ATTACH;FMTTYPE=image/jpeg:https://askauntv.com/wp-content/uploads/2022/09/christmas-cookies-cookies-christmas-553457.jpg
ORGANIZER;CN="Classes are held inside Liam Brex Design Showroom":MAILTO:askauntv@gmail.com
END:VEVENT
BEGIN:VEVENT
DTSTART;TZID=America/Chicago:20240803T113000
DTEND;TZID=America/Chicago:20240803T123000
DTSTAMP:20260423T113814
CREATED:20210813T214150Z
LAST-MODIFIED:20240717T133403Z
UID:2091-1722684600-1722688200@askauntv.com
SUMMARY:SOLD OUT - Edible Food Art for Kids - Summer Fun
DESCRIPTION:Super fun\, and healthy\, art creations that are delicious. Creative critters of all kinds\, alligators\, butterflies\, flowers\, etc.\, The class will show you how to make silly characters from fruit and vegetables and enjoy the fun of making them and then the delicious-ness of eating them. \nClick HERE to RSVP for Gift Certificates and Pre-Paid
URL:https://askauntv.com/event/ice-cream-party/
LOCATION:Ask Aunt V Cooking Class\, 222 South Main Street\, Naperville\, IL\, 60540\, United States
CATEGORIES:Children,Junior Chef,Teens,Tweens
ATTACH;FMTTYPE=image/jpeg:https://askauntv.com/wp-content/uploads/2024/05/kid-art-owl.jpg
ORGANIZER;CN="Classes are held inside Liam Brex Design Showroom":MAILTO:askauntv@gmail.com
END:VEVENT
BEGIN:VEVENT
DTSTART;TZID=America/Chicago:20240622T180000
DTEND;TZID=America/Chicago:20240622T210000
DTSTAMP:20260423T113814
CREATED:20240424T204814Z
LAST-MODIFIED:20240424T204814Z
UID:4808-1719079200-1719090000@askauntv.com
SUMMARY:Summer Fresh
DESCRIPTION:Mango Chicken Curry\nCoconut Rice\nChicken Coconut Soup\nSummer Salad with Balsamic Vinaigrette\n\n  \nClick HERE for Gift Certificates and Pre-Paid Tickets
URL:https://askauntv.com/event/summer-fresh/
LOCATION:Ask Aunt V Cooking Class\, 222 South Main Street\, Naperville\, IL\, 60540\, United States
CATEGORIES:Group Classes,Teens,Tweens
ATTACH;FMTTYPE=image/jpeg:https://askauntv.com/wp-content/uploads/2024/04/food-health-rice-4509962.jpg
ORGANIZER;CN="Classes are held inside Liam Brex Design Showroom":MAILTO:askauntv@gmail.com
END:VEVENT
BEGIN:VEVENT
DTSTART;TZID=America/Chicago:20240406T130000
DTEND;TZID=America/Chicago:20240406T143000
DTSTAMP:20260423T113814
CREATED:20231111T191227Z
LAST-MODIFIED:20231121T175936Z
UID:4556-1712408400-1712413800@askauntv.com
SUMMARY:Teens and Tweens Pasta
DESCRIPTION:Junior Chef (12 years to 18 years old) \n\nHomemade Pasta with Marinara\nGarlic Bread\nSalad\n\nClick Here to RSVP for Gift Certificates and Pre-Paid Guests
URL:https://askauntv.com/event/teens-and-tweens-pasta/
LOCATION:Ask Aunt V Cooking Class\, 222 South Main Street\, Naperville\, IL\, 60540\, United States
CATEGORIES:Children,Teens,Tweens
ATTACH;FMTTYPE=image/jpeg:https://askauntv.com/wp-content/uploads/2022/11/pasta-making-pasta-food-1051611.jpg
ORGANIZER;CN="Classes are held inside Liam Brex Design Showroom":MAILTO:askauntv@gmail.com
END:VEVENT
BEGIN:VEVENT
DTSTART;TZID=America/Chicago:20240302T130000
DTEND;TZID=America/Chicago:20240302T143000
DTSTAMP:20260423T113814
CREATED:20231111T185717Z
LAST-MODIFIED:20240220T171750Z
UID:4542-1709384400-1709389800@askauntv.com
SUMMARY:SOLD OUT - Teens and Tweens Pizza Rolls
DESCRIPTION:Junior Chef (12 years to 18 years old) \n\nPepperoni Pizza Rolls or mini-puzza\nCheese Sticks\ndipping Sauce\n\nClick Here to RSVP for Gift Certificates and Pre-Paid Guests
URL:https://askauntv.com/event/teens-and-tweens-pepperoni-pizza-rolls/
LOCATION:Ask Aunt V Cooking Class\, 222 South Main Street\, Naperville\, IL\, 60540\, United States
CATEGORIES:Children,Teens,Tweens
ATTACH;FMTTYPE=image/jpeg:https://askauntv.com/wp-content/uploads/2023/11/Pizza-Rolls.jpg
ORGANIZER;CN="Classes are held inside Liam Brex Design Showroom":MAILTO:askauntv@gmail.com
END:VEVENT
BEGIN:VEVENT
DTSTART;TZID=America/Chicago:20240203T130000
DTEND;TZID=America/Chicago:20240203T143000
DTSTAMP:20260423T113814
CREATED:20231111T184121Z
LAST-MODIFIED:20231121T190342Z
UID:4538-1706965200-1706970600@askauntv.com
SUMMARY:Teens and Tweens Valentine's Day Cookies
DESCRIPTION:Junior Chef (12 years to 18 years old) \n\nMake and decorate Valentine’s Day Cookies\n\nClick Here to RSVP for Gift Certificates and Pre-Paid Guests
URL:https://askauntv.com/event/teens-and-tweens-valentines-day-cookies/
LOCATION:Ask Aunt V Cooking Class\, 222 South Main Street\, Naperville\, IL\, 60540\, United States
CATEGORIES:Children,Teens,Tweens
ATTACH;FMTTYPE=image/jpeg:https://askauntv.com/wp-content/uploads/2023/10/cookie-christmas-cookies-cookies-3835992.jpg
ORGANIZER;CN="Classes are held inside Liam Brex Design Showroom":MAILTO:askauntv@gmail.com
END:VEVENT
BEGIN:VEVENT
DTSTART;TZID=America/Chicago:20240106T130000
DTEND;TZID=America/Chicago:20240106T143000
DTSTAMP:20260423T113814
CREATED:20231111T182923Z
LAST-MODIFIED:20231121T194343Z
UID:4526-1704546000-1704551400@askauntv.com
SUMMARY:SOLD OUT - Teens and Tweens Let's Make Breakfast
DESCRIPTION:Junior Chef (12 years to 18 years old) \n\nFrench Toast with fresh fruits\, real maple syrup\, and/or homemade jellies and jams\nBanana Split Breakfast Parfait\n\nClick Here to RSVP for Gift Certificates and Pre-Paid Guests
URL:https://askauntv.com/event/teens-and-tweens-lets-make-breakfast/
LOCATION:Ask Aunt V Cooking Class\, 222 South Main Street\, Naperville\, IL\, 60540\, United States
CATEGORIES:Children,Teens,Tweens
ATTACH;FMTTYPE=image/jpeg:https://askauntv.com/wp-content/uploads/2023/11/breakfast-french-toast-morning-3483644.jpg
ORGANIZER;CN="Classes are held inside Liam Brex Design Showroom":MAILTO:askauntv@gmail.com
END:VEVENT
BEGIN:VEVENT
DTSTART;TZID=America/Chicago:20230812T120000
DTEND;TZID=America/Chicago:20230812T133000
DTSTAMP:20260423T113814
CREATED:20230419T174722Z
LAST-MODIFIED:20230419T174910Z
UID:4025-1691841600-1691847000@askauntv.com
SUMMARY:Cookies and Ice Cream
DESCRIPTION:Chocolate Chip Cookies\nEdible Cookie Dough\nIce Cream Cookies Sandwich\n\nClick HERE for Gift Certificates and Pre-Paid Tickets
URL:https://askauntv.com/event/cookies-and-ice-cream/
LOCATION:Ask Aunt V Cooking Class\, 222 South Main Street\, Naperville\, IL\, 60540\, United States
CATEGORIES:Children,Teens,Tweens
ATTACH;FMTTYPE=image/jpeg:https://askauntv.com/wp-content/uploads/2023/04/cookies-chocolate-chip-cookies-stack-of-cookies-1264263.jpg
ORGANIZER;CN="Classes are held inside Liam Brex Design Showroom":MAILTO:askauntv@gmail.com
END:VEVENT
BEGIN:VEVENT
DTSTART;TZID=America/Chicago:20230729T120000
DTEND;TZID=America/Chicago:20230729T133000
DTSTAMP:20260423T113814
CREATED:20230419T173500Z
LAST-MODIFIED:20230720T171412Z
UID:4019-1690632000-1690637400@askauntv.com
SUMMARY:SOLD OUT - Take Me Out to the Ball Game
DESCRIPTION:Summertime Favorites \n\nBurgers\nHot Dogs\nPopcorn\nChips and Dips\n\nClick HERE for Gift Certificates and Pre-Paid Tickets
URL:https://askauntv.com/event/take-me-out-to-the-ball-game/
LOCATION:Ask Aunt V Cooking Class\, 222 South Main Street\, Naperville\, IL\, 60540\, United States
CATEGORIES:Children,Teens,Tweens
ATTACH;FMTTYPE=image/png:https://askauntv.com/wp-content/uploads/2023/04/sausage-hot-dog-food-6707883.png
ORGANIZER;CN="Classes are held inside Liam Brex Design Showroom":MAILTO:askauntv@gmail.com
END:VEVENT
BEGIN:VEVENT
DTSTART;TZID=America/Chicago:20230715T120000
DTEND;TZID=America/Chicago:20230715T133000
DTSTAMP:20260423T113814
CREATED:20230419T173959Z
LAST-MODIFIED:20230419T175053Z
UID:4022-1689422400-1689427800@askauntv.com
SUMMARY:Ding Ding Chicken Wings
DESCRIPTION:Summertime Favorites \n\nChicken Wings\nChicken Nuggets\nFrench Fries\nSweet Potato Fries\n\nClick HERE for Gift Certificates and Pre-Paid Tickets
URL:https://askauntv.com/event/ding-ding-chicken-wings/
LOCATION:Ask Aunt V Cooking Class\, 222 South Main Street\, Naperville\, IL\, 60540\, United States
CATEGORIES:Children,Teens,Tweens
ATTACH;FMTTYPE=image/jpeg:https://askauntv.com/wp-content/uploads/2023/04/chicken-wing-chicken-wings-1559579.jpg
ORGANIZER;CN="Classes are held inside Liam Brex Design Showroom":MAILTO:askauntv@gmail.com
END:VEVENT
BEGIN:VEVENT
DTSTART;TZID=America/Chicago:20230624T120000
DTEND;TZID=America/Chicago:20230624T133000
DTSTAMP:20260423T113814
CREATED:20230419T172822Z
LAST-MODIFIED:20230517T160409Z
UID:4017-1687608000-1687613400@askauntv.com
SUMMARY:SOLD OUT - Chinese Take Out Food
DESCRIPTION:All your favorite take out foods \n\nFried Rice\nChicken Wraps\nOrange Chicken\n\nClick HERE for Gift Certificates and Pre-Paid Tickets
URL:https://askauntv.com/event/chinese-take-out-food/
LOCATION:Ask Aunt V Cooking Class\, 222 South Main Street\, Naperville\, IL\, 60540\, United States
CATEGORIES:Children,Teens,Tweens
ATTACH;FMTTYPE=image/jpeg:https://askauntv.com/wp-content/uploads/2020/12/Chicken-Salad-Wraps.jpg
ORGANIZER;CN="Classes are held inside Liam Brex Design Showroom":MAILTO:askauntv@gmail.com
END:VEVENT
BEGIN:VEVENT
DTSTART;TZID=America/Chicago:20230531T173000
DTEND;TZID=America/Chicago:20230531T183000
DTSTAMP:20260423T113814
CREATED:20220525T195247Z
LAST-MODIFIED:20230517T203112Z
UID:3158-1685554200-1685557800@askauntv.com
SUMMARY:SOLD OUT - Miniature Fairy Gardens
DESCRIPTION:“All you need is Faith\, Trust…..and a little Pixie Dust.” \nA Whimsical Evening in Fairyland. Fun for all Ages. Create your own fairy garden and unleash your imagination into the magical\, whimsical\, world of miniature gardens. All supplies are included for the basic layout of the garden. You will be instructed how to design the layout of the garden\, select accessories from the collection of fences\, birdhouse\, cottages\, and pathways\, then choose plants. You will leave with a completed Magical\, Enchanting Fairy Garden. \nOne ticket for each 4″= Inch Fairy Garden. You can work together for one Fairy Garden (one ticket)\, or each have your own (a ticket for each fairy garden). \nClick HERE to learn more or contact Ask Aunt V
URL:https://askauntv.com/event/miniature-fairy-gardens/
LOCATION:Ask Aunt V Garden Class
CATEGORIES:Children,Garden Group Class,Gardening,Junior Chef,Teens,Tweens
ATTACH;FMTTYPE=image/jpeg:https://askauntv.com/wp-content/uploads/2021/07/fairy-garden.04.jpg
ORGANIZER;CN="Classes are held inside Liam Brex Design Showroom":MAILTO:askauntv@gmail.com
END:VEVENT
BEGIN:VEVENT
DTSTART;TZID=America/Chicago:20230520T160000
DTEND;TZID=America/Chicago:20230520T180000
DTSTAMP:20260423T113814
CREATED:20230413T155838Z
LAST-MODIFIED:20230509T152456Z
UID:3961-1684598400-1684605600@askauntv.com
SUMMARY:PRIVATE - Afternoon High Tea with English Garden Florals
DESCRIPTION:Enjoy a traditional Afternoon English Tea. Learn essential elements to create an Afternoon Tea. Take home a classic English Tea Party Bouquet you can make yourself. \n\nTea sandwiches\, smoked salmon with whipped cream cheese\, egg mayonnaise sandwiches with micro herbs\, cucumber sandwiches with chive and dill butter\nDelectable scones with clotted cream and handmade jams\nPastries\nAll served while enjoying Earl Grey Tea\n\nGuests will have the option to make a classic Afternoon Tea floral arrangement\, guided by Ask Aunt V instructor\, to take home. \nIncludes Afternoon Tea\, floral arrangement class\, including all materials. \nClick HERE for Gift Certificates and Pre-Paid Tickets \n  \n 
URL:https://askauntv.com/event/afternoon-high-tea-with-english-garden-florals-2/
LOCATION:Ask Aunt V Cooking Class\, 222 South Main Street\, Naperville\, IL\, 60540\, United States
CATEGORIES:Children,Garden Group Class,Gardening,Group Classes,Teens,Tweens
ATTACH;FMTTYPE=image/jpeg:https://askauntv.com/wp-content/uploads/2020/08/high-tea.01.jpg
ORGANIZER;CN="Classes are held inside Liam Brex Design Showroom":MAILTO:askauntv@gmail.com
END:VEVENT
BEGIN:VEVENT
DTSTART;TZID=America/Chicago:20230520T120000
DTEND;TZID=America/Chicago:20230520T140000
DTSTAMP:20260423T113814
CREATED:20230413T155503Z
LAST-MODIFIED:20230504T132656Z
UID:3957-1684584000-1684591200@askauntv.com
SUMMARY:It's Afternoon Tea in London with English Garden Florals
DESCRIPTION:It is time for Afternoon Tea in London. Enjoy a proper Afternoon English Tea. Learn essential elements to create an Afternoon Tea. Take home a classic English Tea Party Bouquet you make yourself. \n\nTea sandwiches\, smoked salmon with whipped cream cheese\, egg mayonnaise sandwiches with micro herbs\, cucumber sandwiches with chive and dill butter\nDelectable scones with clotted cream and handmade jams\nPastries\nAll served while enjoying Earl Grey Tea\n\nThe Twelve Noon Seating will be welcome for all ages. \nGuests will have the option to make a classic Afternoon Tea floral arrangement\, guided by Ask Aunt V instructor\, to take home. \nIncludes Afternoon Tea\, floral arrangement class\, including all materials. \nClick HERE for Gift Certificates and Pre-Paid Tickets \n  \n 
URL:https://askauntv.com/event/afternoon-high-tea-with-english-garden-florals/
LOCATION:Ask Aunt V Cooking Class\, 222 South Main Street\, Naperville\, IL\, 60540\, United States
CATEGORIES:Children,Garden Group Class,Gardening,Group Classes,Junior Chef,Teens,Tweens
ATTACH;FMTTYPE=image/jpeg:https://askauntv.com/wp-content/uploads/2020/08/high-tea.01.jpg
ORGANIZER;CN="Classes are held inside Liam Brex Design Showroom":MAILTO:askauntv@gmail.com
END:VEVENT
BEGIN:VEVENT
DTSTART;TZID=America/Chicago:20230419T080000
DTEND;TZID=America/Chicago:20240101T170000
DTSTAMP:20260423T113814
CREATED:20220525T192620Z
LAST-MODIFIED:20230419T180537Z
UID:3146-1681891200-1704128400@askauntv.com
SUMMARY:Birthday Party Cooking Class - Fairy Garden Parties Too!
DESCRIPTION:Ask Aunt V Classes are available for Birthday Parties customized to celebrate your child’s special day. \nCookie and Cupcake Decorating\, Crepes\, Pizza\, Pasta\, Desserts\, Healthy Snacks and so much more. \nFairy Garden classes are also available \nTwo-Hour Classes beginning at $50 per person. \nClick here to learn more and to schedule a party…
URL:https://askauntv.com/event/birthday-party-cooking-class-fairy-garden-parties-too/
LOCATION:Ask Aunt V Cooking Class\, 222 South Main Street\, Naperville\, IL\, 60540\, United States
CATEGORIES:Children,Gardening,Junior Chef,Mommy and Me,Teens,Tweens
ATTACH;FMTTYPE=image/png:https://askauntv.com/wp-content/uploads/2022/05/birthday-happy-birthday-balloons-2692889.png
ORGANIZER;CN="Classes are held inside Liam Brex Design Showroom":MAILTO:askauntv@gmail.com
END:VEVENT
BEGIN:VEVENT
DTSTART;TZID=America/Chicago:20230415T113000
DTEND;TZID=America/Chicago:20230415T123000
DTSTAMP:20260423T113814
CREATED:20230406T151132Z
LAST-MODIFIED:20230413T151158Z
UID:3938-1681558200-1681561800@askauntv.com
SUMMARY:SOLD OUT - Spring Vegetables Tasting Table
DESCRIPTION:A Tasting Table to learn delicious ways to enjoy spring vegetables. Demonstration and Tasting Table on how to select\, prepare\, and season spring vegetables with a opportunity to experiece how they taste. The Ask Aunt V “Spice Teams” that work for you to enjoy the spring harvest. \nGluten-free\, dairy-free*\, vegetrian\, vegan* \n*dairy-free and vegan options will be available for all selections \n 
URL:https://askauntv.com/event/spring-vegetables-tasting-table/
LOCATION:Ask Aunt V Cooking Class\, 222 South Main Street\, Naperville\, IL\, 60540\, United States
CATEGORIES:Group Classes,Junior Chef,Mommy and Me,Premium Classes,Teens,Tweens
ATTACH;FMTTYPE=image/jpeg:https://askauntv.com/wp-content/uploads/2023/04/20180526_070014-scaled.jpg
ORGANIZER;CN="Classes are held inside Liam Brex Design Showroom":MAILTO:askauntv@gmail.com
END:VEVENT
BEGIN:VEVENT
DTSTART;TZID=America/Chicago:20230318T110000
DTEND;TZID=America/Chicago:20230318T130000
DTSTAMP:20260423T113814
CREATED:20211224T214730Z
LAST-MODIFIED:20230208T214642Z
UID:2739-1679137200-1679144400@askauntv.com
SUMMARY:Junior Chef - Go Nuts for Donuts
DESCRIPTION:Donuts\, baked\, filled\, dipped\, and decorated\n\n  \nClick Here to RSVP for Gift Certificates and Pre-Paid Guests
URL:https://askauntv.com/event/junior-chef-donuts-for-breakfast/
LOCATION:Ask Aunt V Cooking Class\, 222 South Main Street\, Naperville\, IL\, 60540\, United States
CATEGORIES:Children,Group Classes,Junior Chef,Teens,Tweens
ATTACH;FMTTYPE=image/jpeg:https://askauntv.com/wp-content/uploads/2021/12/donuts-doughnut-sweet-2969490.jpg
ORGANIZER;CN="Classes are held inside Liam Brex Design Showroom":MAILTO:askauntv@gmail.com
END:VEVENT
BEGIN:VEVENT
DTSTART;TZID=America/Chicago:20230225T110000
DTEND;TZID=America/Chicago:20230225T130000
DTSTAMP:20260423T113814
CREATED:20230106T210717Z
LAST-MODIFIED:20230208T154119Z
UID:3729-1677322800-1677330000@askauntv.com
SUMMARY:Kitchen Basics - Chicken Soup and Homemade Dumplings
DESCRIPTION:Learn basic kitchen skills\, knife skills\, and cooking techinique while making Homemade Chicken and Dumplings \nClick HERE to RSVP for Pre-Paid Guests
URL:https://askauntv.com/event/kitchen-basics-chicken-and-dumplings/
LOCATION:Ask Aunt V Cooking Class\, 222 South Main Street\, Naperville\, IL\, 60540\, United States
CATEGORIES:Group Classes,Teens,Tweens
ATTACH;FMTTYPE=image/jpeg:https://askauntv.com/wp-content/uploads/2023/01/dumplings-soup-chinese-632203.jpg
ORGANIZER;CN="Classes are held inside Liam Brex Design Showroom":MAILTO:askauntv@gmail.com
END:VEVENT
BEGIN:VEVENT
DTSTART;TZID=America/Chicago:20230128T110000
DTEND;TZID=America/Chicago:20230128T120000
DTSTAMP:20260423T113814
CREATED:20211221T164532Z
LAST-MODIFIED:20230117T234428Z
UID:2668-1674903600-1674907200@askauntv.com
SUMMARY:SOLD OUT - Inside Out Club - Cookie Class
DESCRIPTION:Content is protected.
URL:https://askauntv.com/event/inside-out-club-tag-youre-it-online-cookie-class-4/
LOCATION:Ask Aunt V Online
CATEGORIES:Children,Junior Chef,Mommy and Me,Teens,Tweens
ORGANIZER;CN="Ask Aunt V Online":MAILTO:askauntv@gmail.com
END:VEVENT
BEGIN:VEVENT
DTSTART;TZID=America/Chicago:20230107T110000
DTEND;TZID=America/Chicago:20230107T130000
DTSTAMP:20260423T113814
CREATED:20211207T223607Z
LAST-MODIFIED:20230106T205314Z
UID:2549-1673089200-1673096400@askauntv.com
SUMMARY:Junior Chef - Breakfast Class
DESCRIPTION:Crepes\nFrench Toast\nScrambled Eggs\n\n  \nClick Here to RSVP for Gift Certificates and Pre-Paid Guests
URL:https://askauntv.com/event/junior-chef-breakfast-class/
LOCATION:Ask Aunt V Cooking Class\, 222 South Main Street\, Naperville\, IL\, 60540\, United States
CATEGORIES:Children,Group Classes,Junior Chef,Tweens
ATTACH;FMTTYPE=image/jpeg:https://askauntv.com/wp-content/uploads/2022/12/pancakes-crepe-pancake-2020863.jpg
ORGANIZER;CN="Classes are held inside Liam Brex Design Showroom":MAILTO:askauntv@gmail.com
END:VEVENT
BEGIN:VEVENT
DTSTART;TZID=America/Chicago:20230105T180000
DTEND;TZID=America/Chicago:20230105T210000
DTSTAMP:20260423T113814
CREATED:20201204T204745Z
LAST-MODIFIED:20230103T005526Z
UID:926-1672941600-1672952400@askauntv.com
SUMMARY:Chinese Take Out
DESCRIPTION:General Tso’s Chicken\nCrab Ragoon\nFried Rice\n\nClick here to RSVP for Pre-Paid Guests
URL:https://askauntv.com/event/chinese-take-out/
LOCATION:Ask Aunt V Cooking Class\, 222 South Main Street\, Naperville\, IL\, 60540\, United States
CATEGORIES:Group Classes,Teens,Tweens
ATTACH;FMTTYPE=image/jpeg:https://askauntv.com/wp-content/uploads/2021/11/food-dishes-restaurant-1050813.jpg
ORGANIZER;CN="Classes are held inside Liam Brex Design Showroom":MAILTO:askauntv@gmail.com
END:VEVENT
BEGIN:VEVENT
DTSTART;TZID=America/Chicago:20221231T110000
DTEND;TZID=America/Chicago:20221231T130000
DTSTAMP:20260423T113814
CREATED:20201221T201506Z
LAST-MODIFIED:20221205T184857Z
UID:1165-1672484400-1672491600@askauntv.com
SUMMARY:SOLD OUT - Junior Chef Cooking Class
DESCRIPTION:Chicago’s favorite drive-thru restaurant’s Chopped Salad\nGarlic Bread
URL:https://askauntv.com/event/chicago-favorite-drive-thru-chopped-salad/
LOCATION:Ask Aunt V Online
CATEGORIES:Children,Group Classes,Tweens
ATTACH;FMTTYPE=image/jpeg:https://askauntv.com/wp-content/uploads/2020/12/salad_chopped.jpg
ORGANIZER;CN="Ask Aunt V Online":MAILTO:askauntv@gmail.com
END:VEVENT
BEGIN:VEVENT
DTSTART;TZID=America/Chicago:20221220T180000
DTEND;TZID=America/Chicago:20221220T210000
DTSTAMP:20260423T113814
CREATED:20201204T215541Z
LAST-MODIFIED:20221201T164747Z
UID:945-1671559200-1671570000@askauntv.com
SUMMARY:SOLD OUT - Middle Eastern Cuisine - Group - Vegan
DESCRIPTION:Homemade Falafel\nVegan Tzatziki\nSweet Pepper Hummus\n\nClick Here to RSVP for Pre-Paid Guests
URL:https://askauntv.com/event/middle-eastern-cuisine-vegan/
LOCATION:Ask Aunt V Cooking Class\, 222 South Main Street\, Naperville\, IL\, 60540\, United States
CATEGORIES:Group Classes,Premium Classes,Teens,Tweens
ATTACH;FMTTYPE=image/jpeg:https://askauntv.com/wp-content/uploads/2020/12/Falafel.jpg
ORGANIZER;CN="Classes are held inside Liam Brex Design Showroom":MAILTO:askauntv@gmail.com
END:VEVENT
END:VCALENDAR