BEGIN:VCALENDAR
VERSION:2.0
PRODID:-//Ask Aunt V - ECPv6.9.0//NONSGML v1.0//EN
CALSCALE:GREGORIAN
METHOD:PUBLISH
X-WR-CALNAME:Ask Aunt V
X-ORIGINAL-URL:https://askauntv.com
X-WR-CALDESC:Events for Ask Aunt V
REFRESH-INTERVAL;VALUE=DURATION:PT1H
X-Robots-Tag:noindex
X-PUBLISHED-TTL:PT1H
BEGIN:VTIMEZONE
TZID:America/Chicago
BEGIN:DAYLIGHT
TZOFFSETFROM:-0600
TZOFFSETTO:-0500
TZNAME:CDT
DTSTART:20210314T080000
END:DAYLIGHT
BEGIN:STANDARD
TZOFFSETFROM:-0500
TZOFFSETTO:-0600
TZNAME:CST
DTSTART:20211107T070000
END:STANDARD
BEGIN:DAYLIGHT
TZOFFSETFROM:-0600
TZOFFSETTO:-0500
TZNAME:CDT
DTSTART:20220313T080000
END:DAYLIGHT
BEGIN:STANDARD
TZOFFSETFROM:-0500
TZOFFSETTO:-0600
TZNAME:CST
DTSTART:20221106T070000
END:STANDARD
BEGIN:DAYLIGHT
TZOFFSETFROM:-0600
TZOFFSETTO:-0500
TZNAME:CDT
DTSTART:20230312T080000
END:DAYLIGHT
BEGIN:STANDARD
TZOFFSETFROM:-0500
TZOFFSETTO:-0600
TZNAME:CST
DTSTART:20231105T070000
END:STANDARD
BEGIN:DAYLIGHT
TZOFFSETFROM:-0600
TZOFFSETTO:-0500
TZNAME:CDT
DTSTART:20240310T080000
END:DAYLIGHT
BEGIN:STANDARD
TZOFFSETFROM:-0500
TZOFFSETTO:-0600
TZNAME:CST
DTSTART:20241103T070000
END:STANDARD
BEGIN:DAYLIGHT
TZOFFSETFROM:-0600
TZOFFSETTO:-0500
TZNAME:CDT
DTSTART:20250309T080000
END:DAYLIGHT
BEGIN:STANDARD
TZOFFSETFROM:-0500
TZOFFSETTO:-0600
TZNAME:CST
DTSTART:20251102T070000
END:STANDARD
BEGIN:DAYLIGHT
TZOFFSETFROM:-0600
TZOFFSETTO:-0500
TZNAME:CDT
DTSTART:20260308T080000
END:DAYLIGHT
BEGIN:STANDARD
TZOFFSETFROM:-0500
TZOFFSETTO:-0600
TZNAME:CST
DTSTART:20261101T070000
END:STANDARD
END:VTIMEZONE
BEGIN:VEVENT
DTSTART;TZID=America/Chicago:20260307T093000
DTEND;TZID=America/Chicago:20260307T103000
DTSTAMP:20260423T130258
CREATED:20250329T183511Z
LAST-MODIFIED:20260224T211756Z
UID:5193-1772875800-1772879400@askauntv.com
SUMMARY:SOLD OUT - "Mommy and Me" Pasta
DESCRIPTION:Mommy and Me – 2 years and up to 5 years \nDaddy\, Grandma\, Grandpa too! Make Pasta together. Measuring\, Cooking\, and Having Fun \n\nHomemade Pasta\nButter Sauce\nGarlic Bread\nVeggies\n\nEach ticket is for one (1) workstation. You will make your own pasta together and enjoy them right away or take them home with you. \nEach station has \n\n1 set of equipment\n1 set of ingredients\n\nClick Here to RSVP for Gift Certificates and Pre-Paid Guests
URL:https://askauntv.com/event/mommy-and-me-pasta/
LOCATION:Ask Aunt V Cooking Class\, 222 South Main Street\, Naperville\, IL\, 60540\, United States
CATEGORIES:Children,Mommy and Me
ATTACH;FMTTYPE=image/jpeg:https://askauntv.com/wp-content/uploads/2022/11/pasta-making-pasta-food-1051611.jpg
ORGANIZER;CN="Classes are held inside Liam Brex Design Showroom":MAILTO:askauntv@gmail.com
END:VEVENT
BEGIN:VEVENT
DTSTART;TZID=America/Chicago:20260207T093000
DTEND;TZID=America/Chicago:20260207T103000
DTSTAMP:20260423T130258
CREATED:20231111T183538Z
LAST-MODIFIED:20251215T190749Z
UID:4530-1770456600-1770460200@askauntv.com
SUMMARY:"Mommy and Me" Valentine Cookies
DESCRIPTION:Mommy and Me – 2 years and up to 5 years \nDaddy\, Grandma\, Grandpa too! Make Valentine Cookies together. Measuring\, Cooking\, and Having Fun \n\nMake Valentine Cookies together and decorate them\n\nEach ticket is for one (1) workstation. You will make your own cookies together and enjoy them right away or take them home with you. \nEach station has \n\n1 set of equipment\n1 set of ingredients\n\nClick Here to RSVP for Gift Certificates and Pre-Paid Guests
URL:https://askauntv.com/event/mommy-and-me-valentine-cookies/
LOCATION:Ask Aunt V Cooking Class\, 222 South Main Street\, Naperville\, IL\, 60540\, United States
CATEGORIES:Children,Mommy and Me
ATTACH;FMTTYPE=image/jpeg:https://askauntv.com/wp-content/uploads/2021/01/valentines-day-valentine-cookies-3984154.jpg
ORGANIZER;CN="Classes are held inside Liam Brex Design Showroom":MAILTO:askauntv@gmail.com
END:VEVENT
BEGIN:VEVENT
DTSTART;TZID=America/Chicago:20251206T093000
DTEND;TZID=America/Chicago:20251206T103000
DTSTAMP:20260423T130258
CREATED:20201221T190323Z
LAST-MODIFIED:20251201T173309Z
UID:1133-1765013400-1765017000@askauntv.com
SUMMARY:SOLD OUT - "Mommy and Me" Christmas Cookies
DESCRIPTION:Mommy and Me – 2 years and up \nDaddy\, Grandma\, Grandpa too! Decorating Christmas Cookies\, Measuring\, Having Fun \nEach ticket is for one (1) workstation. You will make your own cookies and enjoy them right away or take them home with you. \nEach station has \n\n1 set of equipment\n1 set of ingredients\n\n 
URL:https://askauntv.com/event/christmas-cookie-decorating-2/
LOCATION:Ask Aunt V Cooking Class\, 222 South Main Street\, Naperville\, IL\, 60540\, United States
CATEGORIES:Children,Mommy and Me
ATTACH;FMTTYPE=image/jpeg:https://askauntv.com/wp-content/uploads/2021/01/dough-cookie-cut-out-2940165.jpg
ORGANIZER;CN="Classes are held inside Liam Brex Design Showroom":MAILTO:askauntv@gmail.com
END:VEVENT
BEGIN:VEVENT
DTSTART;TZID=America/Chicago:20250510T120000
DTEND;TZID=America/Chicago:20250510T160000
DTSTAMP:20260423T130258
CREATED:20210320T194710Z
LAST-MODIFIED:20250329T175233Z
UID:1578-1746878400-1746892800@askauntv.com
SUMMARY:SOLD OUT - Mother's Day High Tea - A Proper Afternoon Tea
DESCRIPTION:A Proper Afternoon Tea\, with a classic selection of Teas\, Savories\, Sweets\, Spreads\, and Scones \nA delectable selection of handmade finger sandwiches\, savory tartes\, sweets\, spreads\, and scones served on vintage tableware \nA 90-minute seating including tea with a classic afternoon tea selection. Children of all ages are welcome to attend this seating. \n  \n 
URL:https://askauntv.com/event/mothers-day-high-tea-a-proper-afternoon-tea/
LOCATION:Ask Aunt V Cooking Class\, 222 South Main Street\, Naperville\, IL\, 60540\, United States
CATEGORIES:Children,Group Classes,Junior Chef,Mommy and Me,Premium Classes,Private Classes & Events,Tweens
ATTACH;FMTTYPE=image/jpeg:https://askauntv.com/wp-content/uploads/2021/03/old-country-roses-porcelain-cup-and-saucer-5946660.jpg
ORGANIZER;CN="Classes are held inside Liam Brex Design Showroom":MAILTO:askauntv@gmail.com
END:VEVENT
BEGIN:VEVENT
DTSTART;TZID=America/Chicago:20241005T093000
DTEND;TZID=America/Chicago:20241005T103000
DTSTAMP:20260423T130258
CREATED:20240509T225932Z
LAST-MODIFIED:20240925T163403Z
UID:4841-1728120600-1728124200@askauntv.com
SUMMARY:SOLD OUT - "Mommy and Me" Fruit Hand Pies
DESCRIPTION:Mommy and Me – 2 years and up to 5 years \nDaddy\, Grandma\, Grandpa too! Make Treats together. Measuring\, Cooking\, and Having Fun \n\nSuper fun\, and healthy\, treats that are delicious. Fruit Hand Pies are in season. You will make the filling\, assemble the pies\, and then enjoy eating them. Have fun making them and then the delicious-ness of eating them.\n\nEach ticket is for one (1) workstation. You will make your own treats together and enjoy them right away or take them home with you. \nEach station has \n\n1 set of equipment\n1 set of ingredients\n\nClick HERE to RSVP for Gift Certificates and Pre-Paid Guests
URL:https://askauntv.com/event/mommy-and-me-ice-cream-party/
LOCATION:Ask Aunt V Cooking Class\, 222 South Main Street\, Naperville\, IL\, 60540\, United States
CATEGORIES:Children,Mommy and Me
ATTACH;FMTTYPE=image/jpeg:https://askauntv.com/wp-content/uploads/2024/09/christmas-food-mince-pies-food-577876.jpg
ORGANIZER;CN="Classes are held inside Liam Brex Design Showroom":MAILTO:askauntv@gmail.com
END:VEVENT
BEGIN:VEVENT
DTSTART;TZID=America/Chicago:20240713T093000
DTEND;TZID=America/Chicago:20240713T103000
DTSTAMP:20260423T130258
CREATED:20240509T224901Z
LAST-MODIFIED:20240627T163708Z
UID:4827-1720863000-1720866600@askauntv.com
SUMMARY:SOLD OUT - "Mommy and Me" Berry\, Berry Fun
DESCRIPTION:Mommy and Me – 2 years and up to 5 years \nDaddy\, Grandma\, Grandpa too! Make Breakfast together. Measuring\, Cooking\, and Having Fun \n\nCreating healthy\, tasty treats with the seasons fruits and vegetables\n\nEach ticket is for one (1) workstation. You will make your own breakfast together and enjoy them right away or take them home with you. \nEach station has \n\n1 set of equipment\n1 set of ingredients\n\nClick Here to RSVP for Gift Certificates and Pre-Paid Guests
URL:https://askauntv.com/event/mommy-and-me-berry-berry-fun/
LOCATION:Ask Aunt V Cooking Class\, 222 South Main Street\, Naperville\, IL\, 60540\, United States
CATEGORIES:Children,Mommy and Me
ATTACH;FMTTYPE=image/jpeg:https://askauntv.com/wp-content/uploads/2022/06/pie-berries-strawberry-5133105.jpg
ORGANIZER;CN="Classes are held inside Liam Brex Design Showroom":MAILTO:askauntv@gmail.com
END:VEVENT
BEGIN:VEVENT
DTSTART;TZID=America/Chicago:20240622T093000
DTEND;TZID=America/Chicago:20240622T103000
DTSTAMP:20260423T130258
CREATED:20231111T181719Z
LAST-MODIFIED:20240524T002110Z
UID:4515-1719048600-1719052200@askauntv.com
SUMMARY:"Mommy and Me" Let's Make Breakfast
DESCRIPTION:Mommy and Me – 2 years and up to 5 years \nDaddy\, Grandma\, Grandpa too! Make Breakfast together. Measuring\, Cooking\, and Having Fun \n\nFrench Toast with fresh fruits\, real maple syrup\, and/or homemade jellies and jams\nBanana Split Breakfast Parfait\n\nEach ticket is for one (1) workstation. You will make your own breakfast together and enjoy them right away or take them home with you. \nEach station has \n\n1 set of equipment\n1 set of ingredients\n\nClick Here to RSVP for Gift Certificates and Pre-Paid Guests
URL:https://askauntv.com/event/mommy-and-me-lets-make-breakfast/
LOCATION:Ask Aunt V Cooking Class\, 222 South Main Street\, Naperville\, IL\, 60540\, United States
CATEGORIES:Children,Mommy and Me
ATTACH;FMTTYPE=image/jpeg:https://askauntv.com/wp-content/uploads/2023/11/breakfast-french-toast-morning-3483644.jpg
ORGANIZER;CN="Classes are held inside Liam Brex Design Showroom":MAILTO:askauntv@gmail.com
END:VEVENT
BEGIN:VEVENT
DTSTART;TZID=America/Chicago:20240504T093000
DTEND;TZID=America/Chicago:20240504T103000
DTSTAMP:20260423T130258
CREATED:20240328T194301Z
LAST-MODIFIED:20240328T194313Z
UID:4777-1714815000-1714818600@askauntv.com
SUMMARY:SOLD OUT - "Mommy and Me" Mexican Fiesta
DESCRIPTION:Mommy and Me – 2 years and up to 5 years \nDaddy\, Grandma\, Grandpa too! Make Pasta together. Measuring\, Cooking\, and Having Fun \n\nCheese Quesadillas\nHomemade Corn Tortillas\nSalso and snacks\n\nEach ticket is for one (1) workstation. You will make your own pasta together and enjoy them right away or take them home with you. \nEach station has \n\n1 set of equipment\n1 set of ingredients\n\nClick Here to RSVP for Gift Certificates and Pre-Paid Guests
URL:https://askauntv.com/event/sold-out-mommy-and-me-mexican-fiesta/
LOCATION:Ask Aunt V Cooking Class\, 222 South Main Street\, Naperville\, IL\, 60540\, United States
CATEGORIES:Children,Mommy and Me
ATTACH;FMTTYPE=image/jpeg:https://askauntv.com/wp-content/uploads/2024/03/tacos-mexico-food-8176774.jpg
ORGANIZER;CN="Classes are held inside Liam Brex Design Showroom":MAILTO:askauntv@gmail.com
END:VEVENT
BEGIN:VEVENT
DTSTART;TZID=America/Chicago:20240302T093000
DTEND;TZID=America/Chicago:20240302T103000
DTSTAMP:20260423T130258
CREATED:20231111T190342Z
LAST-MODIFIED:20250626T150958Z
UID:4552-1709371800-1709375400@askauntv.com
SUMMARY:SOLD OUT - "Mommy and Me" Pizza
DESCRIPTION:Mommy and Me – 2 years and up to 5 years \nDaddy\, Grandma\, Grandpa too! Make Pizza together. Measuring\, Cooking\, and Having Fun \n\nMake pizza rolls or mini-pizzas\nCheese Sticks\nDipping Sauce\n\nEach ticket is for one (1) workstation. You will make your own cookies together and enjoy them right away or take them home with you. \nEach station has \n\n1 set of equipment\n1 set of ingredients\n\nClick Here to RSVP for Gift Certificates and Pre-Paid Guests
URL:https://askauntv.com/event/mommy-and-me-pizza/
LOCATION:Ask Aunt V Cooking Class\, 222 South Main Street\, Naperville\, IL\, 60540\, United States
CATEGORIES:Children,Mommy and Me
ATTACH;FMTTYPE=image/jpeg:https://askauntv.com/wp-content/uploads/2023/11/Pizza-Rolls.jpg
ORGANIZER;CN="Classes are held inside Liam Brex Design Showroom":MAILTO:askauntv@gmail.com
END:VEVENT
BEGIN:VEVENT
DTSTART;TZID=America/Chicago:20230603T093000
DTEND;TZID=America/Chicago:20230603T103000
DTSTAMP:20260423T130258
CREATED:20220525T194200Z
LAST-MODIFIED:20230516T155600Z
UID:3153-1685784600-1685788200@askauntv.com
SUMMARY:Miniature Fairy Gardens
DESCRIPTION:“All you need is Faith\, Trust…..and a little Pixie Dust.” \nA Whimsical Visit to Fairyland. Fun for all Ages. Create your own fairy garden and unleash your imagination into the magical\, whimsical\, world of miniature gardens. All supplies are included for the basic layout of the garden. You will be instructed how to design the layout of the garden\, select accessories from the collection of fences\, birdhouse\, cottages\, and pathways\, then choose plants. You will leave with a completed Magical\, Enchanting Fairy Garden. \nOne ticket for each 4 Inch Fairy Garden. You can work together for one Fairy Garden (one ticket)\, or each have your own (a ticket for each fairy garden). \nClick HERE to learn more or contact Ask Aunt V
URL:https://askauntv.com/event/fairy-gardens-a-whimsical-evening-in-fairyland/
LOCATION:Ask Aunt V Garden Class
CATEGORIES:Children,Garden Group Class,Gardening,Junior Chef,Mommy and Me
ATTACH;FMTTYPE=image/jpeg:https://askauntv.com/wp-content/uploads/2021/07/fairy-garden.04.jpg
ORGANIZER;CN="Classes are held inside Liam Brex Design Showroom":MAILTO:askauntv@gmail.com
END:VEVENT
BEGIN:VEVENT
DTSTART;TZID=America/Chicago:20230419T080000
DTEND;TZID=America/Chicago:20240101T170000
DTSTAMP:20260423T130258
CREATED:20220525T192620Z
LAST-MODIFIED:20230419T180537Z
UID:3146-1681891200-1704128400@askauntv.com
SUMMARY:Birthday Party Cooking Class - Fairy Garden Parties Too!
DESCRIPTION:Ask Aunt V Classes are available for Birthday Parties customized to celebrate your child’s special day. \nCookie and Cupcake Decorating\, Crepes\, Pizza\, Pasta\, Desserts\, Healthy Snacks and so much more. \nFairy Garden classes are also available \nTwo-Hour Classes beginning at $50 per person. \nClick here to learn more and to schedule a party…
URL:https://askauntv.com/event/birthday-party-cooking-class-fairy-garden-parties-too/
LOCATION:Ask Aunt V Cooking Class\, 222 South Main Street\, Naperville\, IL\, 60540\, United States
CATEGORIES:Children,Gardening,Junior Chef,Mommy and Me,Teens,Tweens
ATTACH;FMTTYPE=image/png:https://askauntv.com/wp-content/uploads/2022/05/birthday-happy-birthday-balloons-2692889.png
ORGANIZER;CN="Classes are held inside Liam Brex Design Showroom":MAILTO:askauntv@gmail.com
END:VEVENT
BEGIN:VEVENT
DTSTART;TZID=America/Chicago:20230415T113000
DTEND;TZID=America/Chicago:20230415T123000
DTSTAMP:20260423T130258
CREATED:20230406T151132Z
LAST-MODIFIED:20230413T151158Z
UID:3938-1681558200-1681561800@askauntv.com
SUMMARY:SOLD OUT - Spring Vegetables Tasting Table
DESCRIPTION:A Tasting Table to learn delicious ways to enjoy spring vegetables. Demonstration and Tasting Table on how to select\, prepare\, and season spring vegetables with a opportunity to experiece how they taste. The Ask Aunt V “Spice Teams” that work for you to enjoy the spring harvest. \nGluten-free\, dairy-free*\, vegetrian\, vegan* \n*dairy-free and vegan options will be available for all selections \n 
URL:https://askauntv.com/event/spring-vegetables-tasting-table/
LOCATION:Ask Aunt V Cooking Class\, 222 South Main Street\, Naperville\, IL\, 60540\, United States
CATEGORIES:Group Classes,Junior Chef,Mommy and Me,Premium Classes,Teens,Tweens
ATTACH;FMTTYPE=image/jpeg:https://askauntv.com/wp-content/uploads/2023/04/20180526_070014-scaled.jpg
ORGANIZER;CN="Classes are held inside Liam Brex Design Showroom":MAILTO:askauntv@gmail.com
END:VEVENT
BEGIN:VEVENT
DTSTART;TZID=America/Chicago:20230128T110000
DTEND;TZID=America/Chicago:20230128T120000
DTSTAMP:20260423T130258
CREATED:20211221T164532Z
LAST-MODIFIED:20230117T234428Z
UID:2668-1674903600-1674907200@askauntv.com
SUMMARY:SOLD OUT - Inside Out Club - Cookie Class
DESCRIPTION:Content is protected.
URL:https://askauntv.com/event/inside-out-club-tag-youre-it-online-cookie-class-4/
LOCATION:Ask Aunt V Online
CATEGORIES:Children,Junior Chef,Mommy and Me,Teens,Tweens
ORGANIZER;CN="Ask Aunt V Online":MAILTO:askauntv@gmail.com
END:VEVENT
BEGIN:VEVENT
DTSTART;TZID=America/Chicago:20220922T160000
DTEND;TZID=America/Chicago:20220922T190000
DTSTAMP:20260423T130258
CREATED:20220901T183526Z
LAST-MODIFIED:20220901T184752Z
UID:3437-1663862400-1663873200@askauntv.com
SUMMARY:"A Mother's Guide Through Autism" Author Reception and Book Signing
DESCRIPTION:FREE – Join us for an Author Reception and Book Signing of a “Mother’s Guide Through Autism” Thursday\, September 22\, 2022 from 4:00 pm to 7:00 pm with an author’s discussion at 5:30 pm. It is in Downtown Naperville at 222 South Main Street inside the Liam Brex Design Showroom. The event is free to the public. \n  \nWritten by Brigitte  M. Volltrauer Shipman an author\, life coach\,  speaker\, and teacher\, She has thrived with her passion of coaching clients and finding her best self through her life’s tsunamis. She specializes in coaching mothers with children who have been diagnosed with Autism Spectrum Disorder (ASD). This is Brigitte’s second book; she is also the author of “Is It A God Thing?” She has thrived as an educator for more than twenty years. She holds a Masters in Educational Leadership. \nBrigitte’s greatest passion\, by far\, is being a mother. Her son\, Joseph\, co-wrote the section of “Through the Eyes of The Guide. She lives in Mountain Home\, Arkansas with her family. \nBrigitte hosts a weekly podcast to inspire\, support\, and build community for mothers raising children with autism. To order “A Mother’s Guide Through Autism” ($12.99 on Amazon) or listen to the podcast \nvisit https://www.mothersguidethroughautism.com/. \n 
URL:https://askauntv.com/event/a-mothers-guide-through-autism-author-reception-and-book-signing/
LOCATION:Liam Brex Design Showroom\, 222 South Main Street\, Naperville\, IL\, 60540\, United States
CATEGORIES:Children,Group Classes,Junior Chef,Mommy and Me,Teens,Tweens
ATTACH;FMTTYPE=image/jpeg:https://askauntv.com/wp-content/uploads/2022/09/Book2_Cover_Final_square.jpg
ORGANIZER;CN="Classes are held inside Liam Brex Design Showroom":MAILTO:askauntv@gmail.com
END:VEVENT
BEGIN:VEVENT
DTSTART;TZID=America/Chicago:20220814T130000
DTEND;TZID=America/Chicago:20220814T140000
DTSTAMP:20260423T130258
CREATED:20220803T224950Z
LAST-MODIFIED:20220803T224950Z
UID:3369-1660482000-1660485600@askauntv.com
SUMMARY:Summertime Harvest - Tomatoes
DESCRIPTION:FREE – Join Ask Aunt V at The Growing Place in Aurora for a cooking demonstration on the many ways to use tomatoes in salads\, sauces\, canning\, baked\, preserved…….the options never end. Join us for this FREE demonstration. \nClick HERE for more information  \n 
URL:https://askauntv.com/event/summertime-harvest-tomatoes-2/
LOCATION:The Growing Place – Aurora\, 2000 Montgomery Road\, Aurora\, IL\, 60504\, United States
CATEGORIES:Children,Garden Group Class,Gardening,Group Classes,Junior Chef,Mommy and Me,Teens,Tweens
ATTACH;FMTTYPE=image/jpeg:https://askauntv.com/wp-content/uploads/2022/08/tomatoes-vegetables-fresh-5566741.jpg
END:VEVENT
BEGIN:VEVENT
DTSTART;TZID=America/Chicago:20220813T110000
DTEND;TZID=America/Chicago:20220813T120000
DTSTAMP:20260423T130258
CREATED:20220803T223511Z
LAST-MODIFIED:20220803T223806Z
UID:3354-1660388400-1660392000@askauntv.com
SUMMARY:Summertime Harvest - Zucchini
DESCRIPTION:FREE – Join Ask Aunt V at The Growing Place in Naperville for a cooking demonstration on the many ways to use zucchini in salads\, spaghetti\, zoodles\, baked\, preserved…….the options never end. Join us for this FREE demonstration. \nClick HERE for more information  \n 
URL:https://askauntv.com/event/summertime-harvest-zucchini/
LOCATION:The Growing Place – Naperville\, 25w471 Plank Road\, Naperville\, IL\, 60563\, United States
CATEGORIES:Children,Garden Group Class,Gardening,Group Classes,Junior Chef,Mommy and Me,Teens,Tweens
ATTACH;FMTTYPE=image/jpeg:https://askauntv.com/wp-content/uploads/2022/08/zucchini-vegetables-food-537001.jpg
END:VEVENT
BEGIN:VEVENT
DTSTART;TZID=America/Chicago:20211229T110000
DTEND;TZID=America/Chicago:20211229T114500
DTSTAMP:20260423T130258
CREATED:20201223T212213Z
LAST-MODIFIED:20211221T164206Z
UID:1185-1640775600-1640778300@askauntv.com
SUMMARY:Inside Out Club - Tag! You're It! Online Cookie Class
DESCRIPTION:“Spreading Love & Cheer This Winter” Indoor Out Club \nDelicious Fun – A Child Friendly Cookie Class\n\n\nA cooking class that is step-by-step geared to a child’s ability. \nChildren can cook along with the online class or watch the process. \nAdult supervision and/or participation is encouraged. \nThe class lasts 30 to 45 minutes\nAt the end….you have cookies!!!\n\n  \n  \n  \n  \n  \n  \n  \n  \n  \n  \n  \n 
URL:https://askauntv.com/event/inside-out-club-tag-youre-it-online-cookie-class-2/
LOCATION:Ask Aunt V Online
CATEGORIES:Children,Junior Chef,Mommy and Me,Premium Classes,Teens,Tweens
ATTACH;FMTTYPE=image/jpeg:https://askauntv.com/wp-content/uploads/2021/01/dough-cookie-cut-out-2940165.jpg
ORGANIZER;CN="Ask Aunt V Online":MAILTO:askauntv@gmail.com
END:VEVENT
BEGIN:VEVENT
DTSTART;TZID=America/Chicago:20211218T110000
DTEND;TZID=America/Chicago:20211218T133000
DTSTAMP:20260423T130258
CREATED:20211028T193137Z
LAST-MODIFIED:20211113T151930Z
UID:2380-1639825200-1639834200@askauntv.com
SUMMARY:SOLD OUT - Classic Christmas Cookies
DESCRIPTION:One of the best smells in the world is homemade Christmas cookies fresh from the oven. \n\nShortbread\nKolachy\nPecan Pixies – A Chicago Classic\n\nClick here to RSVP for Gift Certificates and Pre-Paid Guests
URL:https://askauntv.com/event/christmas-cookies-2/
LOCATION:Ask Aunt V Cooking Class\, 222 South Main Street\, Naperville\, IL\, 60540\, United States
CATEGORIES:Children,Group Classes,Junior Chef,Mommy and Me,Teens,Tweens
ATTACH;FMTTYPE=image/jpeg:https://askauntv.com/wp-content/uploads/2021/10/Cookies-kolachy.jpg
ORGANIZER;CN="Classes are held inside Liam Brex Design Showroom":MAILTO:askauntv@gmail.com
END:VEVENT
BEGIN:VEVENT
DTSTART;TZID=America/Chicago:20211211T110000
DTEND;TZID=America/Chicago:20211211T133000
DTSTAMP:20260423T130258
CREATED:20211028T191534Z
LAST-MODIFIED:20211118T171605Z
UID:2374-1639220400-1639229400@askauntv.com
SUMMARY:SOLD OUT - Christmas Cookies
DESCRIPTION:One of the best smells in the world is homemade Christmas cookies fresh from the oven. \n\nSugar Cookies for decoration\nSnowball Cookies (Mexican Wedding Cookies)\nPecan Pixies – A Chicago Classic\n\nClick here to RSVP for Gift Certificates and Pre-Paid Guests
URL:https://askauntv.com/event/christmas-cookies/
LOCATION:Ask Aunt V Cooking Class\, 222 South Main Street\, Naperville\, IL\, 60540\, United States
CATEGORIES:Children,Group Classes,Junior Chef,Mommy and Me,Teens,Tweens
ATTACH;FMTTYPE=image/jpeg:https://askauntv.com/wp-content/uploads/2021/10/santa-claus-hot-chocolate-christmas-cookies-1906513.jpg
ORGANIZER;CN="Classes are held inside Liam Brex Design Showroom":MAILTO:askauntv@gmail.com
END:VEVENT
END:VCALENDAR